{"text_format":"1","workbook":"xlsx","n_sheets":8,"sheets":["Inputs and Totals","Hourly Data","Printed Values","Daily Graphs","Monthly Graph","Year Graph","Solar Profiles","Load Profiles"],"not_rendered":{"charts":59,"images":0,"macros":1,"external_links":0,"defined_names":0,"comments":0,"pivot_tables":0},"unopened":[],"bounds":{"document_bytes":16777216,"sheet_cells":100000,"rows_first":2000,"rows_last":500,"rows_between":2000,"halvings":0,"cell_chars":16384,"cell_head_chars":4096},"cells_cut":0,"cells_raw":0,"read":"whole","date_system":"1900"}

{"sheet":"Inputs and Totals","index":0,"n_rows":50,"n_cols":9,"rows_kept":50,"cut":false,"hidden":false,"merged":[]}
["SIMULATION PROTOTYPE V3",null,null,"Legend","Inputs"]
["Initial Battery Storage",1,null,null,null,null,null,"Nichols, IA avg kWh a day for each month"]
[null,null,null,null,null,null,null,1,6943.2258064516127]
["Month",1,{"$f":"IF(B4=1,\"January\", IF(B4=2, \"February\", IF(B4=3, \"March\", IF(B4=4, \"April\", IF(B4=5, \"May\", IF(B4=6, \"June\", IF(B4=7, \"July\", IF(B4=8, \"August\", IF(B4=9, \"September\", IF(B4=10, \"October\", IF(B4=11, \"November\",IF(B4=12,\"December\", \"Error, Enter Number Between 1 and 12\"))))))))))))","v":"January"},null,null,null,null,2,6636.3571428571431]
[null,null,null,null,null,null,null,3,4947.9677419354839]
["Average Daily Usage",6943,"kWh",null,null,null,null,4,6056.2333333333336]
[null,null,null,null,null,null,null,5,4225.8064516129034]
["Solar Panel Wattage",360,"W",null,null,null,null,6,5204.2333333333336]
["Number of Panels",5555,null,null,null,null,null,7,6509.2903225806449]
["Total Solar Generation Power",{"$f":"B9*B8*10^(-6)","v":1.9997999999999998},"MW",null,null,null,null,8,7382.0645161290322]
[null,null,null,null,null,null,null,9,6169.666666666667]
["Number of Batteries",200,null,null,null,null,null,10,5465.4838709677415]
["Single Battery Capacity",30,"kWh",null,null,null,null,11,6533.2]
["Capacity of Battery Storage",{"$f":"B13*B12","v":6000},"kWh",null,null,null,null,12,7308.3548387096771]
["Total Initial Battery Charge",{"$f":"B14*B2","v":6000},"kWh"]
[]
["Supplemental Generator Capacity",0,"kWh"]
[]
["Day Totals","Usage (kWh)","High, Med, Low Solar Day (1-3)","Total Solar Power Gen. (kWh)","Battery Power Consumed (kWh)","Supplemental Power Gen. (kWh)","Excess Battery (kWh)","Excess Demand (kWh)","Excess Demand (%)"]
["Day 1",7290.1496689319611,2,{"$f":"'Hourly Data'!Z35","v":9199.08},{"$f":"'Hourly Data'!Z68","v":4940.5720196421989},{"$f":"'Hourly Data'!Z101","v":0},{"$f":"'Hourly Data'!Y134","v":3409.270340964521},{"$f":"'Hourly Data'!Z167","v":0},{"$f":"H20/B20","v":0}]
["Day 2",7290.1496689319611,3,{"$f":"'Hourly Data'!Z36","v":5799.4200000000019},{"$f":"'Hourly Data'!Z69","v":5268.019918715142},{"$f":"'Hourly Data'!Z102","v":0},{"$f":"'Hourly Data'!Y135","v":1118.620672032559},{"$f":"'Hourly Data'!Z168","v":0},{"$f":"H21/B21","v":0}]
["Day 3",6804.1401324272156,2,{"$f":"'Hourly Data'!Z37","v":9199.08},{"$f":"'Hourly Data'!Z70","v":3536.6351773363053},{"$f":"'Hourly Data'!Z103","v":0},{"$f":"'Hourly Data'!Y136","v":3581.9854946962541},{"$f":"'Hourly Data'!Z169","v":674.60567348510244},9.9146352126121315E-2]
["Day 4",7498.440297961235,1,{"$f":"'Hourly Data'!Z38","v":11598.84},{"$f":"'Hourly Data'!Z71","v":4729.6806977445403},{"$f":"'Hourly Data'!Z104","v":0},{"$f":"'Hourly Data'!Y137","v":3335.2492666613421},{"$f":"'Hourly Data'!Z170","v":0},0]
["Day 5",7290.1496689319611,3,{"$f":"'Hourly Data'!Z39","v":5799.4200000000019},{"$f":"'Hourly Data'!Z72","v":5268.019918715142},{"$f":"'Hourly Data'!Z105","v":0},{"$f":"'Hourly Data'!Y138","v":1044.5995977293805},{"$f":"'Hourly Data'!Z171","v":0},0]
["Day 6",6318.1301820874214,1,{"$f":"'Hourly Data'!Z40","v":11598.84},{"$f":"'Hourly Data'!Z73","v":2939.1209863887098},{"$f":"'Hourly Data'!Z106","v":0},{"$f":"'Hourly Data'!Y139","v":4105.478611340669},{"$f":"'Hourly Data'!Z172","v":495.31507550776587},7.8395832506274937E-2]
["Day 7",7151.2898013591766,2,{"$f":"'Hourly Data'!Z41","v":9199.08},{"$f":"'Hourly Data'!Z74","v":4846.465971407687},{"$f":"'Hourly Data'!Z107","v":0},{"$f":"'Hourly Data'!Y140","v":3458.6175277450166},{"$f":"'Hourly Data'!Z173","v":0},0]
["Day 8",7220.7197351455688,3,{"$f":"'Hourly Data'!Z42","v":5799.4200000000019},{"$f":"'Hourly Data'!Z75","v":5217.8483460106027},{"$f":"'Hourly Data'!Z108","v":0},{"$f":"'Hourly Data'!Y141","v":1237.3977925994461},{"$f":"'Hourly Data'!Z174","v":0},0]
["Day 9",6248.6998344659805,1,{"$f":"'Hourly Data'!Z43","v":11598.84},{"$f":"'Hourly Data'!Z76","v":3111.100161263937},{"$f":"'Hourly Data'!Z109","v":0},{"$f":"'Hourly Data'!Y142","v":4126.2976313355093},{"$f":"'Hourly Data'!Z175","v":283.39706377637106},4.5352964822095734E-2]
["Day 10",6873.5700662136078,2,{"$f":"'Hourly Data'!Z44","v":9199.08},{"$f":"'Hourly Data'!Z77","v":4658.2538749386631},{"$f":"'Hourly Data'!Z110","v":0},{"$f":"'Hourly Data'!Y143","v":3557.311901306005},{"$f":"'Hourly Data'!Z176","v":0},0]
["Day 11",6804.1401324272156,2,{"$f":"'Hourly Data'!Z45","v":9199.08},{"$f":"'Hourly Data'!Z78","v":4611.2008508214076},{"$f":"'Hourly Data'!Z111","v":0},{"$f":"'Hourly Data'!Y144","v":3581.9854946962541},{"$f":"'Hourly Data'!Z177","v":0},0]
["Day 12",6595.8499172329903,2,{"$f":"'Hourly Data'!Z46","v":9199.08},{"$f":"'Hourly Data'!Z79","v":4470.0414980114938},{"$f":"'Hourly Data'!Z112","v":0},{"$f":"'Hourly Data'!Y145","v":3656.0064219332144},{"$f":"'Hourly Data'!Z178","v":0},0]
["Day 13",7637.3001655340195,1,{"$f":"'Hourly Data'!Z47","v":11598.84},{"$f":"'Hourly Data'!Z80","v":4817.2672903228558},{"$f":"'Hourly Data'!Z113","v":0},{"$f":"'Hourly Data'!Y146","v":3285.9020798808465},{"$f":"'Hourly Data'!Z179","v":0},0]
["Day 14",7359.5796027183533,2,{"$f":"'Hourly Data'!Z48","v":9199.08},{"$f":"'Hourly Data'!Z81","v":4987.6250437594545},{"$f":"'Hourly Data'!Z114","v":0},{"$f":"'Hourly Data'!Y147","v":3384.5967475742718},{"$f":"'Hourly Data'!Z180","v":0},{"$f":"H33/B33","v":0}]
["Day 15",7220.7197351455688,1,{"$f":"'Hourly Data'!Z49","v":11598.84},{"$f":"'Hourly Data'!Z82","v":4554.5069905306354},{"$f":"'Hourly Data'!Z115","v":0},{"$f":"'Hourly Data'!Y148","v":3433.9439343547683},{"$f":"'Hourly Data'!Z181","v":0},0]
["Day 16",6804.1401324272156,1,{"$f":"'Hourly Data'!Z50","v":11598.84},{"$f":"'Hourly Data'!Z83","v":3913.9864915726935},{"$f":"'Hourly Data'!Z116","v":0},{"$f":"'Hourly Data'!Y149","v":3959.7462159192464},{"$f":"'Hourly Data'!Z182","v":0},0]
["Day 17",7290.1496689319611,3,{"$f":"'Hourly Data'!Z51","v":5799.4200000000019},{"$f":"'Hourly Data'!Z84","v":5268.019918715142},{"$f":"'Hourly Data'!Z117","v":0},{"$f":"'Hourly Data'!Y150","v":1669.0965469872845},{"$f":"'Hourly Data'!Z183","v":0},0]
["Day 18",6595.8499172329903,1,{"$f":"'Hourly Data'!Z52","v":11598.84},{"$f":"'Hourly Data'!Z85","v":3646.8935192643371},{"$f":"'Hourly Data'!Z118","v":0},{"$f":"'Hourly Data'!Y151","v":4022.2030277229464},{"$f":"'Hourly Data'!Z184","v":0},0]
["Day 19",6734.7101986408234,2,{"$f":"'Hourly Data'!Z53","v":9199.08},{"$f":"'Hourly Data'!Z86","v":4564.1478267041521},{"$f":"'Hourly Data'!Z119","v":0},{"$f":"'Hourly Data'!Y152","v":3606.6590880865015},{"$f":"'Hourly Data'!Z185","v":0},0]
["Day 20",6873.5700662136078,2,{"$f":"'Hourly Data'!Z54","v":9199.08},{"$f":"'Hourly Data'!Z87","v":4658.2538749386631},{"$f":"'Hourly Data'!Z120","v":0},{"$f":"'Hourly Data'!Y153","v":3557.311901306005},{"$f":"'Hourly Data'!Z186","v":0},0]
["Day 21",7567.8702317476273,1,{"$f":"'Hourly Data'!Z55","v":11598.84},{"$f":"'Hourly Data'!Z88","v":4773.4739940336976},{"$f":"'Hourly Data'!Z121","v":0},{"$f":"'Hourly Data'!Y154","v":3310.5756732710947},{"$f":"'Hourly Data'!Z187","v":0},0]
["Day 22",6387.5601158738136,2,{"$f":"'Hourly Data'!Z56","v":9199.08},{"$f":"'Hourly Data'!Z89","v":4328.8824256597263},{"$f":"'Hourly Data'!Z122","v":0},{"$f":"'Hourly Data'!Y155","v":3730.0272021039568},{"$f":"'Hourly Data'!Z188","v":0},0]
["Day 23",7151.2898013591766,3,{"$f":"'Hourly Data'!Z57","v":5799.4200000000019},{"$f":"'Hourly Data'!Z90","v":5167.6767733060642},{"$f":"'Hourly Data'!Z123","v":0},{"$f":"'Hourly Data'!Y156","v":1578.2374007447804},{"$f":"'Hourly Data'!Z189","v":0},0]
["Day 24",6734.7101986408234,1,{"$f":"'Hourly Data'!Z58","v":11598.84},{"$f":"'Hourly Data'!Z91","v":3597.6722889211032},{"$f":"'Hourly Data'!Z124","v":0},{"$f":"'Hourly Data'!Y157","v":3980.5651118236774},{"$f":"'Hourly Data'!Z190","v":76.395603848248356},1.1343562171935218E-2]
["Day 25",6387.5601158738136,2,{"$f":"'Hourly Data'!Z59","v":9199.08},{"$f":"'Hourly Data'!Z92","v":4328.8824256597263},{"$f":"'Hourly Data'!Z125","v":0},{"$f":"'Hourly Data'!Y158","v":3730.0272021039568},{"$f":"'Hourly Data'!Z191","v":0},0]
["Day 26",6456.9900496602058,3,{"$f":"'Hourly Data'!Z60","v":5799.4200000000019},{"$f":"'Hourly Data'!Z93","v":4375.9354497769837},{"$f":"'Hourly Data'!Z126","v":0},{"$f":"'Hourly Data'!Y159","v":2572.5071524437521},{"$f":"'Hourly Data'!Z192","v":0},0]
["Day 27",6318.1301820874214,3,{"$f":"'Hourly Data'!Z61","v":5799.4200000000019},{"$f":"'Hourly Data'!Z94","v":4281.8294015424717},{"$f":"'Hourly Data'!Z127","v":0},{"$f":"'Hourly Data'!Y160","v":1553.8469703563308},{"$f":"'Hourly Data'!Z193","v":0},0]
["Day 28",6873.5700662136078,2,{"$f":"'Hourly Data'!Z62","v":9199.08},{"$f":"'Hourly Data'!Z95","v":3996.5350690503255},{"$f":"'Hourly Data'!Z128","v":0},{"$f":"'Hourly Data'!Y161","v":3557.311901306005},{"$f":"'Hourly Data'!Z194","v":261.75880588833866},3.808192880363432E-2]
["Day 29",7637.3001655340195,1,{"$f":"IF($B$4=2,0,'Hourly Data'!Z63)","v":11598.84},{"$f":"IF($B$4=2,0,'Hourly Data'!Z96)","v":4817.2672903228558},{"$f":"IF($B$4=2,0,'Hourly Data'!Z129)","v":0},{"$f":"IF($B$4=2,0,'Hourly Data'!Y162)","v":3285.9020798808465},{"$f":"IF($B$4=2,0,'Hourly Data'!Z195)","v":0},{"$f":"IF($B$4=2,0,H48/B48)","v":0}]
["Day 30",7012.4299337863922,1,{"$f":"IF($B$4=2,0,'Hourly Data'!Z64)","v":11598.84},{"$f":"IF($B$4=2,0,'Hourly Data'!Z97)","v":4033.8022879827176},{"$f":"IF($B$4=2,0,'Hourly Data'!Z130)","v":0},{"$f":"IF($B$4=2,0,'Hourly Data'!Y163)","v":3897.289528205954},{"$f":"IF($B$4=2,0,'Hourly Data'!Z196)","v":0},{"$f":"IF($B$4=2,0,H49/B49)","v":0}]
["Day 31",6943,2,{"$f":"IF(OR($B$4=11,$B$4=9, $B$4=6, $B$4=4, $B$4=2),0,'Hourly Data'!Z65)","v":9199.08},{"$f":"IF(OR($B$4=11,$B$4=9, $B$4=6, $B$4=4, $B$4=2),0,'Hourly Data'!Z98)","v":4705.3068990559195},{"$f":"IF(OR($B$4=11,$B$4=9, $B$4=6, $B$4=4, $B$4=2),0,'Hourly Data'!Z131)","v":0},{"$f":"IF(OR($B$4=11,$B$4=9, $B$4=6, $B$4=4, $B$4=2),0,'Hourly Data'!Y164)","v":3532.6383079157586},{"$f":"IF(OR($B$4=11,$B$4=9, $B$4=6, $B$4=4, $B$4=2),0,'Hourly Data'!Z197)","v":0},{"$f":"IF(OR($B$4=11,$B$4=9, $B$4=6, $B$4=4, $B$4=2),0,H50/B50)","v":0}]

{"sheet":"Hourly Data","index":1,"n_rows":197,"n_cols":29,"rows_kept":197,"cut":false,"hidden":false,"merged":[]}
["Load (kWh)","Hour 0","Hour 1","Hour 2","Hour 3","Hour 4","Hour 5","Hour 6","Hour 7","Hour 8","Hour 9","Hour 10","Hour 11","Hour 12","Hour 13","Hour 14","Hour 15","Hour 16","Hour 17","Hour 18","Hour 19","Hour 20","Hour 21","Hour 22","Hour 23","TOTALS"]
["Day 1",{"$f":"'Inputs and Totals'!B20*'Load Profiles'!$C$16","v":282.1822638736918},{"$f":"'Inputs and Totals'!$B$20*'Load Profiles'!D16","v":196.94521981428394},{"$f":"'Inputs and Totals'!$B$20*'Load Profiles'!E16","v":194.56281796169179},{"$f":"'Inputs and Totals'!$B$20*'Load Profiles'!F16","v":196.15108586341992},{"$f":"'Inputs and Totals'!$B$20*'Load Profiles'!G16","v":201.18060088555885},{"$f":"'Inputs and Totals'!$B$20*'Load Profiles'!H16","v":232.15182496925672},{"$f":"'Inputs and Totals'!$B$20*'Load Profiles'!I16","v":315.00646717607242},{"$f":"'Inputs and Totals'!$B$20*'Load Profiles'!J16","v":389.39034724033826},{"$f":"'Inputs and Totals'!$B$20*'Load Profiles'!K16","v":342.27173282240472},{"$f":"'Inputs and Totals'!$B$20*'Load Profiles'!L16","v":327.44789907294256},{"$f":"'Inputs and Totals'!$B$20*'Load Profiles'!M16","v":305.47685976570381},{"$f":"'Inputs and Totals'!$B$20*'Load Profiles'!N16","v":301.50619001138364},{"$f":"'Inputs and Totals'!$B$20*'Load Profiles'!O16","v":285.358799677148},{"$f":"'Inputs and Totals'!$B$20*'Load Profiles'!P16","v":269.2114093429123},{"$f":"'Inputs and Totals'!$B$20*'Load Profiles'!Q16","v":259.1523792986344},{"$f":"'Inputs and Totals'!$B$20*'Load Profiles'!R16","v":276.88803753459814},{"$f":"'Inputs and Totals'!$B$20*'Load Profiles'!S16","v":324.53607458644103},{"$f":"'Inputs and Totals'!$B$20*'Load Profiles'!T16","v":404.74360362370987},{"$f":"'Inputs and Totals'!$B$20*'Load Profiles'!U16","v":424.06752976140172},{"$f":"'Inputs and Totals'!$B$20*'Load Profiles'!V16","v":419.03801473926274},{"$f":"'Inputs and Totals'!$B$20*'Load Profiles'!W16","v":412.42023181539565},{"$f":"'Inputs and Totals'!$B$20*'Load Profiles'!X16","v":387.27265670470086},{"$f":"'Inputs and Totals'!$B$20*'Load Profiles'!Y16","v":332.74212541203616},{"$f":"'Inputs and Totals'!$B$20*'Load Profiles'!Z16","v":210.44549697897276},{"$f":"SUM(B2:Y2)","v":7290.149668931962}]
["Day 2",{"$f":"'Inputs and Totals'!$B$21*'Load Profiles'!C16","v":282.1822638736918},{"$f":"'Inputs and Totals'!$B$21*'Load Profiles'!D16","v":196.94521981428394},{"$f":"'Inputs and Totals'!$B$21*'Load Profiles'!E16","v":194.56281796169179},{"$f":"'Inputs and Totals'!$B$21*'Load Profiles'!F16","v":196.15108586341992},{"$f":"'Inputs and Totals'!$B$21*'Load Profiles'!G16","v":201.18060088555885},{"$f":"'Inputs and Totals'!$B$21*'Load Profiles'!H16","v":232.15182496925672},{"$f":"'Inputs and Totals'!$B$21*'Load Profiles'!I16","v":315.00646717607242},{"$f":"'Inputs and Totals'!$B$21*'Load Profiles'!J16","v":389.39034724033826},{"$f":"'Inputs and Totals'!$B$21*'Load Profiles'!K16","v":342.27173282240472},{"$f":"'Inputs and Totals'!$B$21*'Load Profiles'!L16","v":327.44789907294256},{"$f":"'Inputs and Totals'!$B$21*'Load Profiles'!M16","v":305.47685976570381},{"$f":"'Inputs and Totals'!$B$21*'Load Profiles'!N16","v":301.50619001138364},{"$f":"'Inputs and Totals'!$B$21*'Load Profiles'!O16","v":285.358799677148},{"$f":"'Inputs and Totals'!$B$21*'Load Profiles'!P16","v":269.2114093429123},{"$f":"'Inputs and Totals'!$B$21*'Load Profiles'!Q16","v":259.1523792986344},{"$f":"'Inputs and Totals'!$B$21*'Load Profiles'!R16","v":276.88803753459814},{"$f":"'Inputs and Totals'!$B$21*'Load Profiles'!S16","v":324.53607458644103},{"$f":"'Inputs and Totals'!$B$21*'Load Profiles'!T16","v":404.74360362370987},{"$f":"'Inputs and Totals'!$B$21*'Load Profiles'!U16","v":424.06752976140172},{"$f":"'Inputs and Totals'!$B$21*'Load Profiles'!V16","v":419.03801473926274},{"$f":"'Inputs and Totals'!$B$21*'Load Profiles'!W16","v":412.42023181539565},{"$f":"'Inputs and Totals'!$B$21*'Load Profiles'!X16","v":387.27265670470086},{"$f":"'Inputs and Totals'!$B$21*'Load Profiles'!Y16","v":332.74212541203616},{"$f":"'Inputs and Totals'!$B$21*'Load Profiles'!Z16","v":210.44549697897276},{"$f":"SUM(B3:Y3)","v":7290.149668931962}]
["Day 3",{"$f":"'Inputs and Totals'!$B$22*'Load Profiles'!C16","v":263.37013003512754},{"$f":"'Inputs and Totals'!$B$22*'Load Profiles'!D16","v":183.81555041851303},{"$f":"'Inputs and Totals'!$B$22*'Load Profiles'!E16","v":181.59197521183748},{"$f":"'Inputs and Totals'!$B$22*'Load Profiles'!F16","v":183.07435868295454},{"$f":"'Inputs and Totals'!$B$22*'Load Profiles'!G16","v":187.76857300815848},{"$f":"'Inputs and Totals'!$B$22*'Load Profiles'!H16","v":216.67505069494075},{"$f":"'Inputs and Totals'!$B$22*'Load Profiles'!I16","v":294.00605510487969},{"$f":"'Inputs and Totals'!$B$22*'Load Profiles'!J16","v":363.43101433552778},{"$f":"'Inputs and Totals'!$B$22*'Load Profiles'!K16","v":319.45363802572223},{"$f":"'Inputs and Totals'!$B$22*'Load Profiles'!L16","v":305.61805896196324},{"$f":"'Inputs and Totals'!$B$22*'Load Profiles'!M16","v":285.11175427817744},{"$f":"'Inputs and Totals'!$B$22*'Load Profiles'!N16","v":281.40579560038492},{"$f":"'Inputs and Totals'!$B$22*'Load Profiles'!O16","v":266.33489697736167},{"$f":"'Inputs and Totals'!$B$22*'Load Profiles'!P16","v":251.26399835433836},{"$f":"'Inputs and Totals'!$B$22*'Load Profiles'!Q16","v":241.87556970393047},{"$f":"'Inputs and Totals'!$B$22*'Load Profiles'!R16","v":258.42885179807075},{"$f":"'Inputs and Totals'!$B$22*'Load Profiles'!S16","v":302.900355931582},{"$f":"'Inputs and Totals'!$B$22*'Load Profiles'!T16","v":377.76072122299252},{"$f":"'Inputs and Totals'!$B$22*'Load Profiles'!U16","v":395.79638678824983},{"$f":"'Inputs and Totals'!$B$22*'Load Profiles'!V16","v":391.10217246304586},{"$f":"'Inputs and Totals'!$B$22*'Load Profiles'!W16","v":384.92557466672486},{"$f":"'Inputs and Totals'!$B$22*'Load Profiles'!X16","v":361.45450304070511},{"$f":"'Inputs and Totals'!$B$22*'Load Profiles'!Y16","v":310.55933719902004},{"$f":"'Inputs and Totals'!$B$22*'Load Profiles'!Z16","v":196.41580992300788},6804.1401324272165]
["Day 4",{"$f":"'Inputs and Totals'!$B$23*'Load Profiles'!C16","v":290.24463898426569},{"$f":"'Inputs and Totals'!$B$23*'Load Profiles'!D16","v":202.5722433436151},{"$f":"'Inputs and Totals'!$B$23*'Load Profiles'!E16","v":200.12177265800685},{"$f":"'Inputs and Totals'!$B$23*'Load Profiles'!F16","v":201.7554197817457},{"$f":"'Inputs and Totals'!$B$23*'Load Profiles'!G16","v":206.92863567358529},{"$f":"'Inputs and Totals'!$B$23*'Load Profiles'!H16","v":238.78475458649251},{"$f":"'Inputs and Totals'!$B$23*'Load Profiles'!I16","v":324.00667954153488},{"$f":"'Inputs and Totals'!$B$23*'Load Profiles'!J16","v":400.51581983663687},{"$f":"'Inputs and Totals'!$B$23*'Load Profiles'!K16","v":352.05095516571811},{"$f":"'Inputs and Totals'!$B$23*'Load Profiles'!L16","v":336.80358201082242},{"$f":"'Inputs and Totals'!$B$23*'Load Profiles'!M16","v":314.20479679910187},{"$f":"'Inputs and Totals'!$B$23*'Load Profiles'!N16","v":310.12067898975482},{"$f":"'Inputs and Totals'!$B$23*'Load Profiles'!O16","v":293.5119332317434},{"$f":"'Inputs and Totals'!$B$23*'Load Profiles'!P16","v":276.90318747373186},{"$f":"'Inputs and Totals'!$B$23*'Load Profiles'!Q16","v":266.55675569005268},{"$f":"'Inputs and Totals'!$B$23*'Load Profiles'!R16","v":284.79914857180296},{"$f":"'Inputs and Totals'!$B$23*'Load Profiles'!S16","v":333.80856228396789},{"$f":"'Inputs and Totals'!$B$23*'Load Profiles'!T16","v":416.30774203277883},{"$f":"'Inputs and Totals'!$B$23*'Load Profiles'!U16","v":436.18378203826796},{"$f":"'Inputs and Totals'!$B$23*'Load Profiles'!V16","v":431.01056614642835},{"$f":"'Inputs and Totals'!$B$23*'Load Profiles'!W16","v":424.20370313084987},{"$f":"'Inputs and Totals'!$B$23*'Load Profiles'!X16","v":398.33762367165178},{"$f":"'Inputs and Totals'!$B$23*'Load Profiles'!Y16","v":342.24907242328516},{"$f":"'Inputs and Totals'!$B$23*'Load Profiles'!Z16","v":216.45824389539516},7498.4402979612369]
["Day 5",{"$f":"'Inputs and Totals'!$B$24*'Load Profiles'!C16","v":282.1822638736918},{"$f":"'Inputs and Totals'!$B$24*'Load Profiles'!D16","v":196.94521981428394},{"$f":"'Inputs and Totals'!$B$24*'Load Profiles'!E16","v":194.56281796169179},{"$f":"'Inputs and Totals'!$B$24*'Load Profiles'!F16","v":196.15108586341992},{"$f":"'Inputs and Totals'!$B$24*'Load Profiles'!G16","v":201.18060088555885},{"$f":"'Inputs and Totals'!$B$24*'Load Profiles'!H16","v":232.15182496925672},{"$f":"'Inputs and Totals'!$B$24*'Load Profiles'!I16","v":315.00646717607242},{"$f":"'Inputs and Totals'!$B$24*'Load Profiles'!J16","v":389.39034724033826},{"$f":"'Inputs and Totals'!$B$24*'Load Profiles'!K16","v":342.27173282240472},{"$f":"'Inputs and Totals'!$B$24*'Load Profiles'!L16","v":327.44789907294256},{"$f":"'Inputs and Totals'!$B$24*'Load Profiles'!M16","v":305.47685976570381},{"$f":"'Inputs and Totals'!$B$24*'Load Profiles'!N16","v":301.50619001138364},{"$f":"'Inputs and Totals'!$B$24*'Load Profiles'!O16","v":285.358799677148},{"$f":"'Inputs and Totals'!$B$24*'Load Profiles'!P16","v":269.2114093429123},{"$f":"'Inputs and Totals'!$B$24*'Load Profiles'!Q16","v":259.1523792986344},{"$f":"'Inputs and Totals'!$B$24*'Load Profiles'!R16","v":276.88803753459814},{"$f":"'Inputs and Totals'!$B$24*'Load Profiles'!S16","v":324.53607458644103},{"$f":"'Inputs and Totals'!$B$24*'Load Profiles'!T16","v":404.74360362370987},{"$f":"'Inputs and Totals'!$B$24*'Load Profiles'!U16","v":424.06752976140172},{"$f":"'Inputs and Totals'!$B$24*'Load Profiles'!V16","v":419.03801473926274},{"$f":"'Inputs and Totals'!$B$24*'Load Profiles'!W16","v":412.42023181539565},{"$f":"'Inputs and Totals'!$B$24*'Load Profiles'!X16","v":387.27265670470086},{"$f":"'Inputs and Totals'!$B$24*'Load Profiles'!Y16","v":332.74212541203616},{"$f":"'Inputs and Totals'!$B$24*'Load Profiles'!Z16","v":210.44549697897276},7290.149668931962]
["Day 6",{"$f":"'Inputs and Totals'!B25*'Load Profiles'!$C$16","v":244.55798017811156},{"$f":"'Inputs and Totals'!B25*'Load Profiles'!$D$16","v":170.68586984288461},{"$f":"'Inputs and Totals'!B25*'Load Profiles'!$E$16","v":168.62112141736586},{"$f":"'Inputs and Totals'!B25*'Load Profiles'!$F$16","v":169.9976203677117},{"$f":"'Inputs and Totals'!B25*'Load Profiles'!$G$16","v":174.35653371047351},{"$f":"'Inputs and Totals'!B25*'Load Profiles'!$H$16","v":201.19826324221745},{"$f":"'Inputs and Totals'!B25*'Load Profiles'!$I$16","v":273.00562515192564},{"$f":"'Inputs and Totals'!B25*'Load Profiles'!$J$16","v":337.47165932645601},{"$f":"'Inputs and Totals'!B25*'Load Profiles'!$K$16","v":296.63552379952927},{"$f":"'Inputs and Totals'!B25*'Load Profiles'!$L$16","v":283.78820026296813},{"$f":"'Inputs and Totals'!B25*'Load Profiles'!$M$16","v":264.74663144985055},{"$f":"'Inputs and Totals'!B25*'Load Profiles'!$N$16","v":261.30538407398598},{"$f":"'Inputs and Totals'!B25*'Load Profiles'!$O$16","v":247.31097807880326},{"$f":"'Inputs and Totals'!B25*'Load Profiles'!$P$16","v":233.31657208362046},{"$f":"'Inputs and Totals'!B25*'Load Profiles'!$Q$16","v":224.59874539809684},{"$f":"'Inputs and Totals'!B25*'Load Profiles'!$R$16","v":239.96965034362543},{"$f":"'Inputs and Totals'!B25*'Load Profiles'!$S$16","v":281.26461885400073},{"$f":"'Inputs and Totals'!B25*'Load Profiles'!$T$16","v":350.77781584646578},{"$f":"'Inputs and Totals'!B25*'Load Profiles'!$U$16","v":367.52521974234025},{"$f":"'Inputs and Totals'!B25*'Load Profiles'!$V$16","v":363.16630639957839},{"$f":"'Inputs and Totals'!B25*'Load Profiles'!$W$16","v":357.4308941064707},{"$f":"'Inputs and Totals'!B25*'Load Profiles'!$X$16","v":335.6363273926616},{"$f":"'Inputs and Totals'!B25*'Load Profiles'!$Y$16","v":288.37653009745424},{"$f":"'Inputs and Totals'!B25*'Load Profiles'!$Z$16","v":182.38611092082428},6318.1301820874241]
["Day 7",{"$f":"'Inputs and Totals'!B26*'Load Profiles'!$C$16","v":276.80736849124486},{"$f":"'Inputs and Totals'!B26*'Load Profiles'!$D$16","v":193.19388570120654},{"$f":"'Inputs and Totals'!B26*'Load Profiles'!$E$16","v":190.85686289030485},{"$f":"'Inputs and Totals'!B26*'Load Profiles'!$F$16","v":192.41487809757265},{"$f":"'Inputs and Totals'!B26*'Load Profiles'!$G$16","v":197.34859292058732},{"$f":"'Inputs and Totals'!B26*'Load Profiles'!$H$16","v":227.7298894623093},{"$f":"'Inputs and Totals'!B26*'Load Profiles'!$I$16","v":309.00634944144593},{"$f":"'Inputs and Totals'!B26*'Load Profiles'!$J$16","v":381.973394981821},{"$f":"'Inputs and Totals'!B26*'Load Profiles'!$K$16","v":335.75227716620975},{"$f":"'Inputs and Totals'!B26*'Load Profiles'!$L$16","v":321.21080189837704},{"$f":"'Inputs and Totals'!B26*'Load Profiles'!$M$16","v":299.65825819783913},{"$f":"'Inputs and Totals'!B26*'Load Profiles'!$N$16","v":295.7632201796697},{"$f":"'Inputs and Totals'!B26*'Load Profiles'!$O$16","v":279.92339890578046},{"$f":"'Inputs and Totals'!B26*'Load Profiles'!$P$16","v":264.08357763189116},{"$f":"'Inputs and Totals'!B26*'Load Profiles'!$Q$16","v":254.21614798586185},{"$f":"'Inputs and Totals'!B26*'Load Profiles'!$R$16","v":271.61398446701889},{"$f":"'Inputs and Totals'!B26*'Load Profiles'!$S$16","v":318.35444068505274},{"$f":"'Inputs and Totals'!B26*'Load Profiles'!$T$16","v":397.0342086520763},{"$f":"'Inputs and Totals'!B26*'Load Profiles'!$U$16","v":415.9900603405012},{"$f":"'Inputs and Totals'!B26*'Load Profiles'!$V$16","v":411.05634551748648},{"$f":"'Inputs and Totals'!B26*'Load Profiles'!$W$16","v":404.56461548720404},{"$f":"'Inputs and Totals'!B26*'Load Profiles'!$X$16","v":379.89604137213064},{"$f":"'Inputs and Totals'!B26*'Load Profiles'!$Y$16","v":326.40418592260301},{"$f":"'Inputs and Totals'!B26*'Load Profiles'!$Z$16","v":206.4370149629828},7151.2898013591766]
["Day 8",{"$f":"'Inputs and Totals'!B27*'Load Profiles'!$C$16","v":279.4948161824683},{"$f":"'Inputs and Totals'!B27*'Load Profiles'!$D$16","v":195.06955275774524},{"$f":"'Inputs and Totals'!B27*'Load Profiles'!$E$16","v":192.70984042599832},{"$f":"'Inputs and Totals'!B27*'Load Profiles'!$F$16","v":194.28298198049629},{"$f":"'Inputs and Totals'!B27*'Load Profiles'!$G$16","v":199.26459690307308},{"$f":"'Inputs and Totals'!B27*'Load Profiles'!$H$16","v":229.94085721578301},{"$f":"'Inputs and Totals'!B27*'Load Profiles'!$I$16","v":312.00640830875921},{"$f":"'Inputs and Totals'!B27*'Load Profiles'!$J$16","v":385.68187111107966},{"$f":"'Inputs and Totals'!B27*'Load Profiles'!$K$16","v":339.01200499430723},{"$f":"'Inputs and Totals'!B27*'Load Profiles'!$L$16","v":324.3293504856598},{"$f":"'Inputs and Totals'!B27*'Load Profiles'!$M$16","v":302.56755898177147},{"$f":"'Inputs and Totals'!B27*'Load Profiles'!$N$16","v":298.63470509552667},{"$f":"'Inputs and Totals'!B27*'Load Profiles'!$O$16","v":282.64109929146423},{"$f":"'Inputs and Totals'!B27*'Load Profiles'!$P$16","v":266.64749348740173},{"$f":"'Inputs and Totals'!B27*'Load Profiles'!$Q$16","v":256.68426364224814},{"$f":"'Inputs and Totals'!B27*'Load Profiles'!$R$16","v":274.25101100080855},{"$f":"'Inputs and Totals'!B27*'Load Profiles'!$S$16","v":321.44525763574688},{"$f":"'Inputs and Totals'!B27*'Load Profiles'!$T$16","v":400.88890613789312},{"$f":"'Inputs and Totals'!B27*'Load Profiles'!$U$16","v":420.02879505095143},{"$f":"'Inputs and Totals'!B27*'Load Profiles'!$V$16","v":415.04718012837458},{"$f":"'Inputs and Totals'!B27*'Load Profiles'!$W$16","v":408.49242365129982},{"$f":"'Inputs and Totals'!B27*'Load Profiles'!$X$16","v":383.58434903841578},{"$f":"'Inputs and Totals'!B27*'Load Profiles'!$Y$16","v":329.57315566731961},{"$f":"'Inputs and Totals'!B27*'Load Profiles'!$Z$16","v":208.44125597097778},7220.7197351455707]
["Day 9",{"$f":"'Inputs and Totals'!B28*'Load Profiles'!$C$16","v":241.87051646843631},{"$f":"'Inputs and Totals'!B28*'Load Profiles'!$D$16","v":168.81019160648839},{"$f":"'Inputs and Totals'!B28*'Load Profiles'!$E$16","v":166.76813283705508},{"$f":"'Inputs and Totals'!B28*'Load Profiles'!$F$16","v":168.12950535001062},{"$f":"'Inputs and Totals'!B28*'Load Profiles'!$G$16","v":172.44051830770317},{"$f":"'Inputs and Totals'!B28*'Load Profiles'!$H$16","v":198.98728231033644},{"$f":"'Inputs and Totals'!B28*'Load Profiles'!$I$16","v":270.00554840285105},{"$f":"'Inputs and Totals'!B28*'Load Profiles'!$J$16","v":333.76316109293606},{"$f":"'Inputs and Totals'!B28*'Load Profiles'!$K$16","v":293.37577654192131},{"$f":"'Inputs and Totals'!B28*'Load Profiles'!$L$16","v":280.66963308766958},{"$f":"'Inputs and Totals'!B28*'Load Profiles'!$M$16","v":261.83731332511769},{"$f":"'Inputs and Totals'!B28*'Load Profiles'!$N$16","v":258.4338820427289},{"$f":"'Inputs and Totals'!B28*'Load Profiles'!$O$16","v":244.59326149434744},{"$f":"'Inputs and Totals'!B28*'Load Profiles'!$P$16","v":230.75264094596596},{"$f":"'Inputs and Totals'!B28*'Load Profiles'!$Q$16","v":222.13061503058083},{"$f":"'Inputs and Totals'!B28*'Load Profiles'!$R$16","v":237.33260809191785},{"$f":"'Inputs and Totals'!B28*'Load Profiles'!$S$16","v":278.17378348058435},{"$f":"'Inputs and Totals'!B28*'Load Profiles'!$T$16","v":346.92309538483971},{"$f":"'Inputs and Totals'!B28*'Load Profiles'!$U$16","v":363.48646095913227},{"$f":"'Inputs and Totals'!B28*'Load Profiles'!$V$16","v":359.17544800143963},{"$f":"'Inputs and Totals'!B28*'Load Profiles'!$W$16","v":353.50306253079151},{"$f":"'Inputs and Totals'!B28*'Load Profiles'!$X$16","v":331.94799774232871},{"$f":"'Inputs and Totals'!B28*'Load Profiles'!$Y$16","v":285.20754146418807},{"$f":"'Inputs and Totals'!B28*'Load Profiles'!$Z$16","v":180.38185796661057},6248.6998344659814]
["Day 10",{"$f":"'Inputs and Totals'!B29*'Load Profiles'!$C$16","v":266.05757772635098},{"$f":"'Inputs and Totals'!B29*'Load Profiles'!$D$16","v":185.69121747505173},{"$f":"'Inputs and Totals'!B29*'Load Profiles'!$E$16","v":183.44495274753095},{"$f":"'Inputs and Totals'!B29*'Load Profiles'!$F$16","v":184.94246256587817},{"$f":"'Inputs and Totals'!B29*'Load Profiles'!$G$16","v":189.68457699064425},{"$f":"'Inputs and Totals'!B29*'Load Profiles'!$H$16","v":218.88601844841446},{"$f":"'Inputs and Totals'!B29*'Load Profiles'!$I$16","v":297.00611397219296},{"$f":"'Inputs and Totals'!B29*'Load Profiles'!$J$16","v":367.13949046478643},{"$f":"'Inputs and Totals'!B29*'Load Profiles'!$K$16","v":322.71336585381971},{"$f":"'Inputs and Totals'!B29*'Load Profiles'!$L$16","v":308.736607549246},{"$f":"'Inputs and Totals'!B29*'Load Profiles'!$M$16","v":288.02105506210978},{"$f":"'Inputs and Totals'!B29*'Load Profiles'!$N$16","v":284.27728051624189},{"$f":"'Inputs and Totals'!B29*'Load Profiles'!$O$16","v":269.05259736304544},{"$f":"'Inputs and Totals'!B29*'Load Profiles'!$P$16","v":253.82791420984893},{"$f":"'Inputs and Totals'!B29*'Load Profiles'!$Q$16","v":244.34368536031675},{"$f":"'Inputs and Totals'!B29*'Load Profiles'!$R$16","v":261.0658783318604},{"$f":"'Inputs and Totals'!B29*'Load Profiles'!$S$16","v":305.99117288227615},{"$f":"'Inputs and Totals'!B29*'Load Profiles'!$T$16","v":381.61541870880927},{"$f":"'Inputs and Totals'!B29*'Load Profiles'!$U$16","v":399.83512149870012},{"$f":"'Inputs and Totals'!B29*'Load Profiles'!$V$16","v":395.09300707393396},{"$f":"'Inputs and Totals'!B29*'Load Profiles'!$W$16","v":388.85338283082069},{"$f":"'Inputs and Totals'!B29*'Load Profiles'!$X$16","v":365.14281070699025},{"$f":"'Inputs and Totals'!B29*'Load Profiles'!$Y$16","v":313.72830694373658},{"$f":"'Inputs and Totals'!B29*'Load Profiles'!$Z$16","v":198.42005093100286},6873.5700662136087]
["Day 11",{"$f":"'Inputs and Totals'!B30*'Load Profiles'!$C$16","v":263.37013003512754},{"$f":"'Inputs and Totals'!B30*'Load Profiles'!$D$16","v":183.81555041851303},{"$f":"'Inputs and Totals'!B30*'Load Profiles'!$E$16","v":181.59197521183748},{"$f":"'Inputs and Totals'!B30*'Load Profiles'!$F$16","v":183.07435868295454},{"$f":"'Inputs and Totals'!B30*'Load Profiles'!$G$16","v":187.76857300815848},{"$f":"'Inputs and Totals'!B30*'Load Profiles'!$H$16","v":216.67505069494075},{"$f":"'Inputs and Totals'!B30*'Load Profiles'!$I$16","v":294.00605510487969},{"$f":"'Inputs and Totals'!B30*'Load Profiles'!$J$16","v":363.43101433552778},{"$f":"'Inputs and Totals'!B30*'Load Profiles'!$K$16","v":319.45363802572223},{"$f":"'Inputs and Totals'!B30*'Load Profiles'!$L$16","v":305.61805896196324},{"$f":"'Inputs and Totals'!B30*'Load Profiles'!$M$16","v":285.11175427817744},{"$f":"'Inputs and Totals'!B30*'Load Profiles'!$N$16","v":281.40579560038492},{"$f":"'Inputs and Totals'!B30*'Load Profiles'!$O$16","v":266.33489697736167},{"$f":"'Inputs and Totals'!B30*'Load Profiles'!$P$16","v":251.26399835433836},{"$f":"'Inputs and Totals'!B30*'Load Profiles'!$Q$16","v":241.87556970393047},{"$f":"'Inputs and Totals'!B30*'Load Profiles'!$R$16","v":258.42885179807075},{"$f":"'Inputs and Totals'!B30*'Load Profiles'!$S$16","v":302.900355931582},{"$f":"'Inputs and Totals'!B30*'Load Profiles'!$T$16","v":377.76072122299252},{"$f":"'Inputs and Totals'!B30*'Load Profiles'!$U$16","v":395.79638678824983},{"$f":"'Inputs and Totals'!B30*'Load Profiles'!$V$16","v":391.10217246304586},{"$f":"'Inputs and Totals'!B30*'Load Profiles'!$W$16","v":384.92557466672486},{"$f":"'Inputs and Totals'!B30*'Load Profiles'!$X$16","v":361.45450304070511},{"$f":"'Inputs and Totals'!B30*'Load Profiles'!$Y$16","v":310.55933719902004},{"$f":"'Inputs and Totals'!B30*'Load Profiles'!$Z$16","v":196.41580992300788},6804.1401324272165]
["Day 12",{"$f":"'Inputs and Totals'!B31*'Load Profiles'!$C$16","v":255.30777094300538},{"$f":"'Inputs and Totals'!B31*'Load Profiles'!$D$16","v":178.18853806903942},{"$f":"'Inputs and Totals'!B31*'Load Profiles'!$E$16","v":176.03303156013976},{"$f":"'Inputs and Totals'!B31*'Load Profiles'!$F$16","v":177.47003589940621},{"$f":"'Inputs and Totals'!B31*'Load Profiles'!$G$16","v":182.02054964041659},{"$f":"'Inputs and Totals'!B31*'Load Profiles'!$H$16","v":210.04213425611229},{"$f":"'Inputs and Totals'!B31*'Load Profiles'!$I$16","v":285.00586062117861},{"$f":"'Inputs and Totals'!B31*'Load Profiles'!$J$16","v":352.30556384349057},{"$f":"'Inputs and Totals'!B31*'Load Profiles'!$K$16","v":309.67443511191925},{"$f":"'Inputs and Totals'!B31*'Load Profiles'!$L$16","v":296.26239461209917},{"$f":"'Inputs and Totals'!B31*'Load Profiles'!$M$16","v":276.3838345855799},{"$f":"'Inputs and Totals'!B31*'Load Profiles'!$N$16","v":272.79132373741385},{"$f":"'Inputs and Totals'!B31*'Load Profiles'!$O$16","v":258.18177962153828},{"$f":"'Inputs and Totals'!B31*'Load Profiles'!$P$16","v":243.57223550566272},{"$f":"'Inputs and Totals'!B31*'Load Profiles'!$Q$16","v":234.47120802364194},{"$f":"'Inputs and Totals'!B31*'Load Profiles'!$R$16","v":250.51775647878392},{"$f":"'Inputs and Totals'!B31*'Load Profiles'!$S$16","v":293.62788665677732},{"$f":"'Inputs and Totals'!B31*'Load Profiles'!$T$16","v":366.19660578973287},{"$f":"'Inputs and Totals'!B31*'Load Profiles'!$U$16","v":383.68015858414134},{"$f":"'Inputs and Totals'!B31*'Load Profiles'!$V$16","v":379.1296448431309},{"$f":"'Inputs and Totals'!B31*'Load Profiles'!$W$16","v":373.14212676285405},{"$f":"'Inputs and Totals'!B31*'Load Profiles'!$X$16","v":350.38955805780199},{"$f":"'Inputs and Totals'!B31*'Load Profiles'!$Y$16","v":301.0524090763206},{"$f":"'Inputs and Totals'!B31*'Load Profiles'!$Z$16","v":190.40307495280419},6595.8499172329912]
["Day 13",{"$f":"'Inputs and Totals'!B32*'Load Profiles'!$C$16","v":295.61953436671263},{"$f":"'Inputs and Totals'!B32*'Load Profiles'!$D$16","v":206.3235774566925},{"$f":"'Inputs and Totals'!B32*'Load Profiles'!$E$16","v":203.82772772939381},{"$f":"'Inputs and Totals'!B32*'Load Profiles'!$F$16","v":205.49162754759294},{"$f":"'Inputs and Totals'!B32*'Load Profiles'!$G$16","v":210.76064363855684},{"$f":"'Inputs and Totals'!B32*'Load Profiles'!$H$16","v":243.20669009343993},{"$f":"'Inputs and Totals'!B32*'Load Profiles'!$I$16","v":330.00679727616136},{"$f":"'Inputs and Totals'!B32*'Load Profiles'!$J$16","v":407.93277209515412},{"$f":"'Inputs and Totals'!B32*'Load Profiles'!$K$16","v":358.57041082191313},{"$f":"'Inputs and Totals'!B32*'Load Profiles'!$L$16","v":343.04067918538794},{"$f":"'Inputs and Totals'!B32*'Load Profiles'!$M$16","v":320.02339836696655},{"$f":"'Inputs and Totals'!B32*'Load Profiles'!$N$16","v":315.86364882146876},{"$f":"'Inputs and Totals'!B32*'Load Profiles'!$O$16","v":298.94733400311094},{"$f":"'Inputs and Totals'!B32*'Load Profiles'!$P$16","v":282.03101918475301},{"$f":"'Inputs and Totals'!B32*'Load Profiles'!$Q$16","v":271.4929870028252},{"$f":"'Inputs and Totals'!B32*'Load Profiles'!$R$16","v":290.07320163938221},{"$f":"'Inputs and Totals'!B32*'Load Profiles'!$S$16","v":339.99019618535618},{"$f":"'Inputs and Totals'!B32*'Load Profiles'!$T$16","v":424.01713700441235},{"$f":"'Inputs and Totals'!B32*'Load Profiles'!$U$16","v":444.26125145916853},{"$f":"'Inputs and Totals'!B32*'Load Profiles'!$V$16","v":438.99223536820455},{"$f":"'Inputs and Totals'!B32*'Load Profiles'!$W$16","v":432.05931945904155},{"$f":"'Inputs and Totals'!B32*'Load Profiles'!$X$16","v":405.71423900422201},{"$f":"'Inputs and Totals'!B32*'Load Profiles'!$Y$16","v":348.58701191271837},{"$f":"'Inputs and Totals'!B32*'Load Profiles'!$Z$16","v":220.46672591138511},7637.3001655340213]
["Day 14",{"$f":"'Inputs and Totals'!B33*'Load Profiles'!$C$16","v":284.86971156491524},{"$f":"'Inputs and Totals'!B33*'Load Profiles'!$D$16","v":198.82088687082265},{"$f":"'Inputs and Totals'!B33*'Load Profiles'!$E$16","v":196.41579549738529},{"$f":"'Inputs and Totals'!B33*'Load Profiles'!$F$16","v":198.01918974634353},{"$f":"'Inputs and Totals'!B33*'Load Profiles'!$G$16","v":203.09660486804464},{"$f":"'Inputs and Totals'!B33*'Load Profiles'!$H$16","v":234.36279272273043},{"$f":"'Inputs and Totals'!B33*'Load Profiles'!$I$16","v":318.00652604338569},{"$f":"'Inputs and Totals'!B33*'Load Profiles'!$J$16","v":393.09882336959691},{"$f":"'Inputs and Totals'!B33*'Load Profiles'!$K$16","v":345.5314606505022},{"$f":"'Inputs and Totals'!B33*'Load Profiles'!$L$16","v":330.56644766022532},{"$f":"'Inputs and Totals'!B33*'Load Profiles'!$M$16","v":308.38616054963614},{"$f":"'Inputs and Totals'!B33*'Load Profiles'!$N$16","v":304.37767492724061},{"$f":"'Inputs and Totals'!B33*'Load Profiles'!$O$16","v":288.07650006283177},{"$f":"'Inputs and Totals'!B33*'Load Profiles'!$P$16","v":271.77532519842288},{"$f":"'Inputs and Totals'!B33*'Load Profiles'!$Q$16","v":261.62049495502066},{"$f":"'Inputs and Totals'!B33*'Load Profiles'!$R$16","v":279.52506406838779},{"$f":"'Inputs and Totals'!B33*'Load Profiles'!$S$16","v":327.62689153713518},{"$f":"'Inputs and Totals'!B33*'Load Profiles'!$T$16","v":408.59830110952663},{"$f":"'Inputs and Totals'!B33*'Load Profiles'!$U$16","v":428.106264471852},{"$f":"'Inputs and Totals'!B33*'Load Profiles'!$V$16","v":423.02884935015084},{"$f":"'Inputs and Totals'!B33*'Load Profiles'!$W$16","v":416.34803997949149},{"$f":"'Inputs and Totals'!B33*'Load Profiles'!$X$16","v":390.96096437098601},{"$f":"'Inputs and Totals'!B33*'Load Profiles'!$Y$16","v":335.91109515675276},{"$f":"'Inputs and Totals'!B33*'Load Profiles'!$Z$16","v":212.44973798696773},7359.5796027183569]
["Day 15",{"$f":"'Inputs and Totals'!B34*'Load Profiles'!$C$16","v":279.4948161824683},{"$f":"'Inputs and Totals'!B34*'Load Profiles'!$D$16","v":195.06955275774524},{"$f":"'Inputs and Totals'!B34*'Load Profiles'!$E$16","v":192.70984042599832},{"$f":"'Inputs and Totals'!B34*'Load Profiles'!$F$16","v":194.28298198049629},{"$f":"'Inputs and Totals'!B34*'Load Profiles'!$G$16","v":199.26459690307308},{"$f":"'Inputs and Totals'!B34*'Load Profiles'!$H$16","v":229.94085721578301},{"$f":"'Inputs and Totals'!B34*'Load Profiles'!$I$16","v":312.00640830875921},{"$f":"'Inputs and Totals'!B34*'Load Profiles'!$J$16","v":385.68187111107966},{"$f":"'Inputs and Totals'!B34*'Load Profiles'!$K$16","v":339.01200499430723},{"$f":"'Inputs and Totals'!B34*'Load Profiles'!$L$16","v":324.3293504856598},{"$f":"'Inputs and Totals'!B34*'Load Profiles'!$M$16","v":302.56755898177147},{"$f":"'Inputs and Totals'!B34*'Load Profiles'!$N$16","v":298.63470509552667},{"$f":"'Inputs and Totals'!B34*'Load Profiles'!$O$16","v":282.64109929146423},{"$f":"'Inputs and Totals'!B34*'Load Profiles'!$P$16","v":266.64749348740173},{"$f":"'Inputs and Totals'!B34*'Load Profiles'!$Q$16","v":256.68426364224814},{"$f":"'Inputs and Totals'!B34*'Load Profiles'!$R$16","v":274.25101100080855},{"$f":"'Inputs and Totals'!B34*'Load Profiles'!$S$16","v":321.44525763574688},{"$f":"'Inputs and Totals'!B34*'Load Profiles'!$T$16","v":400.88890613789312},{"$f":"'Inputs and Totals'!B34*'Load Profiles'!$U$16","v":420.02879505095143},{"$f":"'Inputs and Totals'!B34*'Load Profiles'!$V$16","v":415.04718012837458},{"$f":"'Inputs and Totals'!B34*'Load Profiles'!$W$16","v":408.49242365129982},{"$f":"'Inputs and Totals'!B34*'Load Profiles'!$X$16","v":383.58434903841578},{"$f":"'Inputs and Totals'!B34*'Load Profiles'!$Y$16","v":329.57315566731961},{"$f":"'Inputs and Totals'!B34*'Load Profiles'!$Z$16","v":208.44125597097778},7220.7197351455707]
["Day 16",{"$f":"'Inputs and Totals'!B35*'Load Profiles'!$C$16","v":263.37013003512754},{"$f":"'Inputs and Totals'!B35*'Load Profiles'!$D$16","v":183.81555041851303},{"$f":"'Inputs and Totals'!B35*'Load Profiles'!$E$16","v":181.59197521183748},{"$f":"'Inputs and Totals'!B35*'Load Profiles'!$F$16","v":183.07435868295454},{"$f":"'Inputs and Totals'!B35*'Load Profiles'!$G$16","v":187.76857300815848},{"$f":"'Inputs and Totals'!B35*'Load Profiles'!$H$16","v":216.67505069494075},{"$f":"'Inputs and Totals'!B35*'Load Profiles'!$I$16","v":294.00605510487969},{"$f":"'Inputs and Totals'!B35*'Load Profiles'!$J$16","v":363.43101433552778},{"$f":"'Inputs and Totals'!B35*'Load Profiles'!$K$16","v":319.45363802572223},{"$f":"'Inputs and Totals'!B35*'Load Profiles'!$L$16","v":305.61805896196324},{"$f":"'Inputs and Totals'!B35*'Load Profiles'!$M$16","v":285.11175427817744},{"$f":"'Inputs and Totals'!B35*'Load Profiles'!$N$16","v":281.40579560038492},{"$f":"'Inputs and Totals'!B35*'Load Profiles'!$O$16","v":266.33489697736167},{"$f":"'Inputs and Totals'!B35*'Load Profiles'!$P$16","v":251.26399835433836},{"$f":"'Inputs and Totals'!B35*'Load Profiles'!$Q$16","v":241.87556970393047},{"$f":"'Inputs and Totals'!B35*'Load Profiles'!$R$16","v":258.42885179807075},{"$f":"'Inputs and Totals'!B35*'Load Profiles'!$S$16","v":302.900355931582},{"$f":"'Inputs and Totals'!B35*'Load Profiles'!$T$16","v":377.76072122299252},{"$f":"'Inputs and Totals'!B35*'Load Profiles'!$U$16","v":395.79638678824983},{"$f":"'Inputs and Totals'!B35*'Load Profiles'!$V$16","v":391.10217246304586},{"$f":"'Inputs and Totals'!B35*'Load Profiles'!$W$16","v":384.92557466672486},{"$f":"'Inputs and Totals'!B35*'Load Profiles'!$X$16","v":361.45450304070511},{"$f":"'Inputs and Totals'!B35*'Load Profiles'!$Y$16","v":310.55933719902004},{"$f":"'Inputs and Totals'!B35*'Load Profiles'!$Z$16","v":196.41580992300788},6804.1401324272165]
["Day 17",{"$f":"'Inputs and Totals'!B36*'Load Profiles'!$C$16","v":282.1822638736918},{"$f":"'Inputs and Totals'!B36*'Load Profiles'!$D$16","v":196.94521981428394},{"$f":"'Inputs and Totals'!B36*'Load Profiles'!$E$16","v":194.56281796169179},{"$f":"'Inputs and Totals'!B36*'Load Profiles'!$F$16","v":196.15108586341992},{"$f":"'Inputs and Totals'!B36*'Load Profiles'!$G$16","v":201.18060088555885},{"$f":"'Inputs and Totals'!B36*'Load Profiles'!$H$16","v":232.15182496925672},{"$f":"'Inputs and Totals'!B36*'Load Profiles'!$I$16","v":315.00646717607242},{"$f":"'Inputs and Totals'!B36*'Load Profiles'!$J$16","v":389.39034724033826},{"$f":"'Inputs and Totals'!B36*'Load Profiles'!$K$16","v":342.27173282240472},{"$f":"'Inputs and Totals'!B36*'Load Profiles'!$L$16","v":327.44789907294256},{"$f":"'Inputs and Totals'!B36*'Load Profiles'!$M$16","v":305.47685976570381},{"$f":"'Inputs and Totals'!B36*'Load Profiles'!$N$16","v":301.50619001138364},{"$f":"'Inputs and Totals'!B36*'Load Profiles'!$O$16","v":285.358799677148},{"$f":"'Inputs and Totals'!B36*'Load Profiles'!$P$16","v":269.2114093429123},{"$f":"'Inputs and Totals'!B36*'Load Profiles'!$Q$16","v":259.1523792986344},{"$f":"'Inputs and Totals'!B36*'Load Profiles'!$R$16","v":276.88803753459814},{"$f":"'Inputs and Totals'!B36*'Load Profiles'!$S$16","v":324.53607458644103},{"$f":"'Inputs and Totals'!B36*'Load Profiles'!$T$16","v":404.74360362370987},{"$f":"'Inputs and Totals'!B36*'Load Profiles'!$U$16","v":424.06752976140172},{"$f":"'Inputs and Totals'!B36*'Load Profiles'!$V$16","v":419.03801473926274},{"$f":"'Inputs and Totals'!B36*'Load Profiles'!$W$16","v":412.42023181539565},{"$f":"'Inputs and Totals'!B36*'Load Profiles'!$X$16","v":387.27265670470086},{"$f":"'Inputs and Totals'!B36*'Load Profiles'!$Y$16","v":332.74212541203616},{"$f":"'Inputs and Totals'!B36*'Load Profiles'!$Z$16","v":210.44549697897276},7290.149668931962]
["Day 18",{"$f":"'Inputs and Totals'!B37*'Load Profiles'!$C$16","v":255.30777094300538},{"$f":"'Inputs and Totals'!B37*'Load Profiles'!$D$16","v":178.18853806903942},{"$f":"'Inputs and Totals'!B37*'Load Profiles'!$E$16","v":176.03303156013976},{"$f":"'Inputs and Totals'!B37*'Load Profiles'!$F$16","v":177.47003589940621},{"$f":"'Inputs and Totals'!B37*'Load Profiles'!$G$16","v":182.02054964041659},{"$f":"'Inputs and Totals'!B37*'Load Profiles'!$H$16","v":210.04213425611229},{"$f":"'Inputs and Totals'!B37*'Load Profiles'!$I$16","v":285.00586062117861},{"$f":"'Inputs and Totals'!B37*'Load Profiles'!$J$16","v":352.30556384349057},{"$f":"'Inputs and Totals'!B37*'Load Profiles'!$K$16","v":309.67443511191925},{"$f":"'Inputs and Totals'!B37*'Load Profiles'!$L$16","v":296.26239461209917},{"$f":"'Inputs and Totals'!B37*'Load Profiles'!$M$16","v":276.3838345855799},{"$f":"'Inputs and Totals'!B37*'Load Profiles'!$N$16","v":272.79132373741385},{"$f":"'Inputs and Totals'!B37*'Load Profiles'!$O$16","v":258.18177962153828},{"$f":"'Inputs and Totals'!B37*'Load Profiles'!$P$16","v":243.57223550566272},{"$f":"'Inputs and Totals'!B37*'Load Profiles'!$Q$16","v":234.47120802364194},{"$f":"'Inputs and Totals'!B37*'Load Profiles'!$R$16","v":250.51775647878392},{"$f":"'Inputs and Totals'!B37*'Load Profiles'!$S$16","v":293.62788665677732},{"$f":"'Inputs and Totals'!B37*'Load Profiles'!$T$16","v":366.19660578973287},{"$f":"'Inputs and Totals'!B37*'Load Profiles'!$U$16","v":383.68015858414134},{"$f":"'Inputs and Totals'!B37*'Load Profiles'!$V$16","v":379.1296448431309},{"$f":"'Inputs and Totals'!B37*'Load Profiles'!$W$16","v":373.14212676285405},{"$f":"'Inputs and Totals'!B37*'Load Profiles'!$X$16","v":350.38955805780199},{"$f":"'Inputs and Totals'!B37*'Load Profiles'!$Y$16","v":301.0524090763206},{"$f":"'Inputs and Totals'!B37*'Load Profiles'!$Z$16","v":190.40307495280419},6595.8499172329912]
["Day 19",{"$f":"'Inputs and Totals'!B38*'Load Profiles'!$C$16","v":260.6826823439041},{"$f":"'Inputs and Totals'!B38*'Load Profiles'!$D$16","v":181.93988336197432},{"$f":"'Inputs and Totals'!B38*'Load Profiles'!$E$16","v":179.73899767614401},{"$f":"'Inputs and Totals'!B38*'Load Profiles'!$F$16","v":181.20625480003091},{"$f":"'Inputs and Totals'!B38*'Load Profiles'!$G$16","v":185.85256902567269},{"$f":"'Inputs and Totals'!B38*'Load Profiles'!$H$16","v":214.46408294146704},{"$f":"'Inputs and Totals'!B38*'Load Profiles'!$I$16","v":291.00599623756648},{"$f":"'Inputs and Totals'!B38*'Load Profiles'!$J$16","v":359.72253820626918},{"$f":"'Inputs and Totals'!B38*'Load Profiles'!$K$16","v":316.19391019762475},{"$f":"'Inputs and Totals'!B38*'Load Profiles'!$L$16","v":302.49951037468048},{"$f":"'Inputs and Totals'!B38*'Load Profiles'!$M$16","v":282.20245349424511},{"$f":"'Inputs and Totals'!B38*'Load Profiles'!$N$16","v":278.53431068452795},{"$f":"'Inputs and Totals'!B38*'Load Profiles'!$O$16","v":263.6171965916779},{"$f":"'Inputs and Totals'!B38*'Load Profiles'!$P$16","v":248.70008249882778},{"$f":"'Inputs and Totals'!B38*'Load Profiles'!$Q$16","v":239.40745404754421},{"$f":"'Inputs and Totals'!B38*'Load Profiles'!$R$16","v":255.79182526428116},{"$f":"'Inputs and Totals'!B38*'Load Profiles'!$S$16","v":299.80953898088785},{"$f":"'Inputs and Totals'!B38*'Load Profiles'!$T$16","v":373.90602373717576},{"$f":"'Inputs and Totals'!B38*'Load Profiles'!$U$16","v":391.75765207779961},{"$f":"'Inputs and Totals'!B38*'Load Profiles'!$V$16","v":387.11133785215776},{"$f":"'Inputs and Totals'!B38*'Load Profiles'!$W$16","v":380.99776650262908},{"$f":"'Inputs and Totals'!B38*'Load Profiles'!$X$16","v":357.76619537442002},{"$f":"'Inputs and Totals'!B38*'Load Profiles'!$Y$16","v":307.39036745430343},{"$f":"'Inputs and Totals'!B38*'Load Profiles'!$Z$16","v":194.41156891501291},6734.7101986408243]
["Day 20",{"$f":"'Inputs and Totals'!B39*'Load Profiles'!$C$16","v":266.05757772635098},{"$f":"'Inputs and Totals'!B39*'Load Profiles'!$D$16","v":185.69121747505173},{"$f":"'Inputs and Totals'!B39*'Load Profiles'!$E$16","v":183.44495274753095},{"$f":"'Inputs and Totals'!B39*'Load Profiles'!$F$16","v":184.94246256587817},{"$f":"'Inputs and Totals'!B39*'Load Profiles'!$G$16","v":189.68457699064425},{"$f":"'Inputs and Totals'!B39*'Load Profiles'!$H$16","v":218.88601844841446},{"$f":"'Inputs and Totals'!B39*'Load Profiles'!$I$16","v":297.00611397219296},{"$f":"'Inputs and Totals'!B39*'Load Profiles'!$J$16","v":367.13949046478643},{"$f":"'Inputs and Totals'!B39*'Load Profiles'!$K$16","v":322.71336585381971},{"$f":"'Inputs and Totals'!B39*'Load Profiles'!$L$16","v":308.736607549246},{"$f":"'Inputs and Totals'!B39*'Load Profiles'!$M$16","v":288.02105506210978},{"$f":"'Inputs and Totals'!B39*'Load Profiles'!$N$16","v":284.27728051624189},{"$f":"'Inputs and Totals'!B39*'Load Profiles'!$O$16","v":269.05259736304544},{"$f":"'Inputs and Totals'!B39*'Load Profiles'!$P$16","v":253.82791420984893},{"$f":"'Inputs and Totals'!B39*'Load Profiles'!$Q$16","v":244.34368536031675},{"$f":"'Inputs and Totals'!B39*'Load Profiles'!$R$16","v":261.0658783318604},{"$f":"'Inputs and Totals'!B39*'Load Profiles'!$S$16","v":305.99117288227615},{"$f":"'Inputs and Totals'!B39*'Load Profiles'!$T$16","v":381.61541870880927},{"$f":"'Inputs and Totals'!B39*'Load Profiles'!$U$16","v":399.83512149870012},{"$f":"'Inputs and Totals'!B39*'Load Profiles'!$V$16","v":395.09300707393396},{"$f":"'Inputs and Totals'!B39*'Load Profiles'!$W$16","v":388.85338283082069},{"$f":"'Inputs and Totals'!B39*'Load Profiles'!$X$16","v":365.14281070699025},{"$f":"'Inputs and Totals'!B39*'Load Profiles'!$Y$16","v":313.72830694373658},{"$f":"'Inputs and Totals'!B39*'Load Profiles'!$Z$16","v":198.42005093100286},6873.5700662136087]
["Day 21",{"$f":"'Inputs and Totals'!B40*'Load Profiles'!$C$16","v":292.93208667548919},{"$f":"'Inputs and Totals'!B40*'Load Profiles'!$D$16","v":204.4479104001538},{"$f":"'Inputs and Totals'!B40*'Load Profiles'!$E$16","v":201.97475019370032},{"$f":"'Inputs and Totals'!B40*'Load Profiles'!$F$16","v":203.62352366466931},{"$f":"'Inputs and Totals'!B40*'Load Profiles'!$G$16","v":208.84463965607108},{"$f":"'Inputs and Totals'!B40*'Load Profiles'!$H$16","v":240.99572233996622},{"$f":"'Inputs and Totals'!B40*'Load Profiles'!$I$16","v":327.00673840884815},{"$f":"'Inputs and Totals'!B40*'Load Profiles'!$J$16","v":404.22429596589546},{"$f":"'Inputs and Totals'!B40*'Load Profiles'!$K$16","v":355.31068299381565},{"$f":"'Inputs and Totals'!B40*'Load Profiles'!$L$16","v":339.92213059810518},{"$f":"'Inputs and Totals'!B40*'Load Profiles'!$M$16","v":317.11409758303421},{"$f":"'Inputs and Totals'!B40*'Load Profiles'!$N$16","v":312.99216390561179},{"$f":"'Inputs and Totals'!B40*'Load Profiles'!$O$16","v":296.22963361742717},{"$f":"'Inputs and Totals'!B40*'Load Profiles'!$P$16","v":279.46710332924243},{"$f":"'Inputs and Totals'!B40*'Load Profiles'!$Q$16","v":269.02487134643894},{"$f":"'Inputs and Totals'!B40*'Load Profiles'!$R$16","v":287.43617510559261},{"$f":"'Inputs and Totals'!B40*'Load Profiles'!$S$16","v":336.89937923466204},{"$f":"'Inputs and Totals'!B40*'Load Profiles'!$T$16","v":420.16243951859559},{"$f":"'Inputs and Totals'!B40*'Load Profiles'!$U$16","v":440.22251674871825},{"$f":"'Inputs and Totals'!B40*'Load Profiles'!$V$16","v":435.00140075731645},{"$f":"'Inputs and Totals'!B40*'Load Profiles'!$W$16","v":428.13151129494571},{"$f":"'Inputs and Totals'!B40*'Load Profiles'!$X$16","v":402.02593133793687},{"$f":"'Inputs and Totals'!B40*'Load Profiles'!$Y$16","v":345.41804216800176},{"$f":"'Inputs and Totals'!B40*'Load Profiles'!$Z$16","v":218.46248490339013},7567.8702317476291]
["Day 22",{"$f":"'Inputs and Totals'!B41*'Load Profiles'!$C$16","v":247.245427869335},{"$f":"'Inputs and Totals'!B41*'Load Profiles'!$D$16","v":172.56153689942332},{"$f":"'Inputs and Totals'!B41*'Load Profiles'!$E$16","v":170.47409895305933},{"$f":"'Inputs and Totals'!B41*'Load Profiles'!$F$16","v":171.86572425063534},{"$f":"'Inputs and Totals'!B41*'Load Profiles'!$G$16","v":176.2725376929593},{"$f":"'Inputs and Totals'!B41*'Load Profiles'!$H$16","v":203.40923099569116},{"$f":"'Inputs and Totals'!B41*'Load Profiles'!$I$16","v":276.00568401923891},{"$f":"'Inputs and Totals'!B41*'Load Profiles'!$J$16","v":341.18013545571466},{"$f":"'Inputs and Totals'!B41*'Load Profiles'!$K$16","v":299.89525162762675},{"$f":"'Inputs and Totals'!B41*'Load Profiles'!$L$16","v":286.90674885025089},{"$f":"'Inputs and Totals'!B41*'Load Profiles'!$M$16","v":267.65593223378289},{"$f":"'Inputs and Totals'!B41*'Load Profiles'!$N$16","v":264.17686898984294},{"$f":"'Inputs and Totals'!B41*'Load Profiles'!$O$16","v":250.02867846448703},{"$f":"'Inputs and Totals'!B41*'Load Profiles'!$P$16","v":235.88048793913103},{"$f":"'Inputs and Totals'!B41*'Load Profiles'!$Q$16","v":227.0668610544831},{"$f":"'Inputs and Totals'!B41*'Load Profiles'!$R$16","v":242.60667687741505},{"$f":"'Inputs and Totals'!B41*'Load Profiles'!$S$16","v":284.35543580469488},{"$f":"'Inputs and Totals'!B41*'Load Profiles'!$T$16","v":354.63251333228254},{"$f":"'Inputs and Totals'!B41*'Load Profiles'!$U$16","v":371.56395445279054},{"$f":"'Inputs and Totals'!B41*'Load Profiles'!$V$16","v":367.15714101046649},{"$f":"'Inputs and Totals'!B41*'Load Profiles'!$W$16","v":361.35870227056654},{"$f":"'Inputs and Totals'!B41*'Load Profiles'!$X$16","v":339.32463505894668},{"$f":"'Inputs and Totals'!B41*'Load Profiles'!$Y$16","v":291.54549984217084},{"$f":"'Inputs and Totals'!B41*'Load Profiles'!$Z$16","v":184.39035192881926},6387.5601158738154]
["Day 23",{"$f":"'Inputs and Totals'!B42*'Load Profiles'!$C$16","v":276.80736849124486},{"$f":"'Inputs and Totals'!B42*'Load Profiles'!$D$16","v":193.19388570120654},{"$f":"'Inputs and Totals'!B42*'Load Profiles'!$E$16","v":190.85686289030485},{"$f":"'Inputs and Totals'!B42*'Load Profiles'!$F$16","v":192.41487809757265},{"$f":"'Inputs and Totals'!B42*'Load Profiles'!$G$16","v":197.34859292058732},{"$f":"'Inputs and Totals'!B42*'Load Profiles'!$H$16","v":227.7298894623093},{"$f":"'Inputs and Totals'!B42*'Load Profiles'!$I$16","v":309.00634944144593},{"$f":"'Inputs and Totals'!B42*'Load Profiles'!$J$16","v":381.973394981821},{"$f":"'Inputs and Totals'!B42*'Load Profiles'!$K$16","v":335.75227716620975},{"$f":"'Inputs and Totals'!B42*'Load Profiles'!$L$16","v":321.21080189837704},{"$f":"'Inputs and Totals'!B42*'Load Profiles'!$M$16","v":299.65825819783913},{"$f":"'Inputs and Totals'!B42*'Load Profiles'!$N$16","v":295.7632201796697},{"$f":"'Inputs and Totals'!B42*'Load Profiles'!$O$16","v":279.92339890578046},{"$f":"'Inputs and Totals'!B42*'Load Profiles'!$P$16","v":264.08357763189116},{"$f":"'Inputs and Totals'!B42*'Load Profiles'!$Q$16","v":254.21614798586185},{"$f":"'Inputs and Totals'!B42*'Load Profiles'!$R$16","v":271.61398446701889},{"$f":"'Inputs and Totals'!B42*'Load Profiles'!$S$16","v":318.35444068505274},{"$f":"'Inputs and Totals'!B42*'Load Profiles'!$T$16","v":397.0342086520763},{"$f":"'Inputs and Totals'!B42*'Load Profiles'!$U$16","v":415.9900603405012},{"$f":"'Inputs and Totals'!B42*'Load Profiles'!$V$16","v":411.05634551748648},{"$f":"'Inputs and Totals'!B42*'Load Profiles'!$W$16","v":404.56461548720404},{"$f":"'Inputs and Totals'!B42*'Load Profiles'!$X$16","v":379.89604137213064},{"$f":"'Inputs and Totals'!B42*'Load Profiles'!$Y$16","v":326.40418592260301},{"$f":"'Inputs and Totals'!B42*'Load Profiles'!$Z$16","v":206.4370149629828},7151.2898013591766]
["Day 24",{"$f":"'Inputs and Totals'!B43*'Load Profiles'!$C$16","v":260.6826823439041},{"$f":"'Inputs and Totals'!B43*'Load Profiles'!$D$16","v":181.93988336197432},{"$f":"'Inputs and Totals'!B43*'Load Profiles'!$E$16","v":179.73899767614401},{"$f":"'Inputs and Totals'!B43*'Load Profiles'!$F$16","v":181.20625480003091},{"$f":"'Inputs and Totals'!B43*'Load Profiles'!$G$16","v":185.85256902567269},{"$f":"'Inputs and Totals'!B43*'Load Profiles'!$H$16","v":214.46408294146704},{"$f":"'Inputs and Totals'!B43*'Load Profiles'!$I$16","v":291.00599623756648},{"$f":"'Inputs and Totals'!B43*'Load Profiles'!$J$16","v":359.72253820626918},{"$f":"'Inputs and Totals'!B43*'Load Profiles'!$K$16","v":316.19391019762475},{"$f":"'Inputs and Totals'!B43*'Load Profiles'!$L$16","v":302.49951037468048},{"$f":"'Inputs and Totals'!B43*'Load Profiles'!$M$16","v":282.20245349424511},{"$f":"'Inputs and Totals'!B43*'Load Profiles'!$N$16","v":278.53431068452795},{"$f":"'Inputs and Totals'!B43*'Load Profiles'!$O$16","v":263.6171965916779},{"$f":"'Inputs and Totals'!B43*'Load Profiles'!$P$16","v":248.70008249882778},{"$f":"'Inputs and Totals'!B43*'Load Profiles'!$Q$16","v":239.40745404754421},{"$f":"'Inputs and Totals'!B43*'Load Profiles'!$R$16","v":255.79182526428116},{"$f":"'Inputs and Totals'!B43*'Load Profiles'!$S$16","v":299.80953898088785},{"$f":"'Inputs and Totals'!B43*'Load Profiles'!$T$16","v":373.90602373717576},{"$f":"'Inputs and Totals'!B43*'Load Profiles'!$U$16","v":391.75765207779961},{"$f":"'Inputs and Totals'!B43*'Load Profiles'!$V$16","v":387.11133785215776},{"$f":"'Inputs and Totals'!B43*'Load Profiles'!$W$16","v":380.99776650262908},{"$f":"'Inputs and Totals'!B43*'Load Profiles'!$X$16","v":357.76619537442002},{"$f":"'Inputs and Totals'!B43*'Load Profiles'!$Y$16","v":307.39036745430343},{"$f":"'Inputs and Totals'!B43*'Load Profiles'!$Z$16","v":194.41156891501291},6734.7101986408243]
["Day 25",{"$f":"'Inputs and Totals'!B44*'Load Profiles'!$C$16","v":247.245427869335},{"$f":"'Inputs and Totals'!B44*'Load Profiles'!$D$16","v":172.56153689942332},{"$f":"'Inputs and Totals'!B44*'Load Profiles'!$E$16","v":170.47409895305933},{"$f":"'Inputs and Totals'!B44*'Load Profiles'!$F$16","v":171.86572425063534},{"$f":"'Inputs and Totals'!B44*'Load Profiles'!$G$16","v":176.2725376929593},{"$f":"'Inputs and Totals'!B44*'Load Profiles'!$H$16","v":203.40923099569116},{"$f":"'Inputs and Totals'!B44*'Load Profiles'!$I$16","v":276.00568401923891},{"$f":"'Inputs and Totals'!B44*'Load Profiles'!$J$16","v":341.18013545571466},{"$f":"'Inputs and Totals'!B44*'Load Profiles'!$K$16","v":299.89525162762675},{"$f":"'Inputs and Totals'!B44*'Load Profiles'!$L$16","v":286.90674885025089},{"$f":"'Inputs and Totals'!B44*'Load Profiles'!$M$16","v":267.65593223378289},{"$f":"'Inputs and Totals'!B44*'Load Profiles'!$N$16","v":264.17686898984294},{"$f":"'Inputs and Totals'!B44*'Load Profiles'!$O$16","v":250.02867846448703},{"$f":"'Inputs and Totals'!B44*'Load Profiles'!$P$16","v":235.88048793913103},{"$f":"'Inputs and Totals'!B44*'Load Profiles'!$Q$16","v":227.0668610544831},{"$f":"'Inputs and Totals'!B44*'Load Profiles'!$R$16","v":242.60667687741505},{"$f":"'Inputs and Totals'!B44*'Load Profiles'!$S$16","v":284.35543580469488},{"$f":"'Inputs and Totals'!B44*'Load Profiles'!$T$16","v":354.63251333228254},{"$f":"'Inputs and Totals'!B44*'Load Profiles'!$U$16","v":371.56395445279054},{"$f":"'Inputs and Totals'!B44*'Load Profiles'!$V$16","v":367.15714101046649},{"$f":"'Inputs and Totals'!B44*'Load Profiles'!$W$16","v":361.35870227056654},{"$f":"'Inputs and Totals'!B44*'Load Profiles'!$X$16","v":339.32463505894668},{"$f":"'Inputs and Totals'!B44*'Load Profiles'!$Y$16","v":291.54549984217084},{"$f":"'Inputs and Totals'!B44*'Load Profiles'!$Z$16","v":184.39035192881926},6387.5601158738154]
["Day 26",{"$f":"'Inputs and Totals'!B45*'Load Profiles'!$C$16","v":249.93287556055847},{"$f":"'Inputs and Totals'!B45*'Load Profiles'!$D$16","v":174.43720395596202},{"$f":"'Inputs and Totals'!B45*'Load Profiles'!$E$16","v":172.32707648875279},{"$f":"'Inputs and Totals'!B45*'Load Profiles'!$F$16","v":173.73382813355894},{"$f":"'Inputs and Totals'!B45*'Load Profiles'!$G$16","v":178.18854167544507},{"$f":"'Inputs and Totals'!B45*'Load Profiles'!$H$16","v":205.62019874916487},{"$f":"'Inputs and Totals'!B45*'Load Profiles'!$I$16","v":279.00574288655213},{"$f":"'Inputs and Totals'!B45*'Load Profiles'!$J$16","v":344.88861158497326},{"$f":"'Inputs and Totals'!B45*'Load Profiles'!$K$16","v":303.15497945572429},{"$f":"'Inputs and Totals'!B45*'Load Profiles'!$L$16","v":290.02529743753365},{"$f":"'Inputs and Totals'!B45*'Load Profiles'!$M$16","v":270.56523301771523},{"$f":"'Inputs and Totals'!B45*'Load Profiles'!$N$16","v":267.04835390569991},{"$f":"'Inputs and Totals'!B45*'Load Profiles'!$O$16","v":252.74637885017077},{"$f":"'Inputs and Totals'!B45*'Load Profiles'!$P$16","v":238.4444037946416},{"$f":"'Inputs and Totals'!B45*'Load Profiles'!$Q$16","v":229.53497671086939},{"$f":"'Inputs and Totals'!B45*'Load Profiles'!$R$16","v":245.24370341120468},{"$f":"'Inputs and Totals'!B45*'Load Profiles'!$S$16","v":287.44625275538903},{"$f":"'Inputs and Totals'!B45*'Load Profiles'!$T$16","v":358.48721081809936},{"$f":"'Inputs and Totals'!B45*'Load Profiles'!$U$16","v":375.60268916324077},{"$f":"'Inputs and Totals'!B45*'Load Profiles'!$V$16","v":371.14797562135465},{"$f":"'Inputs and Totals'!B45*'Load Profiles'!$W$16","v":365.28651043466238},{"$f":"'Inputs and Totals'!B45*'Load Profiles'!$X$16","v":343.01294272523182},{"$f":"'Inputs and Totals'!B45*'Load Profiles'!$Y$16","v":294.71446958688745},{"$f":"'Inputs and Totals'!B45*'Load Profiles'!$Z$16","v":186.39459293681423},6456.9900496602068]
["Day 27",{"$f":"'Inputs and Totals'!B46*'Load Profiles'!$C$16","v":244.55798017811156},{"$f":"'Inputs and Totals'!B46*'Load Profiles'!$D$16","v":170.68586984288461},{"$f":"'Inputs and Totals'!B46*'Load Profiles'!$E$16","v":168.62112141736586},{"$f":"'Inputs and Totals'!B46*'Load Profiles'!$F$16","v":169.9976203677117},{"$f":"'Inputs and Totals'!B46*'Load Profiles'!$G$16","v":174.35653371047351},{"$f":"'Inputs and Totals'!B46*'Load Profiles'!$H$16","v":201.19826324221745},{"$f":"'Inputs and Totals'!B46*'Load Profiles'!$I$16","v":273.00562515192564},{"$f":"'Inputs and Totals'!B46*'Load Profiles'!$J$16","v":337.47165932645601},{"$f":"'Inputs and Totals'!B46*'Load Profiles'!$K$16","v":296.63552379952927},{"$f":"'Inputs and Totals'!B46*'Load Profiles'!$L$16","v":283.78820026296813},{"$f":"'Inputs and Totals'!B46*'Load Profiles'!$M$16","v":264.74663144985055},{"$f":"'Inputs and Totals'!B46*'Load Profiles'!$N$16","v":261.30538407398598},{"$f":"'Inputs and Totals'!B46*'Load Profiles'!$O$16","v":247.31097807880326},{"$f":"'Inputs and Totals'!B46*'Load Profiles'!$P$16","v":233.31657208362046},{"$f":"'Inputs and Totals'!B46*'Load Profiles'!$Q$16","v":224.59874539809684},{"$f":"'Inputs and Totals'!B46*'Load Profiles'!$R$16","v":239.96965034362543},{"$f":"'Inputs and Totals'!B46*'Load Profiles'!$S$16","v":281.26461885400073},{"$f":"'Inputs and Totals'!B46*'Load Profiles'!$T$16","v":350.77781584646578},{"$f":"'Inputs and Totals'!B46*'Load Profiles'!$U$16","v":367.52521974234025},{"$f":"'Inputs and Totals'!B46*'Load Profiles'!$V$16","v":363.16630639957839},{"$f":"'Inputs and Totals'!B46*'Load Profiles'!$W$16","v":357.4308941064707},{"$f":"'Inputs and Totals'!B46*'Load Profiles'!$X$16","v":335.6363273926616},{"$f":"'Inputs and Totals'!B46*'Load Profiles'!$Y$16","v":288.37653009745424},{"$f":"'Inputs and Totals'!B46*'Load Profiles'!$Z$16","v":182.38611092082428},6318.1301820874241]
["Day 28",{"$f":"'Inputs and Totals'!B47*'Load Profiles'!$C$16","v":266.05757772635098},{"$f":"'Inputs and Totals'!B47*'Load Profiles'!$D$16","v":185.69121747505173},{"$f":"'Inputs and Totals'!B47*'Load Profiles'!$E$16","v":183.44495274753095},{"$f":"'Inputs and Totals'!B47*'Load Profiles'!$F$16","v":184.94246256587817},{"$f":"'Inputs and Totals'!B47*'Load Profiles'!$G$16","v":189.68457699064425},{"$f":"'Inputs and Totals'!B47*'Load Profiles'!$H$16","v":218.88601844841446},{"$f":"'Inputs and Totals'!B47*'Load Profiles'!$I$16","v":297.00611397219296},{"$f":"'Inputs and Totals'!B47*'Load Profiles'!$J$16","v":367.13949046478643},{"$f":"'Inputs and Totals'!B47*'Load Profiles'!$K$16","v":322.71336585381971},{"$f":"'Inputs and Totals'!B47*'Load Profiles'!$L$16","v":308.736607549246},{"$f":"'Inputs and Totals'!B47*'Load Profiles'!$M$16","v":288.02105506210978},{"$f":"'Inputs and Totals'!B47*'Load Profiles'!$N$16","v":284.27728051624189},{"$f":"'Inputs and Totals'!B47*'Load Profiles'!$O$16","v":269.05259736304544},{"$f":"'Inputs and Totals'!B47*'Load Profiles'!$P$16","v":253.82791420984893},{"$f":"'Inputs and Totals'!B47*'Load Profiles'!$Q$16","v":244.34368536031675},{"$f":"'Inputs and Totals'!B47*'Load Profiles'!$R$16","v":261.0658783318604},{"$f":"'Inputs and Totals'!B47*'Load Profiles'!$S$16","v":305.99117288227615},{"$f":"'Inputs and Totals'!B47*'Load Profiles'!$T$16","v":381.61541870880927},{"$f":"'Inputs and Totals'!B47*'Load Profiles'!$U$16","v":399.83512149870012},{"$f":"'Inputs and Totals'!B47*'Load Profiles'!$V$16","v":395.09300707393396},{"$f":"'Inputs and Totals'!B47*'Load Profiles'!$W$16","v":388.85338283082069},{"$f":"'Inputs and Totals'!B47*'Load Profiles'!$X$16","v":365.14281070699025},{"$f":"'Inputs and Totals'!B47*'Load Profiles'!$Y$16","v":313.72830694373658},{"$f":"'Inputs and Totals'!B47*'Load Profiles'!$Z$16","v":198.42005093100286},6873.5700662136087]
["Day 29",{"$f":"'Inputs and Totals'!B48*'Load Profiles'!$C$16","v":295.61953436671263},{"$f":"'Inputs and Totals'!B48*'Load Profiles'!$D$16","v":206.3235774566925},{"$f":"'Inputs and Totals'!B48*'Load Profiles'!$E$16","v":203.82772772939381},{"$f":"'Inputs and Totals'!B48*'Load Profiles'!$F$16","v":205.49162754759294},{"$f":"'Inputs and Totals'!B48*'Load Profiles'!$G$16","v":210.76064363855684},{"$f":"'Inputs and Totals'!B48*'Load Profiles'!$H$16","v":243.20669009343993},{"$f":"'Inputs and Totals'!B48*'Load Profiles'!$I$16","v":330.00679727616136},{"$f":"'Inputs and Totals'!B48*'Load Profiles'!$J$16","v":407.93277209515412},{"$f":"'Inputs and Totals'!B48*'Load Profiles'!$K$16","v":358.57041082191313},{"$f":"'Inputs and Totals'!B48*'Load Profiles'!$L$16","v":343.04067918538794},{"$f":"'Inputs and Totals'!B48*'Load Profiles'!$M$16","v":320.02339836696655},{"$f":"'Inputs and Totals'!B48*'Load Profiles'!$N$16","v":315.86364882146876},{"$f":"'Inputs and Totals'!B48*'Load Profiles'!$O$16","v":298.94733400311094},{"$f":"'Inputs and Totals'!B48*'Load Profiles'!$P$16","v":282.03101918475301},{"$f":"'Inputs and Totals'!B48*'Load Profiles'!$Q$16","v":271.4929870028252},{"$f":"'Inputs and Totals'!B48*'Load Profiles'!$R$16","v":290.07320163938221},{"$f":"'Inputs and Totals'!B48*'Load Profiles'!$S$16","v":339.99019618535618},{"$f":"'Inputs and Totals'!B48*'Load Profiles'!$T$16","v":424.01713700441235},{"$f":"'Inputs and Totals'!B48*'Load Profiles'!$U$16","v":444.26125145916853},{"$f":"'Inputs and Totals'!B48*'Load Profiles'!$V$16","v":438.99223536820455},{"$f":"'Inputs and Totals'!B48*'Load Profiles'!$W$16","v":432.05931945904155},{"$f":"'Inputs and Totals'!B48*'Load Profiles'!$X$16","v":405.71423900422201},{"$f":"'Inputs and Totals'!B48*'Load Profiles'!$Y$16","v":348.58701191271837},{"$f":"'Inputs and Totals'!B48*'Load Profiles'!$Z$16","v":220.46672591138511},7637.3001655340213]
["Day 30",{"$f":"'Inputs and Totals'!B49*'Load Profiles'!$C$16","v":271.43247310879792},{"$f":"'Inputs and Totals'!B49*'Load Profiles'!$D$16","v":189.44255158812913},{"$f":"'Inputs and Totals'!B49*'Load Profiles'!$E$16","v":187.15090781891791},{"$f":"'Inputs and Totals'!B49*'Load Profiles'!$F$16","v":188.67867033172541},{"$f":"'Inputs and Totals'!B49*'Load Profiles'!$G$16","v":193.51658495561577},{"$f":"'Inputs and Totals'!B49*'Load Profiles'!$H$16","v":223.30795395536188},{"$f":"'Inputs and Totals'!B49*'Load Profiles'!$I$16","v":303.00623170681945},{"$f":"'Inputs and Totals'!B49*'Load Profiles'!$J$16","v":374.55644272330375},{"$f":"'Inputs and Totals'!B49*'Load Profiles'!$K$16","v":329.23282151001473},{"$f":"'Inputs and Totals'!B49*'Load Profiles'!$L$16","v":314.97370472381152},{"$f":"'Inputs and Totals'!B49*'Load Profiles'!$M$16","v":293.83965662997446},{"$f":"'Inputs and Totals'!B49*'Load Profiles'!$N$16","v":290.02025034795577},{"$f":"'Inputs and Totals'!B49*'Load Profiles'!$O$16","v":274.48799813441292},{"$f":"'Inputs and Totals'!B49*'Load Profiles'!$P$16","v":258.95574592087007},{"$f":"'Inputs and Totals'!B49*'Load Profiles'!$Q$16","v":249.2799166730893},{"$f":"'Inputs and Totals'!B49*'Load Profiles'!$R$16","v":266.33993139943965},{"$f":"'Inputs and Totals'!B49*'Load Profiles'!$S$16","v":312.17280678366444},{"$f":"'Inputs and Totals'!B49*'Load Profiles'!$T$16","v":389.32481368044279},{"$f":"'Inputs and Totals'!B49*'Load Profiles'!$U$16","v":407.91259091960063},{"$f":"'Inputs and Totals'!B49*'Load Profiles'!$V$16","v":403.07467629571022},{"$f":"'Inputs and Totals'!B49*'Load Profiles'!$W$16","v":396.70899915901236},{"$f":"'Inputs and Totals'!B49*'Load Profiles'!$X$16","v":372.51942603956047},{"$f":"'Inputs and Totals'!B49*'Load Profiles'!$Y$16","v":320.06624643316979},{"$f":"'Inputs and Totals'!B49*'Load Profiles'!$Z$16","v":202.42853294699282},7012.4299337863949]
["Day 31",{"$f":"'Inputs and Totals'!B50*'Load Profiles'!$C$16","v":268.74502541757448},{"$f":"'Inputs and Totals'!B50*'Load Profiles'!$D$16","v":187.56688453159043},{"$f":"'Inputs and Totals'!B50*'Load Profiles'!$E$16","v":185.29793028322445},{"$f":"'Inputs and Totals'!B50*'Load Profiles'!$F$16","v":186.81056644880178},{"$f":"'Inputs and Totals'!B50*'Load Profiles'!$G$16","v":191.60058097313001},{"$f":"'Inputs and Totals'!B50*'Load Profiles'!$H$16","v":221.09698620188817},{"$f":"'Inputs and Totals'!B50*'Load Profiles'!$I$16","v":300.00617283950618},{"$f":"'Inputs and Totals'!B50*'Load Profiles'!$J$16","v":370.84796659404509},{"$f":"'Inputs and Totals'!B50*'Load Profiles'!$K$16","v":325.97309368191725},{"$f":"'Inputs and Totals'!B50*'Load Profiles'!$L$16","v":311.85515613652876},{"$f":"'Inputs and Totals'!B50*'Load Profiles'!$M$16","v":290.93035584604212},{"$f":"'Inputs and Totals'!B50*'Load Profiles'!$N$16","v":287.1487654320988},{"$f":"'Inputs and Totals'!B50*'Load Profiles'!$O$16","v":271.77029774872921},{"$f":"'Inputs and Totals'!B50*'Load Profiles'!$P$16","v":256.3918300653595},{"$f":"'Inputs and Totals'!B50*'Load Profiles'!$Q$16","v":246.81180101670301},{"$f":"'Inputs and Totals'!B50*'Load Profiles'!$R$16","v":263.70290486565005},{"$f":"'Inputs and Totals'!B50*'Load Profiles'!$S$16","v":309.08198983297029},{"$f":"'Inputs and Totals'!B50*'Load Profiles'!$T$16","v":385.47011619462603},{"$f":"'Inputs and Totals'!B50*'Load Profiles'!$U$16","v":403.8738562091504},{"$f":"'Inputs and Totals'!B50*'Load Profiles'!$V$16","v":399.08384168482212},{"$f":"'Inputs and Totals'!B50*'Load Profiles'!$W$16","v":392.78119099491653},{"$f":"'Inputs and Totals'!B50*'Load Profiles'!$X$16","v":368.83111837327533},{"$f":"'Inputs and Totals'!B50*'Load Profiles'!$Y$16","v":316.89727668845319},{"$f":"'Inputs and Totals'!B50*'Load Profiles'!$Z$16","v":200.42429193899784},6943.0000000000027]
[]
["Solar Generation (kWh)","Hour 0","Hour 1","Hour 2","Hour 3","Hour 4","Hour 5","Hour 6","Hour 7","Hour 8","Hour 9","Hour 10","Hour 11","Hour 12","Hour 13","Hour 14","Hour 15","Hour 16","Hour 17","Hour 18","Hour 19","Hour 20","Hour 21","Hour 22","Hour 23","TOTALS"]
["Day 1",{"$f":"IF('Inputs and Totals'!C20 = 1,'Solar Profiles'!$C$3*'Inputs and Totals'!$B$9*'Inputs and Totals'!$B$8*0.001, IF('Inputs and Totals'!C20 =2,'Solar Profiles'!$C$4*'Inputs and Totals'!$B$8*'Inputs and Totals'!$B$9*0.001,IF('Inputs and Totals'!C20 =3,'Solar Profiles'!$C$5*'Inputs and Totals'!$B$8*'Inputs and Totals'!$B$9*0.001,\"Error\")))","v":0},{"$f":"IF('Inputs and Totals'!C20 = 1,'Solar Profiles'!$D$3*'Inputs and Totals'!$B$9*'Inputs and Totals'!$B$8*0.001, IF('Inputs and Totals'!C20 =2,'Solar Profiles'!$D$4*'Inputs and Totals'!$B$8*'Inputs and Totals'!$B$9*0.001,IF('Inputs and Totals'!C20 =3,'Solar Profiles'!$D$5*'Inputs and Totals'!$B$8*'Inputs and Totals'!$B$9*0.001,\"Error\")))","v":0},{"$f":"IF('Inputs and Totals'!C20 = 1,'Solar Profiles'!$E$3*'Inputs and Totals'!$B$9*'Inputs and Totals'!$B$8*0.001, IF('Inputs and Totals'!C20 =2,'Solar Profiles'!$E$4*'Inputs and Totals'!$B$8*'Inputs and Totals'!$B$9*0.001,IF('Inputs and Totals'!C20 =3,'Solar Profiles'!$E$5*'Inputs and Totals'!$B$8*'Inputs and Totals'!$B$9*0.001,\"Error\")))","v":0},{"$f":"IF('Inputs and Totals'!C20 = 1,'Solar Profiles'!$F$3*'Inputs and Totals'!$B$9*'Inputs and Totals'!$B$8*0.001, IF('Inputs and Totals'!C20 =2,'Solar Profiles'!$F$4*'Inputs and Totals'!$B$8*'Inputs and Totals'!$B$9*0.001,IF('Inputs and Totals'!C20 =3,'Solar Profiles'!$F$5*'Inputs and Totals'!$B$8*'Inputs and Totals'!$B$9*0.001,\"Error\")))","v":0},{"$f":"IF('Inputs and Totals'!C20 = 1,'Solar Profiles'!$G$3*'Inputs and Totals'!$B$9*'Inputs and Totals'!$B$8*0.001, IF('Inputs and Totals'!C20 =2,'Solar Profiles'!$G$4*'Inputs and Totals'!$B$8*'Inputs and Totals'!$B$9*0.001,IF('Inputs and Totals'!C20 =3,'Solar Profiles'!$G$5*'Inputs and Totals'!$B$8*'Inputs and Totals'!$B$9*0.001,\"Error\")))","v":0},{"$f":"IF('Inputs and Totals'!C20 = 1,'Solar Profiles'!$H$3*'Inputs and Totals'!$B$9*'Inputs and Totals'!$B$8*0.001, IF('Inputs and Totals'!C20 =2,'Solar Profiles'!$H$4*'Inputs and Totals'!$B$8*'Inputs and Totals'!$B$9*0.001,IF('Inputs and Totals'!C20 =3,'Solar Profiles'!$H$5*'Inputs and Totals'!$B$8*'Inputs and Totals'!$B$9*0.001,\"Error\")))","v":0},{"$f":"IF('Inputs and Totals'!C20 = 1,'Solar Profiles'!$I$3*'Inputs and Totals'!$B$9*'Inputs and Totals'!$B$8*0.001, IF('Inputs and Totals'!C20 =2,'Solar Profiles'!$I$4*'Inputs and Totals'!$B$8*'Inputs and Totals'!$B$9*0.001,IF('Inputs and Totals'!C20 =3,'Solar Profiles'!$I$5*'Inputs and Totals'!$B$8*'Inputs and Totals'!$B$9*0.001,\"Error\")))","v":0},{"$f":"IF('Inputs and Totals'!C20 = 1,'Solar Profiles'!$J$3*'Inputs and Totals'!$B$9*'Inputs and Totals'!$B$8*0.001, IF('Inputs and Totals'!C20 =2,'Solar Profiles'!$J$4*'Inputs and Totals'!$B$8*'Inputs and Totals'!$B$9*0.001,IF('Inputs and Totals'!C20 =3,'Solar Profiles'!$J$5*'Inputs and Totals'!$B$8*'Inputs and Totals'!$B$9*0.001,\"Error\")))","v":199.98000000000002},{"$f":"IF('Inputs and Totals'!C20 = 1,'Solar Profiles'!$K$3*'Inputs and Totals'!$B$9*'Inputs and Totals'!$B$8*0.001, IF('Inputs and Totals'!C20 =2,'Solar Profiles'!$K$4*'Inputs and Totals'!$B$8*'Inputs and Totals'!$B$9*0.001,IF('Inputs and Totals'!C20 =3,'Solar Profiles'!$K$5*'Inputs and Totals'!$B$8*'Inputs and Totals'!$B$9*0.001,\"Error\")))","v":199.98000000000002},{"$f":"IF('Inputs and Totals'!C20 = 1,'Solar Profiles'!$L$3*'Inputs and Totals'!$B$9*'Inputs and Totals'!$B$8*0.001, IF('Inputs and Totals'!C20 =2,'Solar Profiles'!$L$4*'Inputs and Totals'!$B$8*'Inputs and Totals'!$B$9*0.001,IF('Inputs and Totals'!C20 =3,'Solar Profiles'!$L$5*'Inputs and Totals'!$B$8*'Inputs and Totals'!$B$9*0.001,\"Error\")))","v":399.96000000000004},{"$f":"IF('Inputs and Totals'!C20 = 1,'Solar Profiles'!$M$3*'Inputs and Totals'!$B$9*'Inputs and Totals'!$B$8*0.001, IF('Inputs and Totals'!C20 =2,'Solar Profiles'!$M$4*'Inputs and Totals'!$B$8*'Inputs and Totals'!$B$9*0.001,IF('Inputs and Totals'!C20 =3,'Solar Profiles'!$M$5*'Inputs and Totals'!$B$8*'Inputs and Totals'!$B$9*0.001,\"Error\")))","v":599.94000000000005},{"$f":"IF('Inputs and Totals'!C20 = 1,'Solar Profiles'!$N$3*'Inputs and Totals'!$B$9*'Inputs and Totals'!$B$8*0.001, IF('Inputs and Totals'!C20 =2,'Solar Profiles'!$N$4*'Inputs and Totals'!$B$8*'Inputs and Totals'!$B$9*0.001,IF('Inputs and Totals'!C20 =3,'Solar Profiles'!$N$5*'Inputs and Totals'!$B$8*'Inputs and Totals'!$B$9*0.001,\"Error\")))","v":999.9},{"$f":"IF('Inputs and Totals'!C20 = 1,'Solar Profiles'!$O$3*'Inputs and Totals'!$B$9*'Inputs and Totals'!$B$8*0.001, IF('Inputs and Totals'!C20 =2,'Solar Profiles'!$O$4*'Inputs and Totals'!$B$8*'Inputs and Totals'!$B$9*0.001,IF('Inputs and Totals'!C20 =3,'Solar Profiles'!$O$5*'Inputs and Totals'!$B$8*'Inputs and Totals'!$B$9*0.001,\"Error\")))","v":1799.82},{"$f":"IF('Inputs and Totals'!C20 = 1,'Solar Profiles'!$P$3*'Inputs and Totals'!$B$9*'Inputs and Totals'!$B$8*0.001, IF('Inputs and Totals'!C20 =2,'Solar Profiles'!$P$4*'Inputs and Totals'!$B$8*'Inputs and Totals'!$B$9*0.001,IF('Inputs and Totals'!C20 =3,'Solar Profiles'!$P$5*'Inputs and Totals'!$B$8*'Inputs and Totals'!$B$9*0.001,\"Error\")))","v":1999.8},{"$f":"IF('Inputs and Totals'!C20 = 1,'Solar Profiles'!$Q$3*'Inputs and Totals'!$B$9*'Inputs and Totals'!$B$8*0.001, IF('Inputs and Totals'!C20 =2,'Solar Profiles'!$Q$4*'Inputs and Totals'!$B$8*'Inputs and Totals'!$B$9*0.001,IF('Inputs and Totals'!C20 =3,'Solar Profiles'!$Q$5*'Inputs and Totals'!$B$8*'Inputs and Totals'!$B$9*0.001,\"Error\")))","v":1199.8800000000001},{"$f":"IF('Inputs and Totals'!C20 = 1,'Solar Profiles'!$R$3*'Inputs and Totals'!$B$9*'Inputs and Totals'!$B$8*0.001, IF('Inputs and Totals'!C20 =2,'Solar Profiles'!$R$4*'Inputs and Totals'!$B$8*'Inputs and Totals'!$B$9*0.001,IF('Inputs and Totals'!C20 =3,'Solar Profiles'!$R$5*'Inputs and Totals'!$B$8*'Inputs and Totals'!$B$9*0.001,\"Error\")))","v":999.9},{"$f":"IF('Inputs and Totals'!C20 = 1,'Solar Profiles'!$S$3*'Inputs and Totals'!$B$9*'Inputs and Totals'!$B$8*0.001, IF('Inputs and Totals'!C20 =2,'Solar Profiles'!$S$4*'Inputs and Totals'!$B$8*'Inputs and Totals'!$B$9*0.001,IF('Inputs and Totals'!C20 =3,'Solar Profiles'!$S$5*'Inputs and Totals'!$B$8*'Inputs and Totals'!$B$9*0.001,\"Error\")))","v":599.94000000000005},{"$f":"IF('Inputs and Totals'!C20 = 1,'Solar Profiles'!$T$3*'Inputs and Totals'!$B$9*'Inputs and Totals'!$B$8*0.001, IF('Inputs and Totals'!C20 =2,'Solar Profiles'!$T$4*'Inputs and Totals'!$B$8*'Inputs and Totals'!$B$9*0.001,IF('Inputs and Totals'!C20 =3,'Solar Profiles'!$T$5*'Inputs and Totals'!$B$8*'Inputs and Totals'!$B$9*0.001,\"Error\")))","v":199.98000000000002},{"$f":"IF('Inputs and Totals'!C20 = 1,'Solar Profiles'!$U$3*'Inputs and Totals'!$B$9*'Inputs and Totals'!$B$8*0.001, IF('Inputs and Totals'!C20 =2,'Solar Profiles'!$U$4*'Inputs and Totals'!$B$8*'Inputs and Totals'!$B$9*0.001,IF('Inputs and Totals'!C20 =3,'Solar Profiles'!$U$5*'Inputs and Totals'!$B$8*'Inputs and Totals'!$B$9*0.001,\"Error\")))","v":0},{"$f":"IF('Inputs and Totals'!C20 = 1,'Solar Profiles'!$V$3*'Inputs and Totals'!$B$9*'Inputs and Totals'!$B$8*0.001, IF('Inputs and Totals'!C20 =2,'Solar Profiles'!$V$4*'Inputs and Totals'!$B$8*'Inputs and Totals'!$B$9*0.001,IF('Inputs and Totals'!C20 =3,'Solar Profiles'!$V$5*'Inputs and Totals'!$B$8*'Inputs and Totals'!$B$9*0.001,\"Error\")))","v":0},{"$f":"IF('Inputs and Totals'!C20 = 1,'Solar Profiles'!$W$3*'Inputs and Totals'!$B$9*'Inputs and Totals'!$B$8*0.001, IF('Inputs and Totals'!C20 =2,'Solar Profiles'!$W$4*'Inputs and Totals'!$B$8*'Inputs and Totals'!$B$9*0.001,IF('Inputs and Totals'!C20 =3,'Solar Profiles'!$W$5*'Inputs and Totals'!$B$8*'Inputs and Totals'!$B$9*0.001,\"Error\")))","v":0},{"$f":"IF('Inputs and Totals'!C20 = 1,'Solar Profiles'!$X$3*'Inputs and Totals'!$B$9*'Inputs and Totals'!$B$8*0.001, IF('Inputs and Totals'!C20 =2,'Solar Profiles'!$X$4*'Inputs and Totals'!$B$8*'Inputs and Totals'!$B$9*0.001,IF('Inputs and Totals'!C20 =3,'Solar Profiles'!$X$5*'Inputs and Totals'!$B$8*'Inputs and Totals'!$B$9*0.001,\"Error\")))","v":0},{"$f":"IF('Inputs and Totals'!C20 = 1,'Solar Profiles'!$Y$3*'Inputs and Totals'!$B$9*'Inputs and Totals'!$B$8*0.001, IF('Inputs and Totals'!C20 =2,'Solar Profiles'!$Y$4*'Inputs and Totals'!$B$8*'Inputs and Totals'!$B$9*0.001,IF('Inputs and Totals'!C20 =3,'Solar Profiles'!$Y$5*'Inputs and Totals'!$B$8*'Inputs and Totals'!$B$9*0.001,\"Error\")))","v":0},{"$f":"IF('Inputs and Totals'!C20 = 1,'Solar Profiles'!$Z$3*'Inputs and Totals'!$B$9*'Inputs and Totals'!$B$8*0.001, IF('Inputs and Totals'!C20 =2,'Solar Profiles'!$Z$4*'Inputs and Totals'!$B$8*'Inputs and Totals'!$B$9*0.001,IF('Inputs and Totals'!C20 =3,'Solar Profiles'!$Z$5*'Inputs and Totals'!$B$8*'Inputs and Totals'!$B$9*0.001,\"Error\")))","v":0},{"$f":"SUM(B35:Y35)","v":9199.08}]
["Day 2",{"$f":"IF('Inputs and Totals'!C21 = 1,'Solar Profiles'!$C$3*'Inputs and Totals'!$B$9*'Inputs and Totals'!$B$8*0.001, IF('Inputs and Totals'!C21 =2,'Solar Profiles'!$C$4*'Inputs and Totals'!$B$8*'Inputs and Totals'!$B$9*0.001,IF('Inputs and Totals'!C21 =3,'Solar Profiles'!$C$5*'Inputs and Totals'!$B$8*'Inputs and Totals'!$B$9*0.001,\"Error\")))","v":0},{"$f":"IF('Inputs and Totals'!C21 = 1,'Solar Profiles'!$D$3*'Inputs and Totals'!$B$9*'Inputs and Totals'!$B$8*0.001, IF('Inputs and Totals'!C21 =2,'Solar Profiles'!$D$4*'Inputs and Totals'!$B$8*'Inputs and Totals'!$B$9*0.001,IF('Inputs and Totals'!C21 =3,'Solar Profiles'!$D$5*'Inputs and Totals'!$B$8*'Inputs and Totals'!$B$9*0.001,\"Error\")))","v":0},{"$f":"IF('Inputs and Totals'!C21 = 1,'Solar Profiles'!$E$3*'Inputs and Totals'!$B$9*'Inputs and Totals'!$B$8*0.001, IF('Inputs and Totals'!C21 =2,'Solar Profiles'!$E$4*'Inputs and Totals'!$B$8*'Inputs and Totals'!$B$9*0.001,IF('Inputs and Totals'!C21 =3,'Solar Profiles'!$E$5*'Inputs and Totals'!$B$8*'Inputs and Totals'!$B$9*0.001,\"Error\")))","v":0},{"$f":"IF('Inputs and Totals'!C21 = 1,'Solar Profiles'!$F$3*'Inputs and Totals'!$B$9*'Inputs and Totals'!$B$8*0.001, IF('Inputs and Totals'!C21 =2,'Solar Profiles'!$F$4*'Inputs and Totals'!$B$8*'Inputs and Totals'!$B$9*0.001,IF('Inputs and Totals'!C21 =3,'Solar Profiles'!$F$5*'Inputs and Totals'!$B$8*'Inputs and Totals'!$B$9*0.001,\"Error\")))","v":0},{"$f":"IF('Inputs and Totals'!C21 = 1,'Solar Profiles'!$G$3*'Inputs and Totals'!$B$9*'Inputs and Totals'!$B$8*0.001, IF('Inputs and Totals'!C21 =2,'Solar Profiles'!$G$4*'Inputs and Totals'!$B$8*'Inputs and Totals'!$B$9*0.001,IF('Inputs and Totals'!C21 =3,'Solar Profiles'!$G$5*'Inputs and Totals'!$B$8*'Inputs and Totals'!$B$9*0.001,\"Error\")))","v":0},{"$f":"IF('Inputs and Totals'!C21 = 1,'Solar Profiles'!$H$3*'Inputs and Totals'!$B$9*'Inputs and Totals'!$B$8*0.001, IF('Inputs and Totals'!C21 =2,'Solar Profiles'!$H$4*'Inputs and Totals'!$B$8*'Inputs and Totals'!$B$9*0.001,IF('Inputs and Totals'!C21 =3,'Solar Profiles'!$H$5*'Inputs and Totals'!$B$8*'Inputs and Totals'!$B$9*0.001,\"Error\")))","v":0},{"$f":"IF('Inputs and Totals'!C21 = 1,'Solar Profiles'!$I$3*'Inputs and Totals'!$B$9*'Inputs and Totals'!$B$8*0.001, IF('Inputs and Totals'!C21 =2,'Solar Profiles'!$I$4*'Inputs and Totals'!$B$8*'Inputs and Totals'!$B$9*0.001,IF('Inputs and Totals'!C21 =3,'Solar Profiles'!$I$5*'Inputs and Totals'!$B$8*'Inputs and Totals'!$B$9*0.001,\"Error\")))","v":0},{"$f":"IF('Inputs and Totals'!C21 = 1,'Solar Profiles'!$J$3*'Inputs and Totals'!$B$9*'Inputs and Totals'!$B$8*0.001, IF('Inputs and Totals'!C21 =2,'Solar Profiles'!$J$4*'Inputs and Totals'!$B$8*'Inputs and Totals'!$B$9*0.001,IF('Inputs and Totals'!C21 =3,'Solar Profiles'!$J$5*'Inputs and Totals'!$B$8*'Inputs and Totals'!$B$9*0.001,\"Error\")))","v":99.990000000000009},{"$f":"IF('Inputs and Totals'!C21 = 1,'Solar Profiles'!$K$3*'Inputs and Totals'!$B$9*'Inputs and Totals'!$B$8*0.001, IF('Inputs and Totals'!C21 =2,'Solar Profiles'!$K$4*'Inputs and Totals'!$B$8*'Inputs and Totals'!$B$9*0.001,IF('Inputs and Totals'!C21 =3,'Solar Profiles'!$K$5*'Inputs and Totals'!$B$8*'Inputs and Totals'!$B$9*0.001,\"Error\")))","v":199.98000000000002},{"$f":"IF('Inputs and Totals'!C21 = 1,'Solar Profiles'!$L$3*'Inputs and Totals'!$B$9*'Inputs and Totals'!$B$8*0.001, IF('Inputs and Totals'!C21 =2,'Solar Profiles'!$L$4*'Inputs and Totals'!$B$8*'Inputs and Totals'!$B$9*0.001,IF('Inputs and Totals'!C21 =3,'Solar Profiles'!$L$5*'Inputs and Totals'!$B$8*'Inputs and Totals'!$B$9*0.001,\"Error\")))","v":299.97000000000003},{"$f":"IF('Inputs and Totals'!C21 = 1,'Solar Profiles'!$M$3*'Inputs and Totals'!$B$9*'Inputs and Totals'!$B$8*0.001, IF('Inputs and Totals'!C21 =2,'Solar Profiles'!$M$4*'Inputs and Totals'!$B$8*'Inputs and Totals'!$B$9*0.001,IF('Inputs and Totals'!C21 =3,'Solar Profiles'!$M$5*'Inputs and Totals'!$B$8*'Inputs and Totals'!$B$9*0.001,\"Error\")))","v":399.96000000000004},{"$f":"IF('Inputs and Totals'!C21 = 1,'Solar Profiles'!$N$3*'Inputs and Totals'!$B$9*'Inputs and Totals'!$B$8*0.001, IF('Inputs and Totals'!C21 =2,'Solar Profiles'!$N$4*'Inputs and Totals'!$B$8*'Inputs and Totals'!$B$9*0.001,IF('Inputs and Totals'!C21 =3,'Solar Profiles'!$N$5*'Inputs and Totals'!$B$8*'Inputs and Totals'!$B$9*0.001,\"Error\")))","v":799.92000000000007},{"$f":"IF('Inputs and Totals'!C21 = 1,'Solar Profiles'!$O$3*'Inputs and Totals'!$B$9*'Inputs and Totals'!$B$8*0.001, IF('Inputs and Totals'!C21 =2,'Solar Profiles'!$O$4*'Inputs and Totals'!$B$8*'Inputs and Totals'!$B$9*0.001,IF('Inputs and Totals'!C21 =3,'Solar Profiles'!$O$5*'Inputs and Totals'!$B$8*'Inputs and Totals'!$B$9*0.001,\"Error\")))","v":999.9},{"$f":"IF('Inputs and Totals'!C21 = 1,'Solar Profiles'!$P$3*'Inputs and Totals'!$B$9*'Inputs and Totals'!$B$8*0.001, IF('Inputs and Totals'!C21 =2,'Solar Profiles'!$P$4*'Inputs and Totals'!$B$8*'Inputs and Totals'!$B$9*0.001,IF('Inputs and Totals'!C21 =3,'Solar Profiles'!$P$5*'Inputs and Totals'!$B$8*'Inputs and Totals'!$B$9*0.001,\"Error\")))","v":999.9},{"$f":"IF('Inputs and Totals'!C21 = 1,'Solar Profiles'!$Q$3*'Inputs and Totals'!$B$9*'Inputs and Totals'!$B$8*0.001, IF('Inputs and Totals'!C21 =2,'Solar Profiles'!$Q$4*'Inputs and Totals'!$B$8*'Inputs and Totals'!$B$9*0.001,IF('Inputs and Totals'!C21 =3,'Solar Profiles'!$Q$5*'Inputs and Totals'!$B$8*'Inputs and Totals'!$B$9*0.001,\"Error\")))","v":799.92000000000007},{"$f":"IF('Inputs and Totals'!C21 = 1,'Solar Profiles'!$R$3*'Inputs and Totals'!$B$9*'Inputs and Totals'!$B$8*0.001, IF('Inputs and Totals'!C21 =2,'Solar Profiles'!$R$4*'Inputs and Totals'!$B$8*'Inputs and Totals'!$B$9*0.001,IF('Inputs and Totals'!C21 =3,'Solar Profiles'!$R$5*'Inputs and Totals'!$B$8*'Inputs and Totals'!$B$9*0.001,\"Error\")))","v":599.94000000000005},{"$f":"IF('Inputs and Totals'!C21 = 1,'Solar Profiles'!$S$3*'Inputs and Totals'!$B$9*'Inputs and Totals'!$B$8*0.001, IF('Inputs and Totals'!C21 =2,'Solar Profiles'!$S$4*'Inputs and Totals'!$B$8*'Inputs and Totals'!$B$9*0.001,IF('Inputs and Totals'!C21 =3,'Solar Profiles'!$S$5*'Inputs and Totals'!$B$8*'Inputs and Totals'!$B$9*0.001,\"Error\")))","v":399.96000000000004},{"$f":"IF('Inputs and Totals'!C21 = 1,'Solar Profiles'!$T$3*'Inputs and Totals'!$B$9*'Inputs and Totals'!$B$8*0.001, IF('Inputs and Totals'!C21 =2,'Solar Profiles'!$T$4*'Inputs and Totals'!$B$8*'Inputs and Totals'!$B$9*0.001,IF('Inputs and Totals'!C21 =3,'Solar Profiles'!$T$5*'Inputs and Totals'!$B$8*'Inputs and Totals'!$B$9*0.001,\"Error\")))","v":199.98000000000002},{"$f":"IF('Inputs and Totals'!C21 = 1,'Solar Profiles'!$U$3*'Inputs and Totals'!$B$9*'Inputs and Totals'!$B$8*0.001, IF('Inputs and Totals'!C21 =2,'Solar Profiles'!$U$4*'Inputs and Totals'!$B$8*'Inputs and Totals'!$B$9*0.001,IF('Inputs and Totals'!C21 =3,'Solar Profiles'!$U$5*'Inputs and Totals'!$B$8*'Inputs and Totals'!$B$9*0.001,\"Error\")))","v":0},{"$f":"IF('Inputs and Totals'!C21 = 1,'Solar Profiles'!$V$3*'Inputs and Totals'!$B$9*'Inputs and Totals'!$B$8*0.001, IF('Inputs and Totals'!C21 =2,'Solar Profiles'!$V$4*'Inputs and Totals'!$B$8*'Inputs and Totals'!$B$9*0.001,IF('Inputs and Totals'!C21 =3,'Solar Profiles'!$V$5*'Inputs and Totals'!$B$8*'Inputs and Totals'!$B$9*0.001,\"Error\")))","v":0},{"$f":"IF('Inputs and Totals'!C21 = 1,'Solar Profiles'!$W$3*'Inputs and Totals'!$B$9*'Inputs and Totals'!$B$8*0.001, IF('Inputs and Totals'!C21 =2,'Solar Profiles'!$W$4*'Inputs and Totals'!$B$8*'Inputs and Totals'!$B$9*0.001,IF('Inputs and Totals'!C21 =3,'Solar Profiles'!$W$5*'Inputs and Totals'!$B$8*'Inputs and Totals'!$B$9*0.001,\"Error\")))","v":0},{"$f":"IF('Inputs and Totals'!C21 = 1,'Solar Profiles'!$X$3*'Inputs and Totals'!$B$9*'Inputs and Totals'!$B$8*0.001, IF('Inputs and Totals'!C21 =2,'Solar Profiles'!$X$4*'Inputs and Totals'!$B$8*'Inputs and Totals'!$B$9*0.001,IF('Inputs and Totals'!C21 =3,'Solar Profiles'!$X$5*'Inputs and Totals'!$B$8*'Inputs and Totals'!$B$9*0.001,\"Error\")))","v":0},{"$f":"IF('Inputs and Totals'!C21 = 1,'Solar Profiles'!$Y$3*'Inputs and Totals'!$B$9*'Inputs and Totals'!$B$8*0.001, IF('Inputs and Totals'!C21 =2,'Solar Profiles'!$Y$4*'Inputs and Totals'!$B$8*'Inputs and Totals'!$B$9*0.001,IF('Inputs and Totals'!C21 =3,'Solar Profiles'!$Y$5*'Inputs and Totals'!$B$8*'Inputs and Totals'!$B$9*0.001,\"Error\")))","v":0},{"$f":"IF('Inputs and Totals'!C21 = 1,'Solar Profiles'!$Z$3*'Inputs and Totals'!$B$9*'Inputs and Totals'!$B$8*0.001, IF('Inputs and Totals'!C21 =2,'Solar Profiles'!$Z$4*'Inputs and Totals'!$B$8*'Inputs and Totals'!$B$9*0.001,IF('Inputs and Totals'!C21 =3,'Solar Profiles'!$Z$5*'Inputs and Totals'!$B$8*'Inputs and Totals'!$B$9*0.001,\"Error\")))","v":0},{"$f":"SUM(B36:Y36)","v":5799.4200000000019}]
["Day 3",{"$f":"IF('Inputs and Totals'!C22 = 1,'Solar Profiles'!$C$3*'Inputs and Totals'!$B$9*'Inputs and Totals'!$B$8*0.001, IF('Inputs and Totals'!C22 =2,'Solar Profiles'!$C$4*'Inputs and Totals'!$B$8*'Inputs and Totals'!$B$9*0.001,IF('Inputs and Totals'!C22 =3,'Solar Profiles'!$C$5*'Inputs and Totals'!$B$8*'Inputs and Totals'!$B$9*0.001,\"Error\")))","v":0},{"$f":"IF('Inputs and Totals'!C22 = 1,'Solar Profiles'!$D$3*'Inputs and Totals'!$B$9*'Inputs and Totals'!$B$8*0.001, IF('Inputs and Totals'!C22 =2,'Solar Profiles'!$D$4*'Inputs and Totals'!$B$8*'Inputs and Totals'!$B$9*0.001,IF('Inputs and Totals'!C22 =3,'Solar Profiles'!$D$5*'Inputs and Totals'!$B$8*'Inputs and Totals'!$B$9*0.001,\"Error\")))","v":0},{"$f":"IF('Inputs and Totals'!C22 = 1,'Solar Profiles'!$E$3*'Inputs and Totals'!$B$9*'Inputs and Totals'!$B$8*0.001, IF('Inputs and Totals'!C22 =2,'Solar Profiles'!$E$4*'Inputs and Totals'!$B$8*'Inputs and Totals'!$B$9*0.001,IF('Inputs and Totals'!C22 =3,'Solar Profiles'!$E$5*'Inputs and Totals'!$B$8*'Inputs and Totals'!$B$9*0.001,\"Error\")))","v":0},{"$f":"IF('Inputs and Totals'!C22 = 1,'Solar Profiles'!$F$3*'Inputs and Totals'!$B$9*'Inputs and Totals'!$B$8*0.001, IF('Inputs and Totals'!C22 =2,'Solar Profiles'!$F$4*'Inputs and Totals'!$B$8*'Inputs and Totals'!$B$9*0.001,IF('Inputs and Totals'!C22 =3,'Solar Profiles'!$F$5*'Inputs and Totals'!$B$8*'Inputs and Totals'!$B$9*0.001,\"Error\")))","v":0},{"$f":"IF('Inputs and Totals'!C22 = 1,'Solar Profiles'!$G$3*'Inputs and Totals'!$B$9*'Inputs and Totals'!$B$8*0.001, IF('Inputs and Totals'!C22 =2,'Solar Profiles'!$G$4*'Inputs and Totals'!$B$8*'Inputs and Totals'!$B$9*0.001,IF('Inputs and Totals'!C22 =3,'Solar Profiles'!$G$5*'Inputs and Totals'!$B$8*'Inputs and Totals'!$B$9*0.001,\"Error\")))","v":0},{"$f":"IF('Inputs and Totals'!C22 = 1,'Solar Profiles'!$H$3*'Inputs and Totals'!$B$9*'Inputs and Totals'!$B$8*0.001, IF('Inputs and Totals'!C22 =2,'Solar Profiles'!$H$4*'Inputs and Totals'!$B$8*'Inputs and Totals'!$B$9*0.001,IF('Inputs and Totals'!C22 =3,'Solar Profiles'!$H$5*'Inputs and Totals'!$B$8*'Inputs and Totals'!$B$9*0.001,\"Error\")))","v":0},{"$f":"IF('Inputs and Totals'!C22 = 1,'Solar Profiles'!$I$3*'Inputs and Totals'!$B$9*'Inputs and Totals'!$B$8*0.001, IF('Inputs and Totals'!C22 =2,'Solar Profiles'!$I$4*'Inputs and Totals'!$B$8*'Inputs and Totals'!$B$9*0.001,IF('Inputs and Totals'!C22 =3,'Solar Profiles'!$I$5*'Inputs and Totals'!$B$8*'Inputs and Totals'!$B$9*0.001,\"Error\")))","v":0},{"$f":"IF('Inputs and Totals'!C22 = 1,'Solar Profiles'!$J$3*'Inputs and Totals'!$B$9*'Inputs and Totals'!$B$8*0.001, IF('Inputs and Totals'!C22 =2,'Solar Profiles'!$J$4*'Inputs and Totals'!$B$8*'Inputs and Totals'!$B$9*0.001,IF('Inputs and Totals'!C22 =3,'Solar Profiles'!$J$5*'Inputs and Totals'!$B$8*'Inputs and Totals'!$B$9*0.001,\"Error\")))","v":199.98000000000002},{"$f":"IF('Inputs and Totals'!C22 = 1,'Solar Profiles'!$K$3*'Inputs and Totals'!$B$9*'Inputs and Totals'!$B$8*0.001, IF('Inputs and Totals'!C22 =2,'Solar Profiles'!$K$4*'Inputs and Totals'!$B$8*'Inputs and Totals'!$B$9*0.001,IF('Inputs and Totals'!C22 =3,'Solar Profiles'!$K$5*'Inputs and Totals'!$B$8*'Inputs and Totals'!$B$9*0.001,\"Error\")))","v":199.98000000000002},{"$f":"IF('Inputs and Totals'!C22 = 1,'Solar Profiles'!$L$3*'Inputs and Totals'!$B$9*'Inputs and Totals'!$B$8*0.001, IF('Inputs and Totals'!C22 =2,'Solar Profiles'!$L$4*'Inputs and Totals'!$B$8*'Inputs and Totals'!$B$9*0.001,IF('Inputs and Totals'!C22 =3,'Solar Profiles'!$L$5*'Inputs and Totals'!$B$8*'Inputs and Totals'!$B$9*0.001,\"Error\")))","v":399.96000000000004},{"$f":"IF('Inputs and Totals'!C22 = 1,'Solar Profiles'!$M$3*'Inputs and Totals'!$B$9*'Inputs and Totals'!$B$8*0.001, IF('Inputs and Totals'!C22 =2,'Solar Profiles'!$M$4*'Inputs and Totals'!$B$8*'Inputs and Totals'!$B$9*0.001,IF('Inputs and Totals'!C22 =3,'Solar Profiles'!$M$5*'Inputs and Totals'!$B$8*'Inputs and Totals'!$B$9*0.001,\"Error\")))","v":599.94000000000005},{"$f":"IF('Inputs and Totals'!C22 = 1,'Solar Profiles'!$N$3*'Inputs and Totals'!$B$9*'Inputs and Totals'!$B$8*0.001, IF('Inputs and Totals'!C22 =2,'Solar Profiles'!$N$4*'Inputs and Totals'!$B$8*'Inputs and Totals'!$B$9*0.001,IF('Inputs and Totals'!C22 =3,'Solar Profiles'!$N$5*'Inputs and Totals'!$B$8*'Inputs and Totals'!$B$9*0.001,\"Error\")))","v":999.9},{"$f":"IF('Inputs and Totals'!C22 = 1,'Solar Profiles'!$O$3*'Inputs and Totals'!$B$9*'Inputs and Totals'!$B$8*0.001, IF('Inputs and Totals'!C22 =2,'Solar Profiles'!$O$4*'Inputs and Totals'!$B$8*'Inputs and Totals'!$B$9*0.001,IF('Inputs and Totals'!C22 =3,'Solar Profiles'!$O$5*'Inputs and Totals'!$B$8*'Inputs and Totals'!$B$9*0.001,\"Error\")))","v":1799.82},{"$f":"IF('Inputs and Totals'!C22 = 1,'Solar Profiles'!$P$3*'Inputs and Totals'!$B$9*'Inputs and Totals'!$B$8*0.001, IF('Inputs and Totals'!C22 =2,'Solar Profiles'!$P$4*'Inputs and Totals'!$B$8*'Inputs and Totals'!$B$9*0.001,IF('Inputs and Totals'!C22 =3,'Solar Profiles'!$P$5*'Inputs and Totals'!$B$8*'Inputs and Totals'!$B$9*0.001,\"Error\")))","v":1999.8},{"$f":"IF('Inputs and Totals'!C22 = 1,'Solar Profiles'!$Q$3*'Inputs and Totals'!$B$9*'Inputs and Totals'!$B$8*0.001, IF('Inputs and Totals'!C22 =2,'Solar Profiles'!$Q$4*'Inputs and Totals'!$B$8*'Inputs and Totals'!$B$9*0.001,IF('Inputs and Totals'!C22 =3,'Solar Profiles'!$Q$5*'Inputs and Totals'!$B$8*'Inputs and Totals'!$B$9*0.001,\"Error\")))","v":1199.8800000000001},{"$f":"IF('Inputs and Totals'!C22 = 1,'Solar Profiles'!$R$3*'Inputs and Totals'!$B$9*'Inputs and Totals'!$B$8*0.001, IF('Inputs and Totals'!C22 =2,'Solar Profiles'!$R$4*'Inputs and Totals'!$B$8*'Inputs and Totals'!$B$9*0.001,IF('Inputs and Totals'!C22 =3,'Solar Profiles'!$R$5*'Inputs and Totals'!$B$8*'Inputs and Totals'!$B$9*0.001,\"Error\")))","v":999.9},{"$f":"IF('Inputs and Totals'!C22 = 1,'Solar Profiles'!$S$3*'Inputs and Totals'!$B$9*'Inputs and Totals'!$B$8*0.001, IF('Inputs and Totals'!C22 =2,'Solar Profiles'!$S$4*'Inputs and Totals'!$B$8*'Inputs and Totals'!$B$9*0.001,IF('Inputs and Totals'!C22 =3,'Solar Profiles'!$S$5*'Inputs and Totals'!$B$8*'Inputs and Totals'!$B$9*0.001,\"Error\")))","v":599.94000000000005},{"$f":"IF('Inputs and Totals'!C22 = 1,'Solar Profiles'!$T$3*'Inputs and Totals'!$B$9*'Inputs and Totals'!$B$8*0.001, IF('Inputs and Totals'!C22 =2,'Solar Profiles'!$T$4*'Inputs and Totals'!$B$8*'Inputs and Totals'!$B$9*0.001,IF('Inputs and Totals'!C22 =3,'Solar Profiles'!$T$5*'Inputs and Totals'!$B$8*'Inputs and Totals'!$B$9*0.001,\"Error\")))","v":199.98000000000002},{"$f":"IF('Inputs and Totals'!C22 = 1,'Solar Profiles'!$U$3*'Inputs and Totals'!$B$9*'Inputs and Totals'!$B$8*0.001, IF('Inputs and Totals'!C22 =2,'Solar Profiles'!$U$4*'Inputs and Totals'!$B$8*'Inputs and Totals'!$B$9*0.001,IF('Inputs and Totals'!C22 =3,'Solar Profiles'!$U$5*'Inputs and Totals'!$B$8*'Inputs and Totals'!$B$9*0.001,\"Error\")))","v":0},{"$f":"IF('Inputs and Totals'!C22 = 1,'Solar Profiles'!$V$3*'Inputs and Totals'!$B$9*'Inputs and Totals'!$B$8*0.001, IF('Inputs and Totals'!C22 =2,'Solar Profiles'!$V$4*'Inputs and Totals'!$B$8*'Inputs and Totals'!$B$9*0.001,IF('Inputs and Totals'!C22 =3,'Solar Profiles'!$V$5*'Inputs and Totals'!$B$8*'Inputs and Totals'!$B$9*0.001,\"Error\")))","v":0},{"$f":"IF('Inputs and Totals'!C22 = 1,'Solar Profiles'!$W$3*'Inputs and Totals'!$B$9*'Inputs and Totals'!$B$8*0.001, IF('Inputs and Totals'!C22 =2,'Solar Profiles'!$W$4*'Inputs and Totals'!$B$8*'Inputs and Totals'!$B$9*0.001,IF('Inputs and Totals'!C22 =3,'Solar Profiles'!$W$5*'Inputs and Totals'!$B$8*'Inputs and Totals'!$B$9*0.001,\"Error\")))","v":0},{"$f":"IF('Inputs and Totals'!C22 = 1,'Solar Profiles'!$X$3*'Inputs and Totals'!$B$9*'Inputs and Totals'!$B$8*0.001, IF('Inputs and Totals'!C22 =2,'Solar Profiles'!$X$4*'Inputs and Totals'!$B$8*'Inputs and Totals'!$B$9*0.001,IF('Inputs and Totals'!C22 =3,'Solar Profiles'!$X$5*'Inputs and Totals'!$B$8*'Inputs and Totals'!$B$9*0.001,\"Error\")))","v":0},{"$f":"IF('Inputs and Totals'!C22 = 1,'Solar Profiles'!$Y$3*'Inputs and Totals'!$B$9*'Inputs and Totals'!$B$8*0.001, IF('Inputs and Totals'!C22 =2,'Solar Profiles'!$Y$4*'Inputs and Totals'!$B$8*'Inputs and Totals'!$B$9*0.001,IF('Inputs and Totals'!C22 =3,'Solar Profiles'!$Y$5*'Inputs and Totals'!$B$8*'Inputs and Totals'!$B$9*0.001,\"Error\")))","v":0},{"$f":"IF('Inputs and Totals'!C22 = 1,'Solar Profiles'!$Z$3*'Inputs and Totals'!$B$9*'Inputs and Totals'!$B$8*0.001, IF('Inputs and Totals'!C22 =2,'Solar Profiles'!$Z$4*'Inputs and Totals'!$B$8*'Inputs and Totals'!$B$9*0.001,IF('Inputs and Totals'!C22 =3,'Solar Profiles'!$Z$5*'Inputs and Totals'!$B$8*'Inputs and Totals'!$B$9*0.001,\"Error\")))","v":0},9199.08]
["Day 4",{"$f":"IF('Inputs and Totals'!C23 = 1,'Solar Profiles'!$C$3*'Inputs and Totals'!$B$9*'Inputs and Totals'!$B$8*0.001, IF('Inputs and Totals'!C23 =2,'Solar Profiles'!$C$4*'Inputs and Totals'!$B$8*'Inputs and Totals'!$B$9*0.001,IF('Inputs and Totals'!C23 =3,'Solar Profiles'!$C$5*'Inputs and Totals'!$B$8*'Inputs and Totals'!$B$9*0.001,\"Error\")))","v":0},{"$f":"IF('Inputs and Totals'!C23 = 1,'Solar Profiles'!$D$3*'Inputs and Totals'!$B$9*'Inputs and Totals'!$B$8*0.001, IF('Inputs and Totals'!C23 =2,'Solar Profiles'!$D$4*'Inputs and Totals'!$B$8*'Inputs and Totals'!$B$9*0.001,IF('Inputs and Totals'!C23 =3,'Solar Profiles'!$D$5*'Inputs and Totals'!$B$8*'Inputs and Totals'!$B$9*0.001,\"Error\")))","v":0},{"$f":"IF('Inputs and Totals'!C23 = 1,'Solar Profiles'!$E$3*'Inputs and Totals'!$B$9*'Inputs and Totals'!$B$8*0.001, IF('Inputs and Totals'!C23 =2,'Solar Profiles'!$E$4*'Inputs and Totals'!$B$8*'Inputs and Totals'!$B$9*0.001,IF('Inputs and Totals'!C23 =3,'Solar Profiles'!$E$5*'Inputs and Totals'!$B$8*'Inputs and Totals'!$B$9*0.001,\"Error\")))","v":0},{"$f":"IF('Inputs and Totals'!C23 = 1,'Solar Profiles'!$F$3*'Inputs and Totals'!$B$9*'Inputs and Totals'!$B$8*0.001, IF('Inputs and Totals'!C23 =2,'Solar Profiles'!$F$4*'Inputs and Totals'!$B$8*'Inputs and Totals'!$B$9*0.001,IF('Inputs and Totals'!C23 =3,'Solar Profiles'!$F$5*'Inputs and Totals'!$B$8*'Inputs and Totals'!$B$9*0.001,\"Error\")))","v":0},{"$f":"IF('Inputs and Totals'!C23 = 1,'Solar Profiles'!$G$3*'Inputs and Totals'!$B$9*'Inputs and Totals'!$B$8*0.001, IF('Inputs and Totals'!C23 =2,'Solar Profiles'!$G$4*'Inputs and Totals'!$B$8*'Inputs and Totals'!$B$9*0.001,IF('Inputs and Totals'!C23 =3,'Solar Profiles'!$G$5*'Inputs and Totals'!$B$8*'Inputs and Totals'!$B$9*0.001,\"Error\")))","v":0},{"$f":"IF('Inputs and Totals'!C23 = 1,'Solar Profiles'!$H$3*'Inputs and Totals'!$B$9*'Inputs and Totals'!$B$8*0.001, IF('Inputs and Totals'!C23 =2,'Solar Profiles'!$H$4*'Inputs and Totals'!$B$8*'Inputs and Totals'!$B$9*0.001,IF('Inputs and Totals'!C23 =3,'Solar Profiles'!$H$5*'Inputs and Totals'!$B$8*'Inputs and Totals'!$B$9*0.001,\"Error\")))","v":0},{"$f":"IF('Inputs and Totals'!C23 = 1,'Solar Profiles'!$I$3*'Inputs and Totals'!$B$9*'Inputs and Totals'!$B$8*0.001, IF('Inputs and Totals'!C23 =2,'Solar Profiles'!$I$4*'Inputs and Totals'!$B$8*'Inputs and Totals'!$B$9*0.001,IF('Inputs and Totals'!C23 =3,'Solar Profiles'!$I$5*'Inputs and Totals'!$B$8*'Inputs and Totals'!$B$9*0.001,\"Error\")))","v":0},{"$f":"IF('Inputs and Totals'!C23 = 1,'Solar Profiles'!$J$3*'Inputs and Totals'!$B$9*'Inputs and Totals'!$B$8*0.001, IF('Inputs and Totals'!C23 =2,'Solar Profiles'!$J$4*'Inputs and Totals'!$B$8*'Inputs and Totals'!$B$9*0.001,IF('Inputs and Totals'!C23 =3,'Solar Profiles'!$J$5*'Inputs and Totals'!$B$8*'Inputs and Totals'!$B$9*0.001,\"Error\")))","v":199.98000000000002},{"$f":"IF('Inputs and Totals'!C23 = 1,'Solar Profiles'!$K$3*'Inputs and Totals'!$B$9*'Inputs and Totals'!$B$8*0.001, IF('Inputs and Totals'!C23 =2,'Solar Profiles'!$K$4*'Inputs and Totals'!$B$8*'Inputs and Totals'!$B$9*0.001,IF('Inputs and Totals'!C23 =3,'Solar Profiles'!$K$5*'Inputs and Totals'!$B$8*'Inputs and Totals'!$B$9*0.001,\"Error\")))","v":399.96000000000004},{"$f":"IF('Inputs and Totals'!C23 = 1,'Solar Profiles'!$L$3*'Inputs and Totals'!$B$9*'Inputs and Totals'!$B$8*0.001, IF('Inputs and Totals'!C23 =2,'Solar Profiles'!$L$4*'Inputs and Totals'!$B$8*'Inputs and Totals'!$B$9*0.001,IF('Inputs and Totals'!C23 =3,'Solar Profiles'!$L$5*'Inputs and Totals'!$B$8*'Inputs and Totals'!$B$9*0.001,\"Error\")))","v":599.94000000000005},{"$f":"IF('Inputs and Totals'!C23 = 1,'Solar Profiles'!$M$3*'Inputs and Totals'!$B$9*'Inputs and Totals'!$B$8*0.001, IF('Inputs and Totals'!C23 =2,'Solar Profiles'!$M$4*'Inputs and Totals'!$B$8*'Inputs and Totals'!$B$9*0.001,IF('Inputs and Totals'!C23 =3,'Solar Profiles'!$M$5*'Inputs and Totals'!$B$8*'Inputs and Totals'!$B$9*0.001,\"Error\")))","v":799.92000000000007},{"$f":"IF('Inputs and Totals'!C23 = 1,'Solar Profiles'!$N$3*'Inputs and Totals'!$B$9*'Inputs and Totals'!$B$8*0.001, IF('Inputs and Totals'!C23 =2,'Solar Profiles'!$N$4*'Inputs and Totals'!$B$8*'Inputs and Totals'!$B$9*0.001,IF('Inputs and Totals'!C23 =3,'Solar Profiles'!$N$5*'Inputs and Totals'!$B$8*'Inputs and Totals'!$B$9*0.001,\"Error\")))","v":1599.8400000000001},{"$f":"IF('Inputs and Totals'!C23 = 1,'Solar Profiles'!$O$3*'Inputs and Totals'!$B$9*'Inputs and Totals'!$B$8*0.001, IF('Inputs and Totals'!C23 =2,'Solar Profiles'!$O$4*'Inputs and Totals'!$B$8*'Inputs and Totals'!$B$9*0.001,IF('Inputs and Totals'!C23 =3,'Solar Profiles'!$O$5*'Inputs and Totals'!$B$8*'Inputs and Totals'!$B$9*0.001,\"Error\")))","v":1999.8},{"$f":"IF('Inputs and Totals'!C23 = 1,'Solar Profiles'!$P$3*'Inputs and Totals'!$B$9*'Inputs and Totals'!$B$8*0.001, IF('Inputs and Totals'!C23 =2,'Solar Profiles'!$P$4*'Inputs and Totals'!$B$8*'Inputs and Totals'!$B$9*0.001,IF('Inputs and Totals'!C23 =3,'Solar Profiles'!$P$5*'Inputs and Totals'!$B$8*'Inputs and Totals'!$B$9*0.001,\"Error\")))","v":1999.8},{"$f":"IF('Inputs and Totals'!C23 = 1,'Solar Profiles'!$Q$3*'Inputs and Totals'!$B$9*'Inputs and Totals'!$B$8*0.001, IF('Inputs and Totals'!C23 =2,'Solar Profiles'!$Q$4*'Inputs and Totals'!$B$8*'Inputs and Totals'!$B$9*0.001,IF('Inputs and Totals'!C23 =3,'Solar Profiles'!$Q$5*'Inputs and Totals'!$B$8*'Inputs and Totals'!$B$9*0.001,\"Error\")))","v":1399.86},{"$f":"IF('Inputs and Totals'!C23 = 1,'Solar Profiles'!$R$3*'Inputs and Totals'!$B$9*'Inputs and Totals'!$B$8*0.001, IF('Inputs and Totals'!C23 =2,'Solar Profiles'!$R$4*'Inputs and Totals'!$B$8*'Inputs and Totals'!$B$9*0.001,IF('Inputs and Totals'!C23 =3,'Solar Profiles'!$R$5*'Inputs and Totals'!$B$8*'Inputs and Totals'!$B$9*0.001,\"Error\")))","v":1199.8800000000001},{"$f":"IF('Inputs and Totals'!C23 = 1,'Solar Profiles'!$S$3*'Inputs and Totals'!$B$9*'Inputs and Totals'!$B$8*0.001, IF('Inputs and Totals'!C23 =2,'Solar Profiles'!$S$4*'Inputs and Totals'!$B$8*'Inputs and Totals'!$B$9*0.001,IF('Inputs and Totals'!C23 =3,'Solar Profiles'!$S$5*'Inputs and Totals'!$B$8*'Inputs and Totals'!$B$9*0.001,\"Error\")))","v":999.9},{"$f":"IF('Inputs and Totals'!C23 = 1,'Solar Profiles'!$T$3*'Inputs and Totals'!$B$9*'Inputs and Totals'!$B$8*0.001, IF('Inputs and Totals'!C23 =2,'Solar Profiles'!$T$4*'Inputs and Totals'!$B$8*'Inputs and Totals'!$B$9*0.001,IF('Inputs and Totals'!C23 =3,'Solar Profiles'!$T$5*'Inputs and Totals'!$B$8*'Inputs and Totals'!$B$9*0.001,\"Error\")))","v":399.96000000000004},{"$f":"IF('Inputs and Totals'!C23 = 1,'Solar Profiles'!$U$3*'Inputs and Totals'!$B$9*'Inputs and Totals'!$B$8*0.001, IF('Inputs and Totals'!C23 =2,'Solar Profiles'!$U$4*'Inputs and Totals'!$B$8*'Inputs and Totals'!$B$9*0.001,IF('Inputs and Totals'!C23 =3,'Solar Profiles'!$U$5*'Inputs and Totals'!$B$8*'Inputs and Totals'!$B$9*0.001,\"Error\")))","v":0},{"$f":"IF('Inputs and Totals'!C23 = 1,'Solar Profiles'!$V$3*'Inputs and Totals'!$B$9*'Inputs and Totals'!$B$8*0.001, IF('Inputs and Totals'!C23 =2,'Solar Profiles'!$V$4*'Inputs and Totals'!$B$8*'Inputs and Totals'!$B$9*0.001,IF('Inputs and Totals'!C23 =3,'Solar Profiles'!$V$5*'Inputs and Totals'!$B$8*'Inputs and Totals'!$B$9*0.001,\"Error\")))","v":0},{"$f":"IF('Inputs and Totals'!C23 = 1,'Solar Profiles'!$W$3*'Inputs and Totals'!$B$9*'Inputs and Totals'!$B$8*0.001, IF('Inputs and Totals'!C23 =2,'Solar Profiles'!$W$4*'Inputs and Totals'!$B$8*'Inputs and Totals'!$B$9*0.001,IF('Inputs and Totals'!C23 =3,'Solar Profiles'!$W$5*'Inputs and Totals'!$B$8*'Inputs and Totals'!$B$9*0.001,\"Error\")))","v":0},{"$f":"IF('Inputs and Totals'!C23 = 1,'Solar Profiles'!$X$3*'Inputs and Totals'!$B$9*'Inputs and Totals'!$B$8*0.001, IF('Inputs and Totals'!C23 =2,'Solar Profiles'!$X$4*'Inputs and Totals'!$B$8*'Inputs and Totals'!$B$9*0.001,IF('Inputs and Totals'!C23 =3,'Solar Profiles'!$X$5*'Inputs and Totals'!$B$8*'Inputs and Totals'!$B$9*0.001,\"Error\")))","v":0},{"$f":"IF('Inputs and Totals'!C23 = 1,'Solar Profiles'!$Y$3*'Inputs and Totals'!$B$9*'Inputs and Totals'!$B$8*0.001, IF('Inputs and Totals'!C23 =2,'Solar Profiles'!$Y$4*'Inputs and Totals'!$B$8*'Inputs and Totals'!$B$9*0.001,IF('Inputs and Totals'!C23 =3,'Solar Profiles'!$Y$5*'Inputs and Totals'!$B$8*'Inputs and Totals'!$B$9*0.001,\"Error\")))","v":0},{"$f":"IF('Inputs and Totals'!C23 = 1,'Solar Profiles'!$Z$3*'Inputs and Totals'!$B$9*'Inputs and Totals'!$B$8*0.001, IF('Inputs and Totals'!C23 =2,'Solar Profiles'!$Z$4*'Inputs and Totals'!$B$8*'Inputs and Totals'!$B$9*0.001,IF('Inputs and Totals'!C23 =3,'Solar Profiles'!$Z$5*'Inputs and Totals'!$B$8*'Inputs and Totals'!$B$9*0.001,\"Error\")))","v":0},11598.84]
["Day 5",{"$f":"IF('Inputs and Totals'!C24 = 1,'Solar Profiles'!$C$3*'Inputs and Totals'!$B$9*'Inputs and Totals'!$B$8*0.001, IF('Inputs and Totals'!C24 =2,'Solar Profiles'!$C$4*'Inputs and Totals'!$B$8*'Inputs and Totals'!$B$9*0.001,IF('Inputs and Totals'!C24 =3,'Solar Profiles'!$C$5*'Inputs and Totals'!$B$8*'Inputs and Totals'!$B$9*0.001,\"Error\")))","v":0},{"$f":"IF('Inputs and Totals'!C24 = 1,'Solar Profiles'!$D$3*'Inputs and Totals'!$B$9*'Inputs and Totals'!$B$8*0.001, IF('Inputs and Totals'!C24 =2,'Solar Profiles'!$D$4*'Inputs and Totals'!$B$8*'Inputs and Totals'!$B$9*0.001,IF('Inputs and Totals'!C24 =3,'Solar Profiles'!$D$5*'Inputs and Totals'!$B$8*'Inputs and Totals'!$B$9*0.001,\"Error\")))","v":0},{"$f":"IF('Inputs and Totals'!C24 = 1,'Solar Profiles'!$E$3*'Inputs and Totals'!$B$9*'Inputs and Totals'!$B$8*0.001, IF('Inputs and Totals'!C24 =2,'Solar Profiles'!$E$4*'Inputs and Totals'!$B$8*'Inputs and Totals'!$B$9*0.001,IF('Inputs and Totals'!C24 =3,'Solar Profiles'!$E$5*'Inputs and Totals'!$B$8*'Inputs and Totals'!$B$9*0.001,\"Error\")))","v":0},{"$f":"IF('Inputs and Totals'!C24 = 1,'Solar Profiles'!$F$3*'Inputs and Totals'!$B$9*'Inputs and Totals'!$B$8*0.001, IF('Inputs and Totals'!C24 =2,'Solar Profiles'!$F$4*'Inputs and Totals'!$B$8*'Inputs and Totals'!$B$9*0.001,IF('Inputs and Totals'!C24 =3,'Solar Profiles'!$F$5*'Inputs and Totals'!$B$8*'Inputs and Totals'!$B$9*0.001,\"Error\")))","v":0},{"$f":"IF('Inputs and Totals'!C24 = 1,'Solar Profiles'!$G$3*'Inputs and Totals'!$B$9*'Inputs and Totals'!$B$8*0.001, IF('Inputs and Totals'!C24 =2,'Solar Profiles'!$G$4*'Inputs and Totals'!$B$8*'Inputs and Totals'!$B$9*0.001,IF('Inputs and Totals'!C24 =3,'Solar Profiles'!$G$5*'Inputs and Totals'!$B$8*'Inputs and Totals'!$B$9*0.001,\"Error\")))","v":0},{"$f":"IF('Inputs and Totals'!C24 = 1,'Solar Profiles'!$H$3*'Inputs and Totals'!$B$9*'Inputs and Totals'!$B$8*0.001, IF('Inputs and Totals'!C24 =2,'Solar Profiles'!$H$4*'Inputs and Totals'!$B$8*'Inputs and Totals'!$B$9*0.001,IF('Inputs and Totals'!C24 =3,'Solar Profiles'!$H$5*'Inputs and Totals'!$B$8*'Inputs and Totals'!$B$9*0.001,\"Error\")))","v":0},{"$f":"IF('Inputs and Totals'!C24 = 1,'Solar Profiles'!$I$3*'Inputs and Totals'!$B$9*'Inputs and Totals'!$B$8*0.001, IF('Inputs and Totals'!C24 =2,'Solar Profiles'!$I$4*'Inputs and Totals'!$B$8*'Inputs and Totals'!$B$9*0.001,IF('Inputs and Totals'!C24 =3,'Solar Profiles'!$I$5*'Inputs and Totals'!$B$8*'Inputs and Totals'!$B$9*0.001,\"Error\")))","v":0},{"$f":"IF('Inputs and Totals'!C24 = 1,'Solar Profiles'!$J$3*'Inputs and Totals'!$B$9*'Inputs and Totals'!$B$8*0.001, IF('Inputs and Totals'!C24 =2,'Solar Profiles'!$J$4*'Inputs and Totals'!$B$8*'Inputs and Totals'!$B$9*0.001,IF('Inputs and Totals'!C24 =3,'Solar Profiles'!$J$5*'Inputs and Totals'!$B$8*'Inputs and Totals'!$B$9*0.001,\"Error\")))","v":99.990000000000009},{"$f":"IF('Inputs and Totals'!C24 = 1,'Solar Profiles'!$K$3*'Inputs and Totals'!$B$9*'Inputs and Totals'!$B$8*0.001, IF('Inputs and Totals'!C24 =2,'Solar Profiles'!$K$4*'Inputs and Totals'!$B$8*'Inputs and Totals'!$B$9*0.001,IF('Inputs and Totals'!C24 =3,'Solar Profiles'!$K$5*'Inputs and Totals'!$B$8*'Inputs and Totals'!$B$9*0.001,\"Error\")))","v":199.98000000000002},{"$f":"IF('Inputs and Totals'!C24 = 1,'Solar Profiles'!$L$3*'Inputs and Totals'!$B$9*'Inputs and Totals'!$B$8*0.001, IF('Inputs and Totals'!C24 =2,'Solar Profiles'!$L$4*'Inputs and Totals'!$B$8*'Inputs and Totals'!$B$9*0.001,IF('Inputs and Totals'!C24 =3,'Solar Profiles'!$L$5*'Inputs and Totals'!$B$8*'Inputs and Totals'!$B$9*0.001,\"Error\")))","v":299.97000000000003},{"$f":"IF('Inputs and Totals'!C24 = 1,'Solar Profiles'!$M$3*'Inputs and Totals'!$B$9*'Inputs and Totals'!$B$8*0.001, IF('Inputs and Totals'!C24 =2,'Solar Profiles'!$M$4*'Inputs and Totals'!$B$8*'Inputs and Totals'!$B$9*0.001,IF('Inputs and Totals'!C24 =3,'Solar Profiles'!$M$5*'Inputs and Totals'!$B$8*'Inputs and Totals'!$B$9*0.001,\"Error\")))","v":399.96000000000004},{"$f":"IF('Inputs and Totals'!C24 = 1,'Solar Profiles'!$N$3*'Inputs and Totals'!$B$9*'Inputs and Totals'!$B$8*0.001, IF('Inputs and Totals'!C24 =2,'Solar Profiles'!$N$4*'Inputs and Totals'!$B$8*'Inputs and Totals'!$B$9*0.001,IF('Inputs and Totals'!C24 =3,'Solar Profiles'!$N$5*'Inputs and Totals'!$B$8*'Inputs and Totals'!$B$9*0.001,\"Error\")))","v":799.92000000000007},{"$f":"IF('Inputs and Totals'!C24 = 1,'Solar Profiles'!$O$3*'Inputs and Totals'!$B$9*'Inputs and Totals'!$B$8*0.001, IF('Inputs and Totals'!C24 =2,'Solar Profiles'!$O$4*'Inputs and Totals'!$B$8*'Inputs and Totals'!$B$9*0.001,IF('Inputs and Totals'!C24 =3,'Solar Profiles'!$O$5*'Inputs and Totals'!$B$8*'Inputs and Totals'!$B$9*0.001,\"Error\")))","v":999.9},{"$f":"IF('Inputs and Totals'!C24 = 1,'Solar Profiles'!$P$3*'Inputs and Totals'!$B$9*'Inputs and Totals'!$B$8*0.001, IF('Inputs and Totals'!C24 =2,'Solar Profiles'!$P$4*'Inputs and Totals'!$B$8*'Inputs and Totals'!$B$9*0.001,IF('Inputs and Totals'!C24 =3,'Solar Profiles'!$P$5*'Inputs and Totals'!$B$8*'Inputs and Totals'!$B$9*0.001,\"Error\")))","v":999.9},{"$f":"IF('Inputs and Totals'!C24 = 1,'Solar Profiles'!$Q$3*'Inputs and Totals'!$B$9*'Inputs and Totals'!$B$8*0.001, IF('Inputs and Totals'!C24 =2,'Solar Profiles'!$Q$4*'Inputs and Totals'!$B$8*'Inputs and Totals'!$B$9*0.001,IF('Inputs and Totals'!C24 =3,'Solar Profiles'!$Q$5*'Inputs and Totals'!$B$8*'Inputs and Totals'!$B$9*0.001,\"Error\")))","v":799.92000000000007},{"$f":"IF('Inputs and Totals'!C24 = 1,'Solar Profiles'!$R$3*'Inputs and Totals'!$B$9*'Inputs and Totals'!$B$8*0.001, IF('Inputs and Totals'!C24 =2,'Solar Profiles'!$R$4*'Inputs and Totals'!$B$8*'Inputs and Totals'!$B$9*0.001,IF('Inputs and Totals'!C24 =3,'Solar Profiles'!$R$5*'Inputs and Totals'!$B$8*'Inputs and Totals'!$B$9*0.001,\"Error\")))","v":599.94000000000005},{"$f":"IF('Inputs and Totals'!C24 = 1,'Solar Profiles'!$S$3*'Inputs and Totals'!$B$9*'Inputs and Totals'!$B$8*0.001, IF('Inputs and Totals'!C24 =2,'Solar Profiles'!$S$4*'Inputs and Totals'!$B$8*'Inputs and Totals'!$B$9*0.001,IF('Inputs and Totals'!C24 =3,'Solar Profiles'!$S$5*'Inputs and Totals'!$B$8*'Inputs and Totals'!$B$9*0.001,\"Error\")))","v":399.96000000000004},{"$f":"IF('Inputs and Totals'!C24 = 1,'Solar Profiles'!$T$3*'Inputs and Totals'!$B$9*'Inputs and Totals'!$B$8*0.001, IF('Inputs and Totals'!C24 =2,'Solar Profiles'!$T$4*'Inputs and Totals'!$B$8*'Inputs and Totals'!$B$9*0.001,IF('Inputs and Totals'!C24 =3,'Solar Profiles'!$T$5*'Inputs and Totals'!$B$8*'Inputs and Totals'!$B$9*0.001,\"Error\")))","v":199.98000000000002},{"$f":"IF('Inputs and Totals'!C24 = 1,'Solar Profiles'!$U$3*'Inputs and Totals'!$B$9*'Inputs and Totals'!$B$8*0.001, IF('Inputs and Totals'!C24 =2,'Solar Profiles'!$U$4*'Inputs and Totals'!$B$8*'Inputs and Totals'!$B$9*0.001,IF('Inputs and Totals'!C24 =3,'Solar Profiles'!$U$5*'Inputs and Totals'!$B$8*'Inputs and Totals'!$B$9*0.001,\"Error\")))","v":0},{"$f":"IF('Inputs and Totals'!C24 = 1,'Solar Profiles'!$V$3*'Inputs and Totals'!$B$9*'Inputs and Totals'!$B$8*0.001, IF('Inputs and Totals'!C24 =2,'Solar Profiles'!$V$4*'Inputs and Totals'!$B$8*'Inputs and Totals'!$B$9*0.001,IF('Inputs and Totals'!C24 =3,'Solar Profiles'!$V$5*'Inputs and Totals'!$B$8*'Inputs and Totals'!$B$9*0.001,\"Error\")))","v":0},{"$f":"IF('Inputs and Totals'!C24 = 1,'Solar Profiles'!$W$3*'Inputs and Totals'!$B$9*'Inputs and Totals'!$B$8*0.001, IF('Inputs and Totals'!C24 =2,'Solar Profiles'!$W$4*'Inputs and Totals'!$B$8*'Inputs and Totals'!$B$9*0.001,IF('Inputs and Totals'!C24 =3,'Solar Profiles'!$W$5*'Inputs and Totals'!$B$8*'Inputs and Totals'!$B$9*0.001,\"Error\")))","v":0},{"$f":"IF('Inputs and Totals'!C24 = 1,'Solar Profiles'!$X$3*'Inputs and Totals'!$B$9*'Inputs and Totals'!$B$8*0.001, IF('Inputs and Totals'!C24 =2,'Solar Profiles'!$X$4*'Inputs and Totals'!$B$8*'Inputs and Totals'!$B$9*0.001,IF('Inputs and Totals'!C24 =3,'Solar Profiles'!$X$5*'Inputs and Totals'!$B$8*'Inputs and Totals'!$B$9*0.001,\"Error\")))","v":0},{"$f":"IF('Inputs and Totals'!C24 = 1,'Solar Profiles'!$Y$3*'Inputs and Totals'!$B$9*'Inputs and Totals'!$B$8*0.001, IF('Inputs and Totals'!C24 =2,'Solar Profiles'!$Y$4*'Inputs and Totals'!$B$8*'Inputs and Totals'!$B$9*0.001,IF('Inputs and Totals'!C24 =3,'Solar Profiles'!$Y$5*'Inputs and Totals'!$B$8*'Inputs and Totals'!$B$9*0.001,\"Error\")))","v":0},{"$f":"IF('Inputs and Totals'!C24 = 1,'Solar Profiles'!$Z$3*'Inputs and Totals'!$B$9*'Inputs and Totals'!$B$8*0.001, IF('Inputs and Totals'!C24 =2,'Solar Profiles'!$Z$4*'Inputs and Totals'!$B$8*'Inputs and Totals'!$B$9*0.001,IF('Inputs and Totals'!C24 =3,'Solar Profiles'!$Z$5*'Inputs and Totals'!$B$8*'Inputs and Totals'!$B$9*0.001,\"Error\")))","v":0},5799.4200000000019]
["Day 6",{"$f":"IF('Inputs and Totals'!C25 = 1,'Solar Profiles'!$C$3*'Inputs and Totals'!$B$9*'Inputs and Totals'!$B$8*0.001, IF('Inputs and Totals'!C25 =2,'Solar Profiles'!$C$4*'Inputs and Totals'!$B$8*'Inputs and Totals'!$B$9*0.001,IF('Inputs and Totals'!C25 =3,'Solar Profiles'!$C$5*'Inputs and Totals'!$B$8*'Inputs and Totals'!$B$9*0.001,\"Error\")))","v":0},{"$f":"IF('Inputs and Totals'!C25 = 1,'Solar Profiles'!$D$3*'Inputs and Totals'!$B$9*'Inputs and Totals'!$B$8*0.001, IF('Inputs and Totals'!C25 =2,'Solar Profiles'!$D$4*'Inputs and Totals'!$B$8*'Inputs and Totals'!$B$9*0.001,IF('Inputs and Totals'!C25 =3,'Solar Profiles'!$D$5*'Inputs and Totals'!$B$8*'Inputs and Totals'!$B$9*0.001,\"Error\")))","v":0},{"$f":"IF('Inputs and Totals'!C25 = 1,'Solar Profiles'!$E$3*'Inputs and Totals'!$B$9*'Inputs and Totals'!$B$8*0.001, IF('Inputs and Totals'!C25 =2,'Solar Profiles'!$E$4*'Inputs and Totals'!$B$8*'Inputs and Totals'!$B$9*0.001,IF('Inputs and Totals'!C25 =3,'Solar Profiles'!$E$5*'Inputs and Totals'!$B$8*'Inputs and Totals'!$B$9*0.001,\"Error\")))","v":0},{"$f":"IF('Inputs and Totals'!C25 = 1,'Solar Profiles'!$F$3*'Inputs and Totals'!$B$9*'Inputs and Totals'!$B$8*0.001, IF('Inputs and Totals'!C25 =2,'Solar Profiles'!$F$4*'Inputs and Totals'!$B$8*'Inputs and Totals'!$B$9*0.001,IF('Inputs and Totals'!C25 =3,'Solar Profiles'!$F$5*'Inputs and Totals'!$B$8*'Inputs and Totals'!$B$9*0.001,\"Error\")))","v":0},{"$f":"IF('Inputs and Totals'!C25 = 1,'Solar Profiles'!$G$3*'Inputs and Totals'!$B$9*'Inputs and Totals'!$B$8*0.001, IF('Inputs and Totals'!C25 =2,'Solar Profiles'!$G$4*'Inputs and Totals'!$B$8*'Inputs and Totals'!$B$9*0.001,IF('Inputs and Totals'!C25 =3,'Solar Profiles'!$G$5*'Inputs and Totals'!$B$8*'Inputs and Totals'!$B$9*0.001,\"Error\")))","v":0},{"$f":"IF('Inputs and Totals'!C25 = 1,'Solar Profiles'!$H$3*'Inputs and Totals'!$B$9*'Inputs and Totals'!$B$8*0.001, IF('Inputs and Totals'!C25 =2,'Solar Profiles'!$H$4*'Inputs and Totals'!$B$8*'Inputs and Totals'!$B$9*0.001,IF('Inputs and Totals'!C25 =3,'Solar Profiles'!$H$5*'Inputs and Totals'!$B$8*'Inputs and Totals'!$B$9*0.001,\"Error\")))","v":0},{"$f":"IF('Inputs and Totals'!C25 = 1,'Solar Profiles'!$I$3*'Inputs and Totals'!$B$9*'Inputs and Totals'!$B$8*0.001, IF('Inputs and Totals'!C25 =2,'Solar Profiles'!$I$4*'Inputs and Totals'!$B$8*'Inputs and Totals'!$B$9*0.001,IF('Inputs and Totals'!C25 =3,'Solar Profiles'!$I$5*'Inputs and Totals'!$B$8*'Inputs and Totals'!$B$9*0.001,\"Error\")))","v":0},{"$f":"IF('Inputs and Totals'!C25 = 1,'Solar Profiles'!$J$3*'Inputs and Totals'!$B$9*'Inputs and Totals'!$B$8*0.001, IF('Inputs and Totals'!C25 =2,'Solar Profiles'!$J$4*'Inputs and Totals'!$B$8*'Inputs and Totals'!$B$9*0.001,IF('Inputs and Totals'!C25 =3,'Solar Profiles'!$J$5*'Inputs and Totals'!$B$8*'Inputs and Totals'!$B$9*0.001,\"Error\")))","v":199.98000000000002},{"$f":"IF('Inputs and Totals'!C25 = 1,'Solar Profiles'!$K$3*'Inputs and Totals'!$B$9*'Inputs and Totals'!$B$8*0.001, IF('Inputs and Totals'!C25 =2,'Solar Profiles'!$K$4*'Inputs and Totals'!$B$8*'Inputs and Totals'!$B$9*0.001,IF('Inputs and Totals'!C25 =3,'Solar Profiles'!$K$5*'Inputs and Totals'!$B$8*'Inputs and Totals'!$B$9*0.001,\"Error\")))","v":399.96000000000004},{"$f":"IF('Inputs and Totals'!C25 = 1,'Solar Profiles'!$L$3*'Inputs and Totals'!$B$9*'Inputs and Totals'!$B$8*0.001, IF('Inputs and Totals'!C25 =2,'Solar Profiles'!$L$4*'Inputs and Totals'!$B$8*'Inputs and Totals'!$B$9*0.001,IF('Inputs and Totals'!C25 =3,'Solar Profiles'!$L$5*'Inputs and Totals'!$B$8*'Inputs and Totals'!$B$9*0.001,\"Error\")))","v":599.94000000000005},{"$f":"IF('Inputs and Totals'!C25 = 1,'Solar Profiles'!$M$3*'Inputs and Totals'!$B$9*'Inputs and Totals'!$B$8*0.001, IF('Inputs and Totals'!C25 =2,'Solar Profiles'!$M$4*'Inputs and Totals'!$B$8*'Inputs and Totals'!$B$9*0.001,IF('Inputs and Totals'!C25 =3,'Solar Profiles'!$M$5*'Inputs and Totals'!$B$8*'Inputs and Totals'!$B$9*0.001,\"Error\")))","v":799.92000000000007},{"$f":"IF('Inputs and Totals'!C25 = 1,'Solar Profiles'!$N$3*'Inputs and Totals'!$B$9*'Inputs and Totals'!$B$8*0.001, IF('Inputs and Totals'!C25 =2,'Solar Profiles'!$N$4*'Inputs and Totals'!$B$8*'Inputs and Totals'!$B$9*0.001,IF('Inputs and Totals'!C25 =3,'Solar Profiles'!$N$5*'Inputs and Totals'!$B$8*'Inputs and Totals'!$B$9*0.001,\"Error\")))","v":1599.8400000000001},{"$f":"IF('Inputs and Totals'!C25 = 1,'Solar Profiles'!$O$3*'Inputs and Totals'!$B$9*'Inputs and Totals'!$B$8*0.001, IF('Inputs and Totals'!C25 =2,'Solar Profiles'!$O$4*'Inputs and Totals'!$B$8*'Inputs and Totals'!$B$9*0.001,IF('Inputs and Totals'!C25 =3,'Solar Profiles'!$O$5*'Inputs and Totals'!$B$8*'Inputs and Totals'!$B$9*0.001,\"Error\")))","v":1999.8},{"$f":"IF('Inputs and Totals'!C25 = 1,'Solar Profiles'!$P$3*'Inputs and Totals'!$B$9*'Inputs and Totals'!$B$8*0.001, IF('Inputs and Totals'!C25 =2,'Solar Profiles'!$P$4*'Inputs and Totals'!$B$8*'Inputs and Totals'!$B$9*0.001,IF('Inputs and Totals'!C25 =3,'Solar Profiles'!$P$5*'Inputs and Totals'!$B$8*'Inputs and Totals'!$B$9*0.001,\"Error\")))","v":1999.8},{"$f":"IF('Inputs and Totals'!C25 = 1,'Solar Profiles'!$Q$3*'Inputs and Totals'!$B$9*'Inputs and Totals'!$B$8*0.001, IF('Inputs and Totals'!C25 =2,'Solar Profiles'!$Q$4*'Inputs and Totals'!$B$8*'Inputs and Totals'!$B$9*0.001,IF('Inputs and Totals'!C25 =3,'Solar Profiles'!$Q$5*'Inputs and Totals'!$B$8*'Inputs and Totals'!$B$9*0.001,\"Error\")))","v":1399.86},{"$f":"IF('Inputs and Totals'!C25 = 1,'Solar Profiles'!$R$3*'Inputs and Totals'!$B$9*'Inputs and Totals'!$B$8*0.001, IF('Inputs and Totals'!C25 =2,'Solar Profiles'!$R$4*'Inputs and Totals'!$B$8*'Inputs and Totals'!$B$9*0.001,IF('Inputs and Totals'!C25 =3,'Solar Profiles'!$R$5*'Inputs and Totals'!$B$8*'Inputs and Totals'!$B$9*0.001,\"Error\")))","v":1199.8800000000001},{"$f":"IF('Inputs and Totals'!C25 = 1,'Solar Profiles'!$S$3*'Inputs and Totals'!$B$9*'Inputs and Totals'!$B$8*0.001, IF('Inputs and Totals'!C25 =2,'Solar Profiles'!$S$4*'Inputs and Totals'!$B$8*'Inputs and Totals'!$B$9*0.001,IF('Inputs and Totals'!C25 =3,'Solar Profiles'!$S$5*'Inputs and Totals'!$B$8*'Inputs and Totals'!$B$9*0.001,\"Error\")))","v":999.9},{"$f":"IF('Inputs and Totals'!C25 = 1,'Solar Profiles'!$T$3*'Inputs and Totals'!$B$9*'Inputs and Totals'!$B$8*0.001, IF('Inputs and Totals'!C25 =2,'Solar Profiles'!$T$4*'Inputs and Totals'!$B$8*'Inputs and Totals'!$B$9*0.001,IF('Inputs and Totals'!C25 =3,'Solar Profiles'!$T$5*'Inputs and Totals'!$B$8*'Inputs and Totals'!$B$9*0.001,\"Error\")))","v":399.96000000000004},{"$f":"IF('Inputs and Totals'!C25 = 1,'Solar Profiles'!$U$3*'Inputs and Totals'!$B$9*'Inputs and Totals'!$B$8*0.001, IF('Inputs and Totals'!C25 =2,'Solar Profiles'!$U$4*'Inputs and Totals'!$B$8*'Inputs and Totals'!$B$9*0.001,IF('Inputs and Totals'!C25 =3,'Solar Profiles'!$U$5*'Inputs and Totals'!$B$8*'Inputs and Totals'!$B$9*0.001,\"Error\")))","v":0},{"$f":"IF('Inputs and Totals'!C25 = 1,'Solar Profiles'!$V$3*'Inputs and Totals'!$B$9*'Inputs and Totals'!$B$8*0.001, IF('Inputs and Totals'!C25 =2,'Solar Profiles'!$V$4*'Inputs and Totals'!$B$8*'Inputs and Totals'!$B$9*0.001,IF('Inputs and Totals'!C25 =3,'Solar Profiles'!$V$5*'Inputs and Totals'!$B$8*'Inputs and Totals'!$B$9*0.001,\"Error\")))","v":0},{"$f":"IF('Inputs and Totals'!C25 = 1,'Solar Profiles'!$W$3*'Inputs and Totals'!$B$9*'Inputs and Totals'!$B$8*0.001, IF('Inputs and Totals'!C25 =2,'Solar Profiles'!$W$4*'Inputs and Totals'!$B$8*'Inputs and Totals'!$B$9*0.001,IF('Inputs and Totals'!C25 =3,'Solar Profiles'!$W$5*'Inputs and Totals'!$B$8*'Inputs and Totals'!$B$9*0.001,\"Error\")))","v":0},{"$f":"IF('Inputs and Totals'!C25 = 1,'Solar Profiles'!$X$3*'Inputs and Totals'!$B$9*'Inputs and Totals'!$B$8*0.001, IF('Inputs and Totals'!C25 =2,'Solar Profiles'!$X$4*'Inputs and Totals'!$B$8*'Inputs and Totals'!$B$9*0.001,IF('Inputs and Totals'!C25 =3,'Solar Profiles'!$X$5*'Inputs and Totals'!$B$8*'Inputs and Totals'!$B$9*0.001,\"Error\")))","v":0},{"$f":"IF('Inputs and Totals'!C25 = 1,'Solar Profiles'!$Y$3*'Inputs and Totals'!$B$9*'Inputs and Totals'!$B$8*0.001, IF('Inputs and Totals'!C25 =2,'Solar Profiles'!$Y$4*'Inputs and Totals'!$B$8*'Inputs and Totals'!$B$9*0.001,IF('Inputs and Totals'!C25 =3,'Solar Profiles'!$Y$5*'Inputs and Totals'!$B$8*'Inputs and Totals'!$B$9*0.001,\"Error\")))","v":0},{"$f":"IF('Inputs and Totals'!C25 = 1,'Solar Profiles'!$Z$3*'Inputs and Totals'!$B$9*'Inputs and Totals'!$B$8*0.001, IF('Inputs and Totals'!C25 =2,'Solar Profiles'!$Z$4*'Inputs and Totals'!$B$8*'Inputs and Totals'!$B$9*0.001,IF('Inputs and Totals'!C25 =3,'Solar Profiles'!$Z$5*'Inputs and Totals'!$B$8*'Inputs and Totals'!$B$9*0.001,\"Error\")))","v":0},11598.84]
["Day 7",{"$f":"IF('Inputs and Totals'!C26 = 1,'Solar Profiles'!$C$3*'Inputs and Totals'!$B$9*'Inputs and Totals'!$B$8*0.001, IF('Inputs and Totals'!C26 =2,'Solar Profiles'!$C$4*'Inputs and Totals'!$B$8*'Inputs and Totals'!$B$9*0.001,IF('Inputs and Totals'!C26 =3,'Solar Profiles'!$C$5*'Inputs and Totals'!$B$8*'Inputs and Totals'!$B$9*0.001,\"Error\")))","v":0},{"$f":"IF('Inputs and Totals'!C26 = 1,'Solar Profiles'!$D$3*'Inputs and Totals'!$B$9*'Inputs and Totals'!$B$8*0.001, IF('Inputs and Totals'!C26 =2,'Solar Profiles'!$D$4*'Inputs and Totals'!$B$8*'Inputs and Totals'!$B$9*0.001,IF('Inputs and Totals'!C26 =3,'Solar Profiles'!$D$5*'Inputs and Totals'!$B$8*'Inputs and Totals'!$B$9*0.001,\"Error\")))","v":0},{"$f":"IF('Inputs and Totals'!C26 = 1,'Solar Profiles'!$E$3*'Inputs and Totals'!$B$9*'Inputs and Totals'!$B$8*0.001, IF('Inputs and Totals'!C26 =2,'Solar Profiles'!$E$4*'Inputs and Totals'!$B$8*'Inputs and Totals'!$B$9*0.001,IF('Inputs and Totals'!C26 =3,'Solar Profiles'!$E$5*'Inputs and Totals'!$B$8*'Inputs and Totals'!$B$9*0.001,\"Error\")))","v":0},{"$f":"IF('Inputs and Totals'!C26 = 1,'Solar Profiles'!$F$3*'Inputs and Totals'!$B$9*'Inputs and Totals'!$B$8*0.001, IF('Inputs and Totals'!C26 =2,'Solar Profiles'!$F$4*'Inputs and Totals'!$B$8*'Inputs and Totals'!$B$9*0.001,IF('Inputs and Totals'!C26 =3,'Solar Profiles'!$F$5*'Inputs and Totals'!$B$8*'Inputs and Totals'!$B$9*0.001,\"Error\")))","v":0},{"$f":"IF('Inputs and Totals'!C26 = 1,'Solar Profiles'!$G$3*'Inputs and Totals'!$B$9*'Inputs and Totals'!$B$8*0.001, IF('Inputs and Totals'!C26 =2,'Solar Profiles'!$G$4*'Inputs and Totals'!$B$8*'Inputs and Totals'!$B$9*0.001,IF('Inputs and Totals'!C26 =3,'Solar Profiles'!$G$5*'Inputs and Totals'!$B$8*'Inputs and Totals'!$B$9*0.001,\"Error\")))","v":0},{"$f":"IF('Inputs and Totals'!C26 = 1,'Solar Profiles'!$H$3*'Inputs and Totals'!$B$9*'Inputs and Totals'!$B$8*0.001, IF('Inputs and Totals'!C26 =2,'Solar Profiles'!$H$4*'Inputs and Totals'!$B$8*'Inputs and Totals'!$B$9*0.001,IF('Inputs and Totals'!C26 =3,'Solar Profiles'!$H$5*'Inputs and Totals'!$B$8*'Inputs and Totals'!$B$9*0.001,\"Error\")))","v":0},{"$f":"IF('Inputs and Totals'!C26 = 1,'Solar Profiles'!$I$3*'Inputs and Totals'!$B$9*'Inputs and Totals'!$B$8*0.001, IF('Inputs and Totals'!C26 =2,'Solar Profiles'!$I$4*'Inputs and Totals'!$B$8*'Inputs and Totals'!$B$9*0.001,IF('Inputs and Totals'!C26 =3,'Solar Profiles'!$I$5*'Inputs and Totals'!$B$8*'Inputs and Totals'!$B$9*0.001,\"Error\")))","v":0},{"$f":"IF('Inputs and Totals'!C26 = 1,'Solar Profiles'!$J$3*'Inputs and Totals'!$B$9*'Inputs and Totals'!$B$8*0.001, IF('Inputs and Totals'!C26 =2,'Solar Profiles'!$J$4*'Inputs and Totals'!$B$8*'Inputs and Totals'!$B$9*0.001,IF('Inputs and Totals'!C26 =3,'Solar Profiles'!$J$5*'Inputs and Totals'!$B$8*'Inputs and Totals'!$B$9*0.001,\"Error\")))","v":199.98000000000002},{"$f":"IF('Inputs and Totals'!C26 = 1,'Solar Profiles'!$K$3*'Inputs and Totals'!$B$9*'Inputs and Totals'!$B$8*0.001, IF('Inputs and Totals'!C26 =2,'Solar Profiles'!$K$4*'Inputs and Totals'!$B$8*'Inputs and Totals'!$B$9*0.001,IF('Inputs and Totals'!C26 =3,'Solar Profiles'!$K$5*'Inputs and Totals'!$B$8*'Inputs and Totals'!$B$9*0.001,\"Error\")))","v":199.98000000000002},{"$f":"IF('Inputs and Totals'!C26 = 1,'Solar Profiles'!$L$3*'Inputs and Totals'!$B$9*'Inputs and Totals'!$B$8*0.001, IF('Inputs and Totals'!C26 =2,'Solar Profiles'!$L$4*'Inputs and Totals'!$B$8*'Inputs and Totals'!$B$9*0.001,IF('Inputs and Totals'!C26 =3,'Solar Profiles'!$L$5*'Inputs and Totals'!$B$8*'Inputs and Totals'!$B$9*0.001,\"Error\")))","v":399.96000000000004},{"$f":"IF('Inputs and Totals'!C26 = 1,'Solar Profiles'!$M$3*'Inputs and Totals'!$B$9*'Inputs and Totals'!$B$8*0.001, IF('Inputs and Totals'!C26 =2,'Solar Profiles'!$M$4*'Inputs and Totals'!$B$8*'Inputs and Totals'!$B$9*0.001,IF('Inputs and Totals'!C26 =3,'Solar Profiles'!$M$5*'Inputs and Totals'!$B$8*'Inputs and Totals'!$B$9*0.001,\"Error\")))","v":599.94000000000005},{"$f":"IF('Inputs and Totals'!C26 = 1,'Solar Profiles'!$N$3*'Inputs and Totals'!$B$9*'Inputs and Totals'!$B$8*0.001, IF('Inputs and Totals'!C26 =2,'Solar Profiles'!$N$4*'Inputs and Totals'!$B$8*'Inputs and Totals'!$B$9*0.001,IF('Inputs and Totals'!C26 =3,'Solar Profiles'!$N$5*'Inputs and Totals'!$B$8*'Inputs and Totals'!$B$9*0.001,\"Error\")))","v":999.9},{"$f":"IF('Inputs and Totals'!C26 = 1,'Solar Profiles'!$O$3*'Inputs and Totals'!$B$9*'Inputs and Totals'!$B$8*0.001, IF('Inputs and Totals'!C26 =2,'Solar Profiles'!$O$4*'Inputs and Totals'!$B$8*'Inputs and Totals'!$B$9*0.001,IF('Inputs and Totals'!C26 =3,'Solar Profiles'!$O$5*'Inputs and Totals'!$B$8*'Inputs and Totals'!$B$9*0.001,\"Error\")))","v":1799.82},{"$f":"IF('Inputs and Totals'!C26 = 1,'Solar Profiles'!$P$3*'Inputs and Totals'!$B$9*'Inputs and Totals'!$B$8*0.001, IF('Inputs and Totals'!C26 =2,'Solar Profiles'!$P$4*'Inputs and Totals'!$B$8*'Inputs and Totals'!$B$9*0.001,IF('Inputs and Totals'!C26 =3,'Solar Profiles'!$P$5*'Inputs and Totals'!$B$8*'Inputs and Totals'!$B$9*0.001,\"Error\")))","v":1999.8},{"$f":"IF('Inputs and Totals'!C26 = 1,'Solar Profiles'!$Q$3*'Inputs and Totals'!$B$9*'Inputs and Totals'!$B$8*0.001, IF('Inputs and Totals'!C26 =2,'Solar Profiles'!$Q$4*'Inputs and Totals'!$B$8*'Inputs and Totals'!$B$9*0.001,IF('Inputs and Totals'!C26 =3,'Solar Profiles'!$Q$5*'Inputs and Totals'!$B$8*'Inputs and Totals'!$B$9*0.001,\"Error\")))","v":1199.8800000000001},{"$f":"IF('Inputs and Totals'!C26 = 1,'Solar Profiles'!$R$3*'Inputs and Totals'!$B$9*'Inputs and Totals'!$B$8*0.001, IF('Inputs and Totals'!C26 =2,'Solar Profiles'!$R$4*'Inputs and Totals'!$B$8*'Inputs and Totals'!$B$9*0.001,IF('Inputs and Totals'!C26 =3,'Solar Profiles'!$R$5*'Inputs and Totals'!$B$8*'Inputs and Totals'!$B$9*0.001,\"Error\")))","v":999.9},{"$f":"IF('Inputs and Totals'!C26 = 1,'Solar Profiles'!$S$3*'Inputs and Totals'!$B$9*'Inputs and Totals'!$B$8*0.001, IF('Inputs and Totals'!C26 =2,'Solar Profiles'!$S$4*'Inputs and Totals'!$B$8*'Inputs and Totals'!$B$9*0.001,IF('Inputs and Totals'!C26 =3,'Solar Profiles'!$S$5*'Inputs and Totals'!$B$8*'Inputs and Totals'!$B$9*0.001,\"Error\")))","v":599.94000000000005},{"$f":"IF('Inputs and Totals'!C26 = 1,'Solar Profiles'!$T$3*'Inputs and Totals'!$B$9*'Inputs and Totals'!$B$8*0.001, IF('Inputs and Totals'!C26 =2,'Solar Profiles'!$T$4*'Inputs and Totals'!$B$8*'Inputs and Totals'!$B$9*0.001,IF('Inputs and Totals'!C26 =3,'Solar Profiles'!$T$5*'Inputs and Totals'!$B$8*'Inputs and Totals'!$B$9*0.001,\"Error\")))","v":199.98000000000002},{"$f":"IF('Inputs and Totals'!C26 = 1,'Solar Profiles'!$U$3*'Inputs and Totals'!$B$9*'Inputs and Totals'!$B$8*0.001, IF('Inputs and Totals'!C26 =2,'Solar Profiles'!$U$4*'Inputs and Totals'!$B$8*'Inputs and Totals'!$B$9*0.001,IF('Inputs and Totals'!C26 =3,'Solar Profiles'!$U$5*'Inputs and Totals'!$B$8*'Inputs and Totals'!$B$9*0.001,\"Error\")))","v":0},{"$f":"IF('Inputs and Totals'!C26 = 1,'Solar Profiles'!$V$3*'Inputs and Totals'!$B$9*'Inputs and Totals'!$B$8*0.001, IF('Inputs and Totals'!C26 =2,'Solar Profiles'!$V$4*'Inputs and Totals'!$B$8*'Inputs and Totals'!$B$9*0.001,IF('Inputs and Totals'!C26 =3,'Solar Profiles'!$V$5*'Inputs and Totals'!$B$8*'Inputs and Totals'!$B$9*0.001,\"Error\")))","v":0},{"$f":"IF('Inputs and Totals'!C26 = 1,'Solar Profiles'!$W$3*'Inputs and Totals'!$B$9*'Inputs and Totals'!$B$8*0.001, IF('Inputs and Totals'!C26 =2,'Solar Profiles'!$W$4*'Inputs and Totals'!$B$8*'Inputs and Totals'!$B$9*0.001,IF('Inputs and Totals'!C26 =3,'Solar Profiles'!$W$5*'Inputs and Totals'!$B$8*'Inputs and Totals'!$B$9*0.001,\"Error\")))","v":0},{"$f":"IF('Inputs and Totals'!C26 = 1,'Solar Profiles'!$X$3*'Inputs and Totals'!$B$9*'Inputs and Totals'!$B$8*0.001, IF('Inputs and Totals'!C26 =2,'Solar Profiles'!$X$4*'Inputs and Totals'!$B$8*'Inputs and Totals'!$B$9*0.001,IF('Inputs and Totals'!C26 =3,'Solar Profiles'!$X$5*'Inputs and Totals'!$B$8*'Inputs and Totals'!$B$9*0.001,\"Error\")))","v":0},{"$f":"IF('Inputs and Totals'!C26 = 1,'Solar Profiles'!$Y$3*'Inputs and Totals'!$B$9*'Inputs and Totals'!$B$8*0.001, IF('Inputs and Totals'!C26 =2,'Solar Profiles'!$Y$4*'Inputs and Totals'!$B$8*'Inputs and Totals'!$B$9*0.001,IF('Inputs and Totals'!C26 =3,'Solar Profiles'!$Y$5*'Inputs and Totals'!$B$8*'Inputs and Totals'!$B$9*0.001,\"Error\")))","v":0},{"$f":"IF('Inputs and Totals'!C26 = 1,'Solar Profiles'!$Z$3*'Inputs and Totals'!$B$9*'Inputs and Totals'!$B$8*0.001, IF('Inputs and Totals'!C26 =2,'Solar Profiles'!$Z$4*'Inputs and Totals'!$B$8*'Inputs and Totals'!$B$9*0.001,IF('Inputs and Totals'!C26 =3,'Solar Profiles'!$Z$5*'Inputs and Totals'!$B$8*'Inputs and Totals'!$B$9*0.001,\"Error\")))","v":0},9199.08]
["Day 8",{"$f":"IF('Inputs and Totals'!C27 = 1,'Solar Profiles'!$C$3*'Inputs and Totals'!$B$9*'Inputs and Totals'!$B$8*0.001, IF('Inputs and Totals'!C27 =2,'Solar Profiles'!$C$4*'Inputs and Totals'!$B$8*'Inputs and Totals'!$B$9*0.001,IF('Inputs and Totals'!C27 =3,'Solar Profiles'!$C$5*'Inputs and Totals'!$B$8*'Inputs and Totals'!$B$9*0.001,\"Error\")))","v":0},{"$f":"IF('Inputs and Totals'!C27 = 1,'Solar Profiles'!$D$3*'Inputs and Totals'!$B$9*'Inputs and Totals'!$B$8*0.001, IF('Inputs and Totals'!C27 =2,'Solar Profiles'!$D$4*'Inputs and Totals'!$B$8*'Inputs and Totals'!$B$9*0.001,IF('Inputs and Totals'!C27 =3,'Solar Profiles'!$D$5*'Inputs and Totals'!$B$8*'Inputs and Totals'!$B$9*0.001,\"Error\")))","v":0},{"$f":"IF('Inputs and Totals'!C27 = 1,'Solar Profiles'!$E$3*'Inputs and Totals'!$B$9*'Inputs and Totals'!$B$8*0.001, IF('Inputs and Totals'!C27 =2,'Solar Profiles'!$E$4*'Inputs and Totals'!$B$8*'Inputs and Totals'!$B$9*0.001,IF('Inputs and Totals'!C27 =3,'Solar Profiles'!$E$5*'Inputs and Totals'!$B$8*'Inputs and Totals'!$B$9*0.001,\"Error\")))","v":0},{"$f":"IF('Inputs and Totals'!C27 = 1,'Solar Profiles'!$F$3*'Inputs and Totals'!$B$9*'Inputs and Totals'!$B$8*0.001, IF('Inputs and Totals'!C27 =2,'Solar Profiles'!$F$4*'Inputs and Totals'!$B$8*'Inputs and Totals'!$B$9*0.001,IF('Inputs and Totals'!C27 =3,'Solar Profiles'!$F$5*'Inputs and Totals'!$B$8*'Inputs and Totals'!$B$9*0.001,\"Error\")))","v":0},{"$f":"IF('Inputs and Totals'!C27 = 1,'Solar Profiles'!$G$3*'Inputs and Totals'!$B$9*'Inputs and Totals'!$B$8*0.001, IF('Inputs and Totals'!C27 =2,'Solar Profiles'!$G$4*'Inputs and Totals'!$B$8*'Inputs and Totals'!$B$9*0.001,IF('Inputs and Totals'!C27 =3,'Solar Profiles'!$G$5*'Inputs and Totals'!$B$8*'Inputs and Totals'!$B$9*0.001,\"Error\")))","v":0},{"$f":"IF('Inputs and Totals'!C27 = 1,'Solar Profiles'!$H$3*'Inputs and Totals'!$B$9*'Inputs and Totals'!$B$8*0.001, IF('Inputs and Totals'!C27 =2,'Solar Profiles'!$H$4*'Inputs and Totals'!$B$8*'Inputs and Totals'!$B$9*0.001,IF('Inputs and Totals'!C27 =3,'Solar Profiles'!$H$5*'Inputs and Totals'!$B$8*'Inputs and Totals'!$B$9*0.001,\"Error\")))","v":0},{"$f":"IF('Inputs and Totals'!C27 = 1,'Solar Profiles'!$I$3*'Inputs and Totals'!$B$9*'Inputs and Totals'!$B$8*0.001, IF('Inputs and Totals'!C27 =2,'Solar Profiles'!$I$4*'Inputs and Totals'!$B$8*'Inputs and Totals'!$B$9*0.001,IF('Inputs and Totals'!C27 =3,'Solar Profiles'!$I$5*'Inputs and Totals'!$B$8*'Inputs and Totals'!$B$9*0.001,\"Error\")))","v":0},{"$f":"IF('Inputs and Totals'!C27 = 1,'Solar Profiles'!$J$3*'Inputs and Totals'!$B$9*'Inputs and Totals'!$B$8*0.001, IF('Inputs and Totals'!C27 =2,'Solar Profiles'!$J$4*'Inputs and Totals'!$B$8*'Inputs and Totals'!$B$9*0.001,IF('Inputs and Totals'!C27 =3,'Solar Profiles'!$J$5*'Inputs and Totals'!$B$8*'Inputs and Totals'!$B$9*0.001,\"Error\")))","v":99.990000000000009},{"$f":"IF('Inputs and Totals'!C27 = 1,'Solar Profiles'!$K$3*'Inputs and Totals'!$B$9*'Inputs and Totals'!$B$8*0.001, IF('Inputs and Totals'!C27 =2,'Solar Profiles'!$K$4*'Inputs and Totals'!$B$8*'Inputs and Totals'!$B$9*0.001,IF('Inputs and Totals'!C27 =3,'Solar Profiles'!$K$5*'Inputs and Totals'!$B$8*'Inputs and Totals'!$B$9*0.001,\"Error\")))","v":199.98000000000002},{"$f":"IF('Inputs and Totals'!C27 = 1,'Solar Profiles'!$L$3*'Inputs and Totals'!$B$9*'Inputs and Totals'!$B$8*0.001, IF('Inputs and Totals'!C27 =2,'Solar Profiles'!$L$4*'Inputs and Totals'!$B$8*'Inputs and Totals'!$B$9*0.001,IF('Inputs and Totals'!C27 =3,'Solar Profiles'!$L$5*'Inputs and Totals'!$B$8*'Inputs and Totals'!$B$9*0.001,\"Error\")))","v":299.97000000000003},{"$f":"IF('Inputs and Totals'!C27 = 1,'Solar Profiles'!$M$3*'Inputs and Totals'!$B$9*'Inputs and Totals'!$B$8*0.001, IF('Inputs and Totals'!C27 =2,'Solar Profiles'!$M$4*'Inputs and Totals'!$B$8*'Inputs and Totals'!$B$9*0.001,IF('Inputs and Totals'!C27 =3,'Solar Profiles'!$M$5*'Inputs and Totals'!$B$8*'Inputs and Totals'!$B$9*0.001,\"Error\")))","v":399.96000000000004},{"$f":"IF('Inputs and Totals'!C27 = 1,'Solar Profiles'!$N$3*'Inputs and Totals'!$B$9*'Inputs and Totals'!$B$8*0.001, IF('Inputs and Totals'!C27 =2,'Solar Profiles'!$N$4*'Inputs and Totals'!$B$8*'Inputs and Totals'!$B$9*0.001,IF('Inputs and Totals'!C27 =3,'Solar Profiles'!$N$5*'Inputs and Totals'!$B$8*'Inputs and Totals'!$B$9*0.001,\"Error\")))","v":799.92000000000007},{"$f":"IF('Inputs and Totals'!C27 = 1,'Solar Profiles'!$O$3*'Inputs and Totals'!$B$9*'Inputs and Totals'!$B$8*0.001, IF('Inputs and Totals'!C27 =2,'Solar Profiles'!$O$4*'Inputs and Totals'!$B$8*'Inputs and Totals'!$B$9*0.001,IF('Inputs and Totals'!C27 =3,'Solar Profiles'!$O$5*'Inputs and Totals'!$B$8*'Inputs and Totals'!$B$9*0.001,\"Error\")))","v":999.9},{"$f":"IF('Inputs and Totals'!C27 = 1,'Solar Profiles'!$P$3*'Inputs and Totals'!$B$9*'Inputs and Totals'!$B$8*0.001, IF('Inputs and Totals'!C27 =2,'Solar Profiles'!$P$4*'Inputs and Totals'!$B$8*'Inputs and Totals'!$B$9*0.001,IF('Inputs and Totals'!C27 =3,'Solar Profiles'!$P$5*'Inputs and Totals'!$B$8*'Inputs and Totals'!$B$9*0.001,\"Error\")))","v":999.9},{"$f":"IF('Inputs and Totals'!C27 = 1,'Solar Profiles'!$Q$3*'Inputs and Totals'!$B$9*'Inputs and Totals'!$B$8*0.001, IF('Inputs and Totals'!C27 =2,'Solar Profiles'!$Q$4*'Inputs and Totals'!$B$8*'Inputs and Totals'!$B$9*0.001,IF('Inputs and Totals'!C27 =3,'Solar Profiles'!$Q$5*'Inputs and Totals'!$B$8*'Inputs and Totals'!$B$9*0.001,\"Error\")))","v":799.92000000000007},{"$f":"IF('Inputs and Totals'!C27 = 1,'Solar Profiles'!$R$3*'Inputs and Totals'!$B$9*'Inputs and Totals'!$B$8*0.001, IF('Inputs and Totals'!C27 =2,'Solar Profiles'!$R$4*'Inputs and Totals'!$B$8*'Inputs and Totals'!$B$9*0.001,IF('Inputs and Totals'!C27 =3,'Solar Profiles'!$R$5*'Inputs and Totals'!$B$8*'Inputs and Totals'!$B$9*0.001,\"Error\")))","v":599.94000000000005},{"$f":"IF('Inputs and Totals'!C27 = 1,'Solar Profiles'!$S$3*'Inputs and Totals'!$B$9*'Inputs and Totals'!$B$8*0.001, IF('Inputs and Totals'!C27 =2,'Solar Profiles'!$S$4*'Inputs and Totals'!$B$8*'Inputs and Totals'!$B$9*0.001,IF('Inputs and Totals'!C27 =3,'Solar Profiles'!$S$5*'Inputs and Totals'!$B$8*'Inputs and Totals'!$B$9*0.001,\"Error\")))","v":399.96000000000004},{"$f":"IF('Inputs and Totals'!C27 = 1,'Solar Profiles'!$T$3*'Inputs and Totals'!$B$9*'Inputs and Totals'!$B$8*0.001, IF('Inputs and Totals'!C27 =2,'Solar Profiles'!$T$4*'Inputs and Totals'!$B$8*'Inputs and Totals'!$B$9*0.001,IF('Inputs and Totals'!C27 =3,'Solar Profiles'!$T$5*'Inputs and Totals'!$B$8*'Inputs and Totals'!$B$9*0.001,\"Error\")))","v":199.98000000000002},{"$f":"IF('Inputs and Totals'!C27 = 1,'Solar Profiles'!$U$3*'Inputs and Totals'!$B$9*'Inputs and Totals'!$B$8*0.001, IF('Inputs and Totals'!C27 =2,'Solar Profiles'!$U$4*'Inputs and Totals'!$B$8*'Inputs and Totals'!$B$9*0.001,IF('Inputs and Totals'!C27 =3,'Solar Profiles'!$U$5*'Inputs and Totals'!$B$8*'Inputs and Totals'!$B$9*0.001,\"Error\")))","v":0},{"$f":"IF('Inputs and Totals'!C27 = 1,'Solar Profiles'!$V$3*'Inputs and Totals'!$B$9*'Inputs and Totals'!$B$8*0.001, IF('Inputs and Totals'!C27 =2,'Solar Profiles'!$V$4*'Inputs and Totals'!$B$8*'Inputs and Totals'!$B$9*0.001,IF('Inputs and Totals'!C27 =3,'Solar Profiles'!$V$5*'Inputs and Totals'!$B$8*'Inputs and Totals'!$B$9*0.001,\"Error\")))","v":0},{"$f":"IF('Inputs and Totals'!C27 = 1,'Solar Profiles'!$W$3*'Inputs and Totals'!$B$9*'Inputs and Totals'!$B$8*0.001, IF('Inputs and Totals'!C27 =2,'Solar Profiles'!$W$4*'Inputs and Totals'!$B$8*'Inputs and Totals'!$B$9*0.001,IF('Inputs and Totals'!C27 =3,'Solar Profiles'!$W$5*'Inputs and Totals'!$B$8*'Inputs and Totals'!$B$9*0.001,\"Error\")))","v":0},{"$f":"IF('Inputs and Totals'!C27 = 1,'Solar Profiles'!$X$3*'Inputs and Totals'!$B$9*'Inputs and Totals'!$B$8*0.001, IF('Inputs and Totals'!C27 =2,'Solar Profiles'!$X$4*'Inputs and Totals'!$B$8*'Inputs and Totals'!$B$9*0.001,IF('Inputs and Totals'!C27 =3,'Solar Profiles'!$X$5*'Inputs and Totals'!$B$8*'Inputs and Totals'!$B$9*0.001,\"Error\")))","v":0},{"$f":"IF('Inputs and Totals'!C27 = 1,'Solar Profiles'!$Y$3*'Inputs and Totals'!$B$9*'Inputs and Totals'!$B$8*0.001, IF('Inputs and Totals'!C27 =2,'Solar Profiles'!$Y$4*'Inputs and Totals'!$B$8*'Inputs and Totals'!$B$9*0.001,IF('Inputs and Totals'!C27 =3,'Solar Profiles'!$Y$5*'Inputs and Totals'!$B$8*'Inputs and Totals'!$B$9*0.001,\"Error\")))","v":0},{"$f":"IF('Inputs and Totals'!C27 = 1,'Solar Profiles'!$Z$3*'Inputs and Totals'!$B$9*'Inputs and Totals'!$B$8*0.001, IF('Inputs and Totals'!C27 =2,'Solar Profiles'!$Z$4*'Inputs and Totals'!$B$8*'Inputs and Totals'!$B$9*0.001,IF('Inputs and Totals'!C27 =3,'Solar Profiles'!$Z$5*'Inputs and Totals'!$B$8*'Inputs and Totals'!$B$9*0.001,\"Error\")))","v":0},5799.4200000000019]
["Day 9",{"$f":"IF('Inputs and Totals'!C28 = 1,'Solar Profiles'!$C$3*'Inputs and Totals'!$B$9*'Inputs and Totals'!$B$8*0.001, IF('Inputs and Totals'!C28 =2,'Solar Profiles'!$C$4*'Inputs and Totals'!$B$8*'Inputs and Totals'!$B$9*0.001,IF('Inputs and Totals'!C28 =3,'Solar Profiles'!$C$5*'Inputs and Totals'!$B$8*'Inputs and Totals'!$B$9*0.001,\"Error\")))","v":0},{"$f":"IF('Inputs and Totals'!C28 = 1,'Solar Profiles'!$D$3*'Inputs and Totals'!$B$9*'Inputs and Totals'!$B$8*0.001, IF('Inputs and Totals'!C28 =2,'Solar Profiles'!$D$4*'Inputs and Totals'!$B$8*'Inputs and Totals'!$B$9*0.001,IF('Inputs and Totals'!C28 =3,'Solar Profiles'!$D$5*'Inputs and Totals'!$B$8*'Inputs and Totals'!$B$9*0.001,\"Error\")))","v":0},{"$f":"IF('Inputs and Totals'!C28 = 1,'Solar Profiles'!$E$3*'Inputs and Totals'!$B$9*'Inputs and Totals'!$B$8*0.001, IF('Inputs and Totals'!C28 =2,'Solar Profiles'!$E$4*'Inputs and Totals'!$B$8*'Inputs and Totals'!$B$9*0.001,IF('Inputs and Totals'!C28 =3,'Solar Profiles'!$E$5*'Inputs and Totals'!$B$8*'Inputs and Totals'!$B$9*0.001,\"Error\")))","v":0},{"$f":"IF('Inputs and Totals'!C28 = 1,'Solar Profiles'!$F$3*'Inputs and Totals'!$B$9*'Inputs and Totals'!$B$8*0.001, IF('Inputs and Totals'!C28 =2,'Solar Profiles'!$F$4*'Inputs and Totals'!$B$8*'Inputs and Totals'!$B$9*0.001,IF('Inputs and Totals'!C28 =3,'Solar Profiles'!$F$5*'Inputs and Totals'!$B$8*'Inputs and Totals'!$B$9*0.001,\"Error\")))","v":0},{"$f":"IF('Inputs and Totals'!C28 = 1,'Solar Profiles'!$G$3*'Inputs and Totals'!$B$9*'Inputs and Totals'!$B$8*0.001, IF('Inputs and Totals'!C28 =2,'Solar Profiles'!$G$4*'Inputs and Totals'!$B$8*'Inputs and Totals'!$B$9*0.001,IF('Inputs and Totals'!C28 =3,'Solar Profiles'!$G$5*'Inputs and Totals'!$B$8*'Inputs and Totals'!$B$9*0.001,\"Error\")))","v":0},{"$f":"IF('Inputs and Totals'!C28 = 1,'Solar Profiles'!$H$3*'Inputs and Totals'!$B$9*'Inputs and Totals'!$B$8*0.001, IF('Inputs and Totals'!C28 =2,'Solar Profiles'!$H$4*'Inputs and Totals'!$B$8*'Inputs and Totals'!$B$9*0.001,IF('Inputs and Totals'!C28 =3,'Solar Profiles'!$H$5*'Inputs and Totals'!$B$8*'Inputs and Totals'!$B$9*0.001,\"Error\")))","v":0},{"$f":"IF('Inputs and Totals'!C28 = 1,'Solar Profiles'!$I$3*'Inputs and Totals'!$B$9*'Inputs and Totals'!$B$8*0.001, IF('Inputs and Totals'!C28 =2,'Solar Profiles'!$I$4*'Inputs and Totals'!$B$8*'Inputs and Totals'!$B$9*0.001,IF('Inputs and Totals'!C28 =3,'Solar Profiles'!$I$5*'Inputs and Totals'!$B$8*'Inputs and Totals'!$B$9*0.001,\"Error\")))","v":0},{"$f":"IF('Inputs and Totals'!C28 = 1,'Solar Profiles'!$J$3*'Inputs and Totals'!$B$9*'Inputs and Totals'!$B$8*0.001, IF('Inputs and Totals'!C28 =2,'Solar Profiles'!$J$4*'Inputs and Totals'!$B$8*'Inputs and Totals'!$B$9*0.001,IF('Inputs and Totals'!C28 =3,'Solar Profiles'!$J$5*'Inputs and Totals'!$B$8*'Inputs and Totals'!$B$9*0.001,\"Error\")))","v":199.98000000000002},{"$f":"IF('Inputs and Totals'!C28 = 1,'Solar Profiles'!$K$3*'Inputs and Totals'!$B$9*'Inputs and Totals'!$B$8*0.001, IF('Inputs and Totals'!C28 =2,'Solar Profiles'!$K$4*'Inputs and Totals'!$B$8*'Inputs and Totals'!$B$9*0.001,IF('Inputs and Totals'!C28 =3,'Solar Profiles'!$K$5*'Inputs and Totals'!$B$8*'Inputs and Totals'!$B$9*0.001,\"Error\")))","v":399.96000000000004},{"$f":"IF('Inputs and Totals'!C28 = 1,'Solar Profiles'!$L$3*'Inputs and Totals'!$B$9*'Inputs and Totals'!$B$8*0.001, IF('Inputs and Totals'!C28 =2,'Solar Profiles'!$L$4*'Inputs and Totals'!$B$8*'Inputs and Totals'!$B$9*0.001,IF('Inputs and Totals'!C28 =3,'Solar Profiles'!$L$5*'Inputs and Totals'!$B$8*'Inputs and Totals'!$B$9*0.001,\"Error\")))","v":599.94000000000005},{"$f":"IF('Inputs and Totals'!C28 = 1,'Solar Profiles'!$M$3*'Inputs and Totals'!$B$9*'Inputs and Totals'!$B$8*0.001, IF('Inputs and Totals'!C28 =2,'Solar Profiles'!$M$4*'Inputs and Totals'!$B$8*'Inputs and Totals'!$B$9*0.001,IF('Inputs and Totals'!C28 =3,'Solar Profiles'!$M$5*'Inputs and Totals'!$B$8*'Inputs and Totals'!$B$9*0.001,\"Error\")))","v":799.92000000000007},{"$f":"IF('Inputs and Totals'!C28 = 1,'Solar Profiles'!$N$3*'Inputs and Totals'!$B$9*'Inputs and Totals'!$B$8*0.001, IF('Inputs and Totals'!C28 =2,'Solar Profiles'!$N$4*'Inputs and Totals'!$B$8*'Inputs and Totals'!$B$9*0.001,IF('Inputs and Totals'!C28 =3,'Solar Profiles'!$N$5*'Inputs and Totals'!$B$8*'Inputs and Totals'!$B$9*0.001,\"Error\")))","v":1599.8400000000001},{"$f":"IF('Inputs and Totals'!C28 = 1,'Solar Profiles'!$O$3*'Inputs and Totals'!$B$9*'Inputs and Totals'!$B$8*0.001, IF('Inputs and Totals'!C28 =2,'Solar Profiles'!$O$4*'Inputs and Totals'!$B$8*'Inputs and Totals'!$B$9*0.001,IF('Inputs and Totals'!C28 =3,'Solar Profiles'!$O$5*'Inputs and Totals'!$B$8*'Inputs and Totals'!$B$9*0.001,\"Error\")))","v":1999.8},{"$f":"IF('Inputs and Totals'!C28 = 1,'Solar Profiles'!$P$3*'Inputs and Totals'!$B$9*'Inputs and Totals'!$B$8*0.001, IF('Inputs and Totals'!C28 =2,'Solar Profiles'!$P$4*'Inputs and Totals'!$B$8*'Inputs and Totals'!$B$9*0.001,IF('Inputs and Totals'!C28 =3,'Solar Profiles'!$P$5*'Inputs and Totals'!$B$8*'Inputs and Totals'!$B$9*0.001,\"Error\")))","v":1999.8},{"$f":"IF('Inputs and Totals'!C28 = 1,'Solar Profiles'!$Q$3*'Inputs and Totals'!$B$9*'Inputs and Totals'!$B$8*0.001, IF('Inputs and Totals'!C28 =2,'Solar Profiles'!$Q$4*'Inputs and Totals'!$B$8*'Inputs and Totals'!$B$9*0.001,IF('Inputs and Totals'!C28 =3,'Solar Profiles'!$Q$5*'Inputs and Totals'!$B$8*'Inputs and Totals'!$B$9*0.001,\"Error\")))","v":1399.86},{"$f":"IF('Inputs and Totals'!C28 = 1,'Solar Profiles'!$R$3*'Inputs and Totals'!$B$9*'Inputs and Totals'!$B$8*0.001, IF('Inputs and Totals'!C28 =2,'Solar Profiles'!$R$4*'Inputs and Totals'!$B$8*'Inputs and Totals'!$B$9*0.001,IF('Inputs and Totals'!C28 =3,'Solar Profiles'!$R$5*'Inputs and Totals'!$B$8*'Inputs and Totals'!$B$9*0.001,\"Error\")))","v":1199.8800000000001},{"$f":"IF('Inputs and Totals'!C28 = 1,'Solar Profiles'!$S$3*'Inputs and Totals'!$B$9*'Inputs and Totals'!$B$8*0.001, IF('Inputs and Totals'!C28 =2,'Solar Profiles'!$S$4*'Inputs and Totals'!$B$8*'Inputs and Totals'!$B$9*0.001,IF('Inputs and Totals'!C28 =3,'Solar Profiles'!$S$5*'Inputs and Totals'!$B$8*'Inputs and Totals'!$B$9*0.001,\"Error\")))","v":999.9},{"$f":"IF('Inputs and Totals'!C28 = 1,'Solar Profiles'!$T$3*'Inputs and Totals'!$B$9*'Inputs and Totals'!$B$8*0.001, IF('Inputs and Totals'!C28 =2,'Solar Profiles'!$T$4*'Inputs and Totals'!$B$8*'Inputs and Totals'!$B$9*0.001,IF('Inputs and Totals'!C28 =3,'Solar Profiles'!$T$5*'Inputs and Totals'!$B$8*'Inputs and Totals'!$B$9*0.001,\"Error\")))","v":399.96000000000004},{"$f":"IF('Inputs and Totals'!C28 = 1,'Solar Profiles'!$U$3*'Inputs and Totals'!$B$9*'Inputs and Totals'!$B$8*0.001, IF('Inputs and Totals'!C28 =2,'Solar Profiles'!$U$4*'Inputs and Totals'!$B$8*'Inputs and Totals'!$B$9*0.001,IF('Inputs and Totals'!C28 =3,'Solar Profiles'!$U$5*'Inputs and Totals'!$B$8*'Inputs and Totals'!$B$9*0.001,\"Error\")))","v":0},{"$f":"IF('Inputs and Totals'!C28 = 1,'Solar Profiles'!$V$3*'Inputs and Totals'!$B$9*'Inputs and Totals'!$B$8*0.001, IF('Inputs and Totals'!C28 =2,'Solar Profiles'!$V$4*'Inputs and Totals'!$B$8*'Inputs and Totals'!$B$9*0.001,IF('Inputs and Totals'!C28 =3,'Solar Profiles'!$V$5*'Inputs and Totals'!$B$8*'Inputs and Totals'!$B$9*0.001,\"Error\")))","v":0},{"$f":"IF('Inputs and Totals'!C28 = 1,'Solar Profiles'!$W$3*'Inputs and Totals'!$B$9*'Inputs and Totals'!$B$8*0.001, IF('Inputs and Totals'!C28 =2,'Solar Profiles'!$W$4*'Inputs and Totals'!$B$8*'Inputs and Totals'!$B$9*0.001,IF('Inputs and Totals'!C28 =3,'Solar Profiles'!$W$5*'Inputs and Totals'!$B$8*'Inputs and Totals'!$B$9*0.001,\"Error\")))","v":0},{"$f":"IF('Inputs and Totals'!C28 = 1,'Solar Profiles'!$X$3*'Inputs and Totals'!$B$9*'Inputs and Totals'!$B$8*0.001, IF('Inputs and Totals'!C28 =2,'Solar Profiles'!$X$4*'Inputs and Totals'!$B$8*'Inputs and Totals'!$B$9*0.001,IF('Inputs and Totals'!C28 =3,'Solar Profiles'!$X$5*'Inputs and Totals'!$B$8*'Inputs and Totals'!$B$9*0.001,\"Error\")))","v":0},{"$f":"IF('Inputs and Totals'!C28 = 1,'Solar Profiles'!$Y$3*'Inputs and Totals'!$B$9*'Inputs and Totals'!$B$8*0.001, IF('Inputs and Totals'!C28 =2,'Solar Profiles'!$Y$4*'Inputs and Totals'!$B$8*'Inputs and Totals'!$B$9*0.001,IF('Inputs and Totals'!C28 =3,'Solar Profiles'!$Y$5*'Inputs and Totals'!$B$8*'Inputs and Totals'!$B$9*0.001,\"Error\")))","v":0},{"$f":"IF('Inputs and Totals'!C28 = 1,'Solar Profiles'!$Z$3*'Inputs and Totals'!$B$9*'Inputs and Totals'!$B$8*0.001, IF('Inputs and Totals'!C28 =2,'Solar Profiles'!$Z$4*'Inputs and Totals'!$B$8*'Inputs and Totals'!$B$9*0.001,IF('Inputs and Totals'!C28 =3,'Solar Profiles'!$Z$5*'Inputs and Totals'!$B$8*'Inputs and Totals'!$B$9*0.001,\"Error\")))","v":0},11598.84]
["Day 10",{"$f":"IF('Inputs and Totals'!C29 = 1,'Solar Profiles'!$C$3*'Inputs and Totals'!$B$9*'Inputs and Totals'!$B$8*0.001, IF('Inputs and Totals'!C29 =2,'Solar Profiles'!$C$4*'Inputs and Totals'!$B$8*'Inputs and Totals'!$B$9*0.001,IF('Inputs and Totals'!C29 =3,'Solar Profiles'!$C$5*'Inputs and Totals'!$B$8*'Inputs and Totals'!$B$9*0.001,\"Error\")))","v":0},{"$f":"IF('Inputs and Totals'!C29 = 1,'Solar Profiles'!$D$3*'Inputs and Totals'!$B$9*'Inputs and Totals'!$B$8*0.001, IF('Inputs and Totals'!C29 =2,'Solar Profiles'!$D$4*'Inputs and Totals'!$B$8*'Inputs and Totals'!$B$9*0.001,IF('Inputs and Totals'!C29 =3,'Solar Profiles'!$D$5*'Inputs and Totals'!$B$8*'Inputs and Totals'!$B$9*0.001,\"Error\")))","v":0},{"$f":"IF('Inputs and Totals'!C29 = 1,'Solar Profiles'!$E$3*'Inputs and Totals'!$B$9*'Inputs and Totals'!$B$8*0.001, IF('Inputs and Totals'!C29 =2,'Solar Profiles'!$E$4*'Inputs and Totals'!$B$8*'Inputs and Totals'!$B$9*0.001,IF('Inputs and Totals'!C29 =3,'Solar Profiles'!$E$5*'Inputs and Totals'!$B$8*'Inputs and Totals'!$B$9*0.001,\"Error\")))","v":0},{"$f":"IF('Inputs and Totals'!C29 = 1,'Solar Profiles'!$F$3*'Inputs and Totals'!$B$9*'Inputs and Totals'!$B$8*0.001, IF('Inputs and Totals'!C29 =2,'Solar Profiles'!$F$4*'Inputs and Totals'!$B$8*'Inputs and Totals'!$B$9*0.001,IF('Inputs and Totals'!C29 =3,'Solar Profiles'!$F$5*'Inputs and Totals'!$B$8*'Inputs and Totals'!$B$9*0.001,\"Error\")))","v":0},{"$f":"IF('Inputs and Totals'!C29 = 1,'Solar Profiles'!$G$3*'Inputs and Totals'!$B$9*'Inputs and Totals'!$B$8*0.001, IF('Inputs and Totals'!C29 =2,'Solar Profiles'!$G$4*'Inputs and Totals'!$B$8*'Inputs and Totals'!$B$9*0.001,IF('Inputs and Totals'!C29 =3,'Solar Profiles'!$G$5*'Inputs and Totals'!$B$8*'Inputs and Totals'!$B$9*0.001,\"Error\")))","v":0},{"$f":"IF('Inputs and Totals'!C29 = 1,'Solar Profiles'!$H$3*'Inputs and Totals'!$B$9*'Inputs and Totals'!$B$8*0.001, IF('Inputs and Totals'!C29 =2,'Solar Profiles'!$H$4*'Inputs and Totals'!$B$8*'Inputs and Totals'!$B$9*0.001,IF('Inputs and Totals'!C29 =3,'Solar Profiles'!$H$5*'Inputs and Totals'!$B$8*'Inputs and Totals'!$B$9*0.001,\"Error\")))","v":0},{"$f":"IF('Inputs and Totals'!C29 = 1,'Solar Profiles'!$I$3*'Inputs and Totals'!$B$9*'Inputs and Totals'!$B$8*0.001, IF('Inputs and Totals'!C29 =2,'Solar Profiles'!$I$4*'Inputs and Totals'!$B$8*'Inputs and Totals'!$B$9*0.001,IF('Inputs and Totals'!C29 =3,'Solar Profiles'!$I$5*'Inputs and Totals'!$B$8*'Inputs and Totals'!$B$9*0.001,\"Error\")))","v":0},{"$f":"IF('Inputs and Totals'!C29 = 1,'Solar Profiles'!$J$3*'Inputs and Totals'!$B$9*'Inputs and Totals'!$B$8*0.001, IF('Inputs and Totals'!C29 =2,'Solar Profiles'!$J$4*'Inputs and Totals'!$B$8*'Inputs and Totals'!$B$9*0.001,IF('Inputs and Totals'!C29 =3,'Solar Profiles'!$J$5*'Inputs and Totals'!$B$8*'Inputs and Totals'!$B$9*0.001,\"Error\")))","v":199.98000000000002},{"$f":"IF('Inputs and Totals'!C29 = 1,'Solar Profiles'!$K$3*'Inputs and Totals'!$B$9*'Inputs and Totals'!$B$8*0.001, IF('Inputs and Totals'!C29 =2,'Solar Profiles'!$K$4*'Inputs and Totals'!$B$8*'Inputs and Totals'!$B$9*0.001,IF('Inputs and Totals'!C29 =3,'Solar Profiles'!$K$5*'Inputs and Totals'!$B$8*'Inputs and Totals'!$B$9*0.001,\"Error\")))","v":199.98000000000002},{"$f":"IF('Inputs and Totals'!C29 = 1,'Solar Profiles'!$L$3*'Inputs and Totals'!$B$9*'Inputs and Totals'!$B$8*0.001, IF('Inputs and Totals'!C29 =2,'Solar Profiles'!$L$4*'Inputs and Totals'!$B$8*'Inputs and Totals'!$B$9*0.001,IF('Inputs and Totals'!C29 =3,'Solar Profiles'!$L$5*'Inputs and Totals'!$B$8*'Inputs and Totals'!$B$9*0.001,\"Error\")))","v":399.96000000000004},{"$f":"IF('Inputs and Totals'!C29 = 1,'Solar Profiles'!$M$3*'Inputs and Totals'!$B$9*'Inputs and Totals'!$B$8*0.001, IF('Inputs and Totals'!C29 =2,'Solar Profiles'!$M$4*'Inputs and Totals'!$B$8*'Inputs and Totals'!$B$9*0.001,IF('Inputs and Totals'!C29 =3,'Solar Profiles'!$M$5*'Inputs and Totals'!$B$8*'Inputs and Totals'!$B$9*0.001,\"Error\")))","v":599.94000000000005},{"$f":"IF('Inputs and Totals'!C29 = 1,'Solar Profiles'!$N$3*'Inputs and Totals'!$B$9*'Inputs and Totals'!$B$8*0.001, IF('Inputs and Totals'!C29 =2,'Solar Profiles'!$N$4*'Inputs and Totals'!$B$8*'Inputs and Totals'!$B$9*0.001,IF('Inputs and Totals'!C29 =3,'Solar Profiles'!$N$5*'Inputs and Totals'!$B$8*'Inputs and Totals'!$B$9*0.001,\"Error\")))","v":999.9},{"$f":"IF('Inputs and Totals'!C29 = 1,'Solar Profiles'!$O$3*'Inputs and Totals'!$B$9*'Inputs and Totals'!$B$8*0.001, IF('Inputs and Totals'!C29 =2,'Solar Profiles'!$O$4*'Inputs and Totals'!$B$8*'Inputs and Totals'!$B$9*0.001,IF('Inputs and Totals'!C29 =3,'Solar Profiles'!$O$5*'Inputs and Totals'!$B$8*'Inputs and Totals'!$B$9*0.001,\"Error\")))","v":1799.82},{"$f":"IF('Inputs and Totals'!C29 = 1,'Solar Profiles'!$P$3*'Inputs and Totals'!$B$9*'Inputs and Totals'!$B$8*0.001, IF('Inputs and Totals'!C29 =2,'Solar Profiles'!$P$4*'Inputs and Totals'!$B$8*'Inputs and Totals'!$B$9*0.001,IF('Inputs and Totals'!C29 =3,'Solar Profiles'!$P$5*'Inputs and Totals'!$B$8*'Inputs and Totals'!$B$9*0.001,\"Error\")))","v":1999.8},{"$f":"IF('Inputs and Totals'!C29 = 1,'Solar Profiles'!$Q$3*'Inputs and Totals'!$B$9*'Inputs and Totals'!$B$8*0.001, IF('Inputs and Totals'!C29 =2,'Solar Profiles'!$Q$4*'Inputs and Totals'!$B$8*'Inputs and Totals'!$B$9*0.001,IF('Inputs and Totals'!C29 =3,'Solar Profiles'!$Q$5*'Inputs and Totals'!$B$8*'Inputs and Totals'!$B$9*0.001,\"Error\")))","v":1199.8800000000001},{"$f":"IF('Inputs and Totals'!C29 = 1,'Solar Profiles'!$R$3*'Inputs and Totals'!$B$9*'Inputs and Totals'!$B$8*0.001, IF('Inputs and Totals'!C29 =2,'Solar Profiles'!$R$4*'Inputs and Totals'!$B$8*'Inputs and Totals'!$B$9*0.001,IF('Inputs and Totals'!C29 =3,'Solar Profiles'!$R$5*'Inputs and Totals'!$B$8*'Inputs and Totals'!$B$9*0.001,\"Error\")))","v":999.9},{"$f":"IF('Inputs and Totals'!C29 = 1,'Solar Profiles'!$S$3*'Inputs and Totals'!$B$9*'Inputs and Totals'!$B$8*0.001, IF('Inputs and Totals'!C29 =2,'Solar Profiles'!$S$4*'Inputs and Totals'!$B$8*'Inputs and Totals'!$B$9*0.001,IF('Inputs and Totals'!C29 =3,'Solar Profiles'!$S$5*'Inputs and Totals'!$B$8*'Inputs and Totals'!$B$9*0.001,\"Error\")))","v":599.94000000000005},{"$f":"IF('Inputs and Totals'!C29 = 1,'Solar Profiles'!$T$3*'Inputs and Totals'!$B$9*'Inputs and Totals'!$B$8*0.001, IF('Inputs and Totals'!C29 =2,'Solar Profiles'!$T$4*'Inputs and Totals'!$B$8*'Inputs and Totals'!$B$9*0.001,IF('Inputs and Totals'!C29 =3,'Solar Profiles'!$T$5*'Inputs and Totals'!$B$8*'Inputs and Totals'!$B$9*0.001,\"Error\")))","v":199.98000000000002},{"$f":"IF('Inputs and Totals'!C29 = 1,'Solar Profiles'!$U$3*'Inputs and Totals'!$B$9*'Inputs and Totals'!$B$8*0.001, IF('Inputs and Totals'!C29 =2,'Solar Profiles'!$U$4*'Inputs and Totals'!$B$8*'Inputs and Totals'!$B$9*0.001,IF('Inputs and Totals'!C29 =3,'Solar Profiles'!$U$5*'Inputs and Totals'!$B$8*'Inputs and Totals'!$B$9*0.001,\"Error\")))","v":0},{"$f":"IF('Inputs and Totals'!C29 = 1,'Solar Profiles'!$V$3*'Inputs and Totals'!$B$9*'Inputs and Totals'!$B$8*0.001, IF('Inputs and Totals'!C29 =2,'Solar Profiles'!$V$4*'Inputs and Totals'!$B$8*'Inputs and Totals'!$B$9*0.001,IF('Inputs and Totals'!C29 =3,'Solar Profiles'!$V$5*'Inputs and Totals'!$B$8*'Inputs and Totals'!$B$9*0.001,\"Error\")))","v":0},{"$f":"IF('Inputs and Totals'!C29 = 1,'Solar Profiles'!$W$3*'Inputs and Totals'!$B$9*'Inputs and Totals'!$B$8*0.001, IF('Inputs and Totals'!C29 =2,'Solar Profiles'!$W$4*'Inputs and Totals'!$B$8*'Inputs and Totals'!$B$9*0.001,IF('Inputs and Totals'!C29 =3,'Solar Profiles'!$W$5*'Inputs and Totals'!$B$8*'Inputs and Totals'!$B$9*0.001,\"Error\")))","v":0},{"$f":"IF('Inputs and Totals'!C29 = 1,'Solar Profiles'!$X$3*'Inputs and Totals'!$B$9*'Inputs and Totals'!$B$8*0.001, IF('Inputs and Totals'!C29 =2,'Solar Profiles'!$X$4*'Inputs and Totals'!$B$8*'Inputs and Totals'!$B$9*0.001,IF('Inputs and Totals'!C29 =3,'Solar Profiles'!$X$5*'Inputs and Totals'!$B$8*'Inputs and Totals'!$B$9*0.001,\"Error\")))","v":0},{"$f":"IF('Inputs and Totals'!C29 = 1,'Solar Profiles'!$Y$3*'Inputs and Totals'!$B$9*'Inputs and Totals'!$B$8*0.001, IF('Inputs and Totals'!C29 =2,'Solar Profiles'!$Y$4*'Inputs and Totals'!$B$8*'Inputs and Totals'!$B$9*0.001,IF('Inputs and Totals'!C29 =3,'Solar Profiles'!$Y$5*'Inputs and Totals'!$B$8*'Inputs and Totals'!$B$9*0.001,\"Error\")))","v":0},{"$f":"IF('Inputs and Totals'!C29 = 1,'Solar Profiles'!$Z$3*'Inputs and Totals'!$B$9*'Inputs and Totals'!$B$8*0.001, IF('Inputs and Totals'!C29 =2,'Solar Profiles'!$Z$4*'Inputs and Totals'!$B$8*'Inputs and Totals'!$B$9*0.001,IF('Inputs and Totals'!C29 =3,'Solar Profiles'!$Z$5*'Inputs and Totals'!$B$8*'Inputs and Totals'!$B$9*0.001,\"Error\")))","v":0},9199.08]
["Day 11",{"$f":"IF('Inputs and Totals'!C30 = 1,'Solar Profiles'!$C$3*'Inputs and Totals'!$B$9*'Inputs and Totals'!$B$8*0.001, IF('Inputs and Totals'!C30 =2,'Solar Profiles'!$C$4*'Inputs and Totals'!$B$8*'Inputs and Totals'!$B$9*0.001,IF('Inputs and Totals'!C30 =3,'Solar Profiles'!$C$5*'Inputs and Totals'!$B$8*'Inputs and Totals'!$B$9*0.001,\"Error\")))","v":0},{"$f":"IF('Inputs and Totals'!C30 = 1,'Solar Profiles'!$D$3*'Inputs and Totals'!$B$9*'Inputs and Totals'!$B$8*0.001, IF('Inputs and Totals'!C30 =2,'Solar Profiles'!$D$4*'Inputs and Totals'!$B$8*'Inputs and Totals'!$B$9*0.001,IF('Inputs and Totals'!C30 =3,'Solar Profiles'!$D$5*'Inputs and Totals'!$B$8*'Inputs and Totals'!$B$9*0.001,\"Error\")))","v":0},{"$f":"IF('Inputs and Totals'!C30 = 1,'Solar Profiles'!$E$3*'Inputs and Totals'!$B$9*'Inputs and Totals'!$B$8*0.001, IF('Inputs and Totals'!C30 =2,'Solar Profiles'!$E$4*'Inputs and Totals'!$B$8*'Inputs and Totals'!$B$9*0.001,IF('Inputs and Totals'!C30 =3,'Solar Profiles'!$E$5*'Inputs and Totals'!$B$8*'Inputs and Totals'!$B$9*0.001,\"Error\")))","v":0},{"$f":"IF('Inputs and Totals'!C30 = 1,'Solar Profiles'!$F$3*'Inputs and Totals'!$B$9*'Inputs and Totals'!$B$8*0.001, IF('Inputs and Totals'!C30 =2,'Solar Profiles'!$F$4*'Inputs and Totals'!$B$8*'Inputs and Totals'!$B$9*0.001,IF('Inputs and Totals'!C30 =3,'Solar Profiles'!$F$5*'Inputs and Totals'!$B$8*'Inputs and Totals'!$B$9*0.001,\"Error\")))","v":0},{"$f":"IF('Inputs and Totals'!C30 = 1,'Solar Profiles'!$G$3*'Inputs and Totals'!$B$9*'Inputs and Totals'!$B$8*0.001, IF('Inputs and Totals'!C30 =2,'Solar Profiles'!$G$4*'Inputs and Totals'!$B$8*'Inputs and Totals'!$B$9*0.001,IF('Inputs and Totals'!C30 =3,'Solar Profiles'!$G$5*'Inputs and Totals'!$B$8*'Inputs and Totals'!$B$9*0.001,\"Error\")))","v":0},{"$f":"IF('Inputs and Totals'!C30 = 1,'Solar Profiles'!$H$3*'Inputs and Totals'!$B$9*'Inputs and Totals'!$B$8*0.001, IF('Inputs and Totals'!C30 =2,'Solar Profiles'!$H$4*'Inputs and Totals'!$B$8*'Inputs and Totals'!$B$9*0.001,IF('Inputs and Totals'!C30 =3,'Solar Profiles'!$H$5*'Inputs and Totals'!$B$8*'Inputs and Totals'!$B$9*0.001,\"Error\")))","v":0},{"$f":"IF('Inputs and Totals'!C30 = 1,'Solar Profiles'!$I$3*'Inputs and Totals'!$B$9*'Inputs and Totals'!$B$8*0.001, IF('Inputs and Totals'!C30 =2,'Solar Profiles'!$I$4*'Inputs and Totals'!$B$8*'Inputs and Totals'!$B$9*0.001,IF('Inputs and Totals'!C30 =3,'Solar Profiles'!$I$5*'Inputs and Totals'!$B$8*'Inputs and Totals'!$B$9*0.001,\"Error\")))","v":0},{"$f":"IF('Inputs and Totals'!C30 = 1,'Solar Profiles'!$J$3*'Inputs and Totals'!$B$9*'Inputs and Totals'!$B$8*0.001, IF('Inputs and Totals'!C30 =2,'Solar Profiles'!$J$4*'Inputs and Totals'!$B$8*'Inputs and Totals'!$B$9*0.001,IF('Inputs and Totals'!C30 =3,'Solar Profiles'!$J$5*'Inputs and Totals'!$B$8*'Inputs and Totals'!$B$9*0.001,\"Error\")))","v":199.98000000000002},{"$f":"IF('Inputs and Totals'!C30 = 1,'Solar Profiles'!$K$3*'Inputs and Totals'!$B$9*'Inputs and Totals'!$B$8*0.001, IF('Inputs and Totals'!C30 =2,'Solar Profiles'!$K$4*'Inputs and Totals'!$B$8*'Inputs and Totals'!$B$9*0.001,IF('Inputs and Totals'!C30 =3,'Solar Profiles'!$K$5*'Inputs and Totals'!$B$8*'Inputs and Totals'!$B$9*0.001,\"Error\")))","v":199.98000000000002},{"$f":"IF('Inputs and Totals'!C30 = 1,'Solar Profiles'!$L$3*'Inputs and Totals'!$B$9*'Inputs and Totals'!$B$8*0.001, IF('Inputs and Totals'!C30 =2,'Solar Profiles'!$L$4*'Inputs and Totals'!$B$8*'Inputs and Totals'!$B$9*0.001,IF('Inputs and Totals'!C30 =3,'Solar Profiles'!$L$5*'Inputs and Totals'!$B$8*'Inputs and Totals'!$B$9*0.001,\"Error\")))","v":399.96000000000004},{"$f":"IF('Inputs and Totals'!C30 = 1,'Solar Profiles'!$M$3*'Inputs and Totals'!$B$9*'Inputs and Totals'!$B$8*0.001, IF('Inputs and Totals'!C30 =2,'Solar Profiles'!$M$4*'Inputs and Totals'!$B$8*'Inputs and Totals'!$B$9*0.001,IF('Inputs and Totals'!C30 =3,'Solar Profiles'!$M$5*'Inputs and Totals'!$B$8*'Inputs and Totals'!$B$9*0.001,\"Error\")))","v":599.94000000000005},{"$f":"IF('Inputs and Totals'!C30 = 1,'Solar Profiles'!$N$3*'Inputs and Totals'!$B$9*'Inputs and Totals'!$B$8*0.001, IF('Inputs and Totals'!C30 =2,'Solar Profiles'!$N$4*'Inputs and Totals'!$B$8*'Inputs and Totals'!$B$9*0.001,IF('Inputs and Totals'!C30 =3,'Solar Profiles'!$N$5*'Inputs and Totals'!$B$8*'Inputs and Totals'!$B$9*0.001,\"Error\")))","v":999.9},{"$f":"IF('Inputs and Totals'!C30 = 1,'Solar Profiles'!$O$3*'Inputs and Totals'!$B$9*'Inputs and Totals'!$B$8*0.001, IF('Inputs and Totals'!C30 =2,'Solar Profiles'!$O$4*'Inputs and Totals'!$B$8*'Inputs and Totals'!$B$9*0.001,IF('Inputs and Totals'!C30 =3,'Solar Profiles'!$O$5*'Inputs and Totals'!$B$8*'Inputs and Totals'!$B$9*0.001,\"Error\")))","v":1799.82},{"$f":"IF('Inputs and Totals'!C30 = 1,'Solar Profiles'!$P$3*'Inputs and Totals'!$B$9*'Inputs and Totals'!$B$8*0.001, IF('Inputs and Totals'!C30 =2,'Solar Profiles'!$P$4*'Inputs and Totals'!$B$8*'Inputs and Totals'!$B$9*0.001,IF('Inputs and Totals'!C30 =3,'Solar Profiles'!$P$5*'Inputs and Totals'!$B$8*'Inputs and Totals'!$B$9*0.001,\"Error\")))","v":1999.8},{"$f":"IF('Inputs and Totals'!C30 = 1,'Solar Profiles'!$Q$3*'Inputs and Totals'!$B$9*'Inputs and Totals'!$B$8*0.001, IF('Inputs and Totals'!C30 =2,'Solar Profiles'!$Q$4*'Inputs and Totals'!$B$8*'Inputs and Totals'!$B$9*0.001,IF('Inputs and Totals'!C30 =3,'Solar Profiles'!$Q$5*'Inputs and Totals'!$B$8*'Inputs and Totals'!$B$9*0.001,\"Error\")))","v":1199.8800000000001},{"$f":"IF('Inputs and Totals'!C30 = 1,'Solar Profiles'!$R$3*'Inputs and Totals'!$B$9*'Inputs and Totals'!$B$8*0.001, IF('Inputs and Totals'!C30 =2,'Solar Profiles'!$R$4*'Inputs and Totals'!$B$8*'Inputs and Totals'!$B$9*0.001,IF('Inputs and Totals'!C30 =3,'Solar Profiles'!$R$5*'Inputs and Totals'!$B$8*'Inputs and Totals'!$B$9*0.001,\"Error\")))","v":999.9},{"$f":"IF('Inputs and Totals'!C30 = 1,'Solar Profiles'!$S$3*'Inputs and Totals'!$B$9*'Inputs and Totals'!$B$8*0.001, IF('Inputs and Totals'!C30 =2,'Solar Profiles'!$S$4*'Inputs and Totals'!$B$8*'Inputs and Totals'!$B$9*0.001,IF('Inputs and Totals'!C30 =3,'Solar Profiles'!$S$5*'Inputs and Totals'!$B$8*'Inputs and Totals'!$B$9*0.001,\"Error\")))","v":599.94000000000005},{"$f":"IF('Inputs and Totals'!C30 = 1,'Solar Profiles'!$T$3*'Inputs and Totals'!$B$9*'Inputs and Totals'!$B$8*0.001, IF('Inputs and Totals'!C30 =2,'Solar Profiles'!$T$4*'Inputs and Totals'!$B$8*'Inputs and Totals'!$B$9*0.001,IF('Inputs and Totals'!C30 =3,'Solar Profiles'!$T$5*'Inputs and Totals'!$B$8*'Inputs and Totals'!$B$9*0.001,\"Error\")))","v":199.98000000000002},{"$f":"IF('Inputs and Totals'!C30 = 1,'Solar Profiles'!$U$3*'Inputs and Totals'!$B$9*'Inputs and Totals'!$B$8*0.001, IF('Inputs and Totals'!C30 =2,'Solar Profiles'!$U$4*'Inputs and Totals'!$B$8*'Inputs and Totals'!$B$9*0.001,IF('Inputs and Totals'!C30 =3,'Solar Profiles'!$U$5*'Inputs and Totals'!$B$8*'Inputs and Totals'!$B$9*0.001,\"Error\")))","v":0},{"$f":"IF('Inputs and Totals'!C30 = 1,'Solar Profiles'!$V$3*'Inputs and Totals'!$B$9*'Inputs and Totals'!$B$8*0.001, IF('Inputs and Totals'!C30 =2,'Solar Profiles'!$V$4*'Inputs and Totals'!$B$8*'Inputs and Totals'!$B$9*0.001,IF('Inputs and Totals'!C30 =3,'Solar Profiles'!$V$5*'Inputs and Totals'!$B$8*'Inputs and Totals'!$B$9*0.001,\"Error\")))","v":0},{"$f":"IF('Inputs and Totals'!C30 = 1,'Solar Profiles'!$W$3*'Inputs and Totals'!$B$9*'Inputs and Totals'!$B$8*0.001, IF('Inputs and Totals'!C30 =2,'Solar Profiles'!$W$4*'Inputs and Totals'!$B$8*'Inputs and Totals'!$B$9*0.001,IF('Inputs and Totals'!C30 =3,'Solar Profiles'!$W$5*'Inputs and Totals'!$B$8*'Inputs and Totals'!$B$9*0.001,\"Error\")))","v":0},{"$f":"IF('Inputs and Totals'!C30 = 1,'Solar Profiles'!$X$3*'Inputs and Totals'!$B$9*'Inputs and Totals'!$B$8*0.001, IF('Inputs and Totals'!C30 =2,'Solar Profiles'!$X$4*'Inputs and Totals'!$B$8*'Inputs and Totals'!$B$9*0.001,IF('Inputs and Totals'!C30 =3,'Solar Profiles'!$X$5*'Inputs and Totals'!$B$8*'Inputs and Totals'!$B$9*0.001,\"Error\")))","v":0},{"$f":"IF('Inputs and Totals'!C30 = 1,'Solar Profiles'!$Y$3*'Inputs and Totals'!$B$9*'Inputs and Totals'!$B$8*0.001, IF('Inputs and Totals'!C30 =2,'Solar Profiles'!$Y$4*'Inputs and Totals'!$B$8*'Inputs and Totals'!$B$9*0.001,IF('Inputs and Totals'!C30 =3,'Solar Profiles'!$Y$5*'Inputs and Totals'!$B$8*'Inputs and Totals'!$B$9*0.001,\"Error\")))","v":0},{"$f":"IF('Inputs and Totals'!C30 = 1,'Solar Profiles'!$Z$3*'Inputs and Totals'!$B$9*'Inputs and Totals'!$B$8*0.001, IF('Inputs and Totals'!C30 =2,'Solar Profiles'!$Z$4*'Inputs and Totals'!$B$8*'Inputs and Totals'!$B$9*0.001,IF('Inputs and Totals'!C30 =3,'Solar Profiles'!$Z$5*'Inputs and Totals'!$B$8*'Inputs and Totals'!$B$9*0.001,\"Error\")))","v":0},9199.08]
["Day 12",{"$f":"IF('Inputs and Totals'!C31 = 1,'Solar Profiles'!$C$3*'Inputs and Totals'!$B$9*'Inputs and Totals'!$B$8*0.001, IF('Inputs and Totals'!C31 =2,'Solar Profiles'!$C$4*'Inputs and Totals'!$B$8*'Inputs and Totals'!$B$9*0.001,IF('Inputs and Totals'!C31 =3,'Solar Profiles'!$C$5*'Inputs and Totals'!$B$8*'Inputs and Totals'!$B$9*0.001,\"Error\")))","v":0},{"$f":"IF('Inputs and Totals'!C31 = 1,'Solar Profiles'!$D$3*'Inputs and Totals'!$B$9*'Inputs and Totals'!$B$8*0.001, IF('Inputs and Totals'!C31 =2,'Solar Profiles'!$D$4*'Inputs and Totals'!$B$8*'Inputs and Totals'!$B$9*0.001,IF('Inputs and Totals'!C31 =3,'Solar Profiles'!$D$5*'Inputs and Totals'!$B$8*'Inputs and Totals'!$B$9*0.001,\"Error\")))","v":0},{"$f":"IF('Inputs and Totals'!C31 = 1,'Solar Profiles'!$E$3*'Inputs and Totals'!$B$9*'Inputs and Totals'!$B$8*0.001, IF('Inputs and Totals'!C31 =2,'Solar Profiles'!$E$4*'Inputs and Totals'!$B$8*'Inputs and Totals'!$B$9*0.001,IF('Inputs and Totals'!C31 =3,'Solar Profiles'!$E$5*'Inputs and Totals'!$B$8*'Inputs and Totals'!$B$9*0.001,\"Error\")))","v":0},{"$f":"IF('Inputs and Totals'!C31 = 1,'Solar Profiles'!$F$3*'Inputs and Totals'!$B$9*'Inputs and Totals'!$B$8*0.001, IF('Inputs and Totals'!C31 =2,'Solar Profiles'!$F$4*'Inputs and Totals'!$B$8*'Inputs and Totals'!$B$9*0.001,IF('Inputs and Totals'!C31 =3,'Solar Profiles'!$F$5*'Inputs and Totals'!$B$8*'Inputs and Totals'!$B$9*0.001,\"Error\")))","v":0},{"$f":"IF('Inputs and Totals'!C31 = 1,'Solar Profiles'!$G$3*'Inputs and Totals'!$B$9*'Inputs and Totals'!$B$8*0.001, IF('Inputs and Totals'!C31 =2,'Solar Profiles'!$G$4*'Inputs and Totals'!$B$8*'Inputs and Totals'!$B$9*0.001,IF('Inputs and Totals'!C31 =3,'Solar Profiles'!$G$5*'Inputs and Totals'!$B$8*'Inputs and Totals'!$B$9*0.001,\"Error\")))","v":0},{"$f":"IF('Inputs and Totals'!C31 = 1,'Solar Profiles'!$H$3*'Inputs and Totals'!$B$9*'Inputs and Totals'!$B$8*0.001, IF('Inputs and Totals'!C31 =2,'Solar Profiles'!$H$4*'Inputs and Totals'!$B$8*'Inputs and Totals'!$B$9*0.001,IF('Inputs and Totals'!C31 =3,'Solar Profiles'!$H$5*'Inputs and Totals'!$B$8*'Inputs and Totals'!$B$9*0.001,\"Error\")))","v":0},{"$f":"IF('Inputs and Totals'!C31 = 1,'Solar Profiles'!$I$3*'Inputs and Totals'!$B$9*'Inputs and Totals'!$B$8*0.001, IF('Inputs and Totals'!C31 =2,'Solar Profiles'!$I$4*'Inputs and Totals'!$B$8*'Inputs and Totals'!$B$9*0.001,IF('Inputs and Totals'!C31 =3,'Solar Profiles'!$I$5*'Inputs and Totals'!$B$8*'Inputs and Totals'!$B$9*0.001,\"Error\")))","v":0},{"$f":"IF('Inputs and Totals'!C31 = 1,'Solar Profiles'!$J$3*'Inputs and Totals'!$B$9*'Inputs and Totals'!$B$8*0.001, IF('Inputs and Totals'!C31 =2,'Solar Profiles'!$J$4*'Inputs and Totals'!$B$8*'Inputs and Totals'!$B$9*0.001,IF('Inputs and Totals'!C31 =3,'Solar Profiles'!$J$5*'Inputs and Totals'!$B$8*'Inputs and Totals'!$B$9*0.001,\"Error\")))","v":199.98000000000002},{"$f":"IF('Inputs and Totals'!C31 = 1,'Solar Profiles'!$K$3*'Inputs and Totals'!$B$9*'Inputs and Totals'!$B$8*0.001, IF('Inputs and Totals'!C31 =2,'Solar Profiles'!$K$4*'Inputs and Totals'!$B$8*'Inputs and Totals'!$B$9*0.001,IF('Inputs and Totals'!C31 =3,'Solar Profiles'!$K$5*'Inputs and Totals'!$B$8*'Inputs and Totals'!$B$9*0.001,\"Error\")))","v":199.98000000000002},{"$f":"IF('Inputs and Totals'!C31 = 1,'Solar Profiles'!$L$3*'Inputs and Totals'!$B$9*'Inputs and Totals'!$B$8*0.001, IF('Inputs and Totals'!C31 =2,'Solar Profiles'!$L$4*'Inputs and Totals'!$B$8*'Inputs and Totals'!$B$9*0.001,IF('Inputs and Totals'!C31 =3,'Solar Profiles'!$L$5*'Inputs and Totals'!$B$8*'Inputs and Totals'!$B$9*0.001,\"Error\")))","v":399.96000000000004},{"$f":"IF('Inputs and Totals'!C31 = 1,'Solar Profiles'!$M$3*'Inputs and Totals'!$B$9*'Inputs and Totals'!$B$8*0.001, IF('Inputs and Totals'!C31 =2,'Solar Profiles'!$M$4*'Inputs and Totals'!$B$8*'Inputs and Totals'!$B$9*0.001,IF('Inputs and Totals'!C31 =3,'Solar Profiles'!$M$5*'Inputs and Totals'!$B$8*'Inputs and Totals'!$B$9*0.001,\"Error\")))","v":599.94000000000005},{"$f":"IF('Inputs and Totals'!C31 = 1,'Solar Profiles'!$N$3*'Inputs and Totals'!$B$9*'Inputs and Totals'!$B$8*0.001, IF('Inputs and Totals'!C31 =2,'Solar Profiles'!$N$4*'Inputs and Totals'!$B$8*'Inputs and Totals'!$B$9*0.001,IF('Inputs and Totals'!C31 =3,'Solar Profiles'!$N$5*'Inputs and Totals'!$B$8*'Inputs and Totals'!$B$9*0.001,\"Error\")))","v":999.9},{"$f":"IF('Inputs and Totals'!C31 = 1,'Solar Profiles'!$O$3*'Inputs and Totals'!$B$9*'Inputs and Totals'!$B$8*0.001, IF('Inputs and Totals'!C31 =2,'Solar Profiles'!$O$4*'Inputs and Totals'!$B$8*'Inputs and Totals'!$B$9*0.001,IF('Inputs and Totals'!C31 =3,'Solar Profiles'!$O$5*'Inputs and Totals'!$B$8*'Inputs and Totals'!$B$9*0.001,\"Error\")))","v":1799.82},{"$f":"IF('Inputs and Totals'!C31 = 1,'Solar Profiles'!$P$3*'Inputs and Totals'!$B$9*'Inputs and Totals'!$B$8*0.001, IF('Inputs and Totals'!C31 =2,'Solar Profiles'!$P$4*'Inputs and Totals'!$B$8*'Inputs and Totals'!$B$9*0.001,IF('Inputs and Totals'!C31 =3,'Solar Profiles'!$P$5*'Inputs and Totals'!$B$8*'Inputs and Totals'!$B$9*0.001,\"Error\")))","v":1999.8},{"$f":"IF('Inputs and Totals'!C31 = 1,'Solar Profiles'!$Q$3*'Inputs and Totals'!$B$9*'Inputs and Totals'!$B$8*0.001, IF('Inputs and Totals'!C31 =2,'Solar Profiles'!$Q$4*'Inputs and Totals'!$B$8*'Inputs and Totals'!$B$9*0.001,IF('Inputs and Totals'!C31 =3,'Solar Profiles'!$Q$5*'Inputs and Totals'!$B$8*'Inputs and Totals'!$B$9*0.001,\"Error\")))","v":1199.8800000000001},{"$f":"IF('Inputs and Totals'!C31 = 1,'Solar Profiles'!$R$3*'Inputs and Totals'!$B$9*'Inputs and Totals'!$B$8*0.001, IF('Inputs and Totals'!C31 =2,'Solar Profiles'!$R$4*'Inputs and Totals'!$B$8*'Inputs and Totals'!$B$9*0.001,IF('Inputs and Totals'!C31 =3,'Solar Profiles'!$R$5*'Inputs and Totals'!$B$8*'Inputs and Totals'!$B$9*0.001,\"Error\")))","v":999.9},{"$f":"IF('Inputs and Totals'!C31 = 1,'Solar Profiles'!$S$3*'Inputs and Totals'!$B$9*'Inputs and Totals'!$B$8*0.001, IF('Inputs and Totals'!C31 =2,'Solar Profiles'!$S$4*'Inputs and Totals'!$B$8*'Inputs and Totals'!$B$9*0.001,IF('Inputs and Totals'!C31 =3,'Solar Profiles'!$S$5*'Inputs and Totals'!$B$8*'Inputs and Totals'!$B$9*0.001,\"Error\")))","v":599.94000000000005},{"$f":"IF('Inputs and Totals'!C31 = 1,'Solar Profiles'!$T$3*'Inputs and Totals'!$B$9*'Inputs and Totals'!$B$8*0.001, IF('Inputs and Totals'!C31 =2,'Solar Profiles'!$T$4*'Inputs and Totals'!$B$8*'Inputs and Totals'!$B$9*0.001,IF('Inputs and Totals'!C31 =3,'Solar Profiles'!$T$5*'Inputs and Totals'!$B$8*'Inputs and Totals'!$B$9*0.001,\"Error\")))","v":199.98000000000002},{"$f":"IF('Inputs and Totals'!C31 = 1,'Solar Profiles'!$U$3*'Inputs and Totals'!$B$9*'Inputs and Totals'!$B$8*0.001, IF('Inputs and Totals'!C31 =2,'Solar Profiles'!$U$4*'Inputs and Totals'!$B$8*'Inputs and Totals'!$B$9*0.001,IF('Inputs and Totals'!C31 =3,'Solar Profiles'!$U$5*'Inputs and Totals'!$B$8*'Inputs and Totals'!$B$9*0.001,\"Error\")))","v":0},{"$f":"IF('Inputs and Totals'!C31 = 1,'Solar Profiles'!$V$3*'Inputs and Totals'!$B$9*'Inputs and Totals'!$B$8*0.001, IF('Inputs and Totals'!C31 =2,'Solar Profiles'!$V$4*'Inputs and Totals'!$B$8*'Inputs and Totals'!$B$9*0.001,IF('Inputs and Totals'!C31 =3,'Solar Profiles'!$V$5*'Inputs and Totals'!$B$8*'Inputs and Totals'!$B$9*0.001,\"Error\")))","v":0},{"$f":"IF('Inputs and Totals'!C31 = 1,'Solar Profiles'!$W$3*'Inputs and Totals'!$B$9*'Inputs and Totals'!$B$8*0.001, IF('Inputs and Totals'!C31 =2,'Solar Profiles'!$W$4*'Inputs and Totals'!$B$8*'Inputs and Totals'!$B$9*0.001,IF('Inputs and Totals'!C31 =3,'Solar Profiles'!$W$5*'Inputs and Totals'!$B$8*'Inputs and Totals'!$B$9*0.001,\"Error\")))","v":0},{"$f":"IF('Inputs and Totals'!C31 = 1,'Solar Profiles'!$X$3*'Inputs and Totals'!$B$9*'Inputs and Totals'!$B$8*0.001, IF('Inputs and Totals'!C31 =2,'Solar Profiles'!$X$4*'Inputs and Totals'!$B$8*'Inputs and Totals'!$B$9*0.001,IF('Inputs and Totals'!C31 =3,'Solar Profiles'!$X$5*'Inputs and Totals'!$B$8*'Inputs and Totals'!$B$9*0.001,\"Error\")))","v":0},{"$f":"IF('Inputs and Totals'!C31 = 1,'Solar Profiles'!$Y$3*'Inputs and Totals'!$B$9*'Inputs and Totals'!$B$8*0.001, IF('Inputs and Totals'!C31 =2,'Solar Profiles'!$Y$4*'Inputs and Totals'!$B$8*'Inputs and Totals'!$B$9*0.001,IF('Inputs and Totals'!C31 =3,'Solar Profiles'!$Y$5*'Inputs and Totals'!$B$8*'Inputs and Totals'!$B$9*0.001,\"Error\")))","v":0},{"$f":"IF('Inputs and Totals'!C31 = 1,'Solar Profiles'!$Z$3*'Inputs and Totals'!$B$9*'Inputs and Totals'!$B$8*0.001, IF('Inputs and Totals'!C31 =2,'Solar Profiles'!$Z$4*'Inputs and Totals'!$B$8*'Inputs and Totals'!$B$9*0.001,IF('Inputs and Totals'!C31 =3,'Solar Profiles'!$Z$5*'Inputs and Totals'!$B$8*'Inputs and Totals'!$B$9*0.001,\"Error\")))","v":0},9199.08]
["Day 13",{"$f":"IF('Inputs and Totals'!C32 = 1,'Solar Profiles'!$C$3*'Inputs and Totals'!$B$9*'Inputs and Totals'!$B$8*0.001, IF('Inputs and Totals'!C32 =2,'Solar Profiles'!$C$4*'Inputs and Totals'!$B$8*'Inputs and Totals'!$B$9*0.001,IF('Inputs and Totals'!C32 =3,'Solar Profiles'!$C$5*'Inputs and Totals'!$B$8*'Inputs and Totals'!$B$9*0.001,\"Error\")))","v":0},{"$f":"IF('Inputs and Totals'!C32 = 1,'Solar Profiles'!$D$3*'Inputs and Totals'!$B$9*'Inputs and Totals'!$B$8*0.001, IF('Inputs and Totals'!C32 =2,'Solar Profiles'!$D$4*'Inputs and Totals'!$B$8*'Inputs and Totals'!$B$9*0.001,IF('Inputs and Totals'!C32 =3,'Solar Profiles'!$D$5*'Inputs and Totals'!$B$8*'Inputs and Totals'!$B$9*0.001,\"Error\")))","v":0},{"$f":"IF('Inputs and Totals'!C32 = 1,'Solar Profiles'!$E$3*'Inputs and Totals'!$B$9*'Inputs and Totals'!$B$8*0.001, IF('Inputs and Totals'!C32 =2,'Solar Profiles'!$E$4*'Inputs and Totals'!$B$8*'Inputs and Totals'!$B$9*0.001,IF('Inputs and Totals'!C32 =3,'Solar Profiles'!$E$5*'Inputs and Totals'!$B$8*'Inputs and Totals'!$B$9*0.001,\"Error\")))","v":0},{"$f":"IF('Inputs and Totals'!C32 = 1,'Solar Profiles'!$F$3*'Inputs and Totals'!$B$9*'Inputs and Totals'!$B$8*0.001, IF('Inputs and Totals'!C32 =2,'Solar Profiles'!$F$4*'Inputs and Totals'!$B$8*'Inputs and Totals'!$B$9*0.001,IF('Inputs and Totals'!C32 =3,'Solar Profiles'!$F$5*'Inputs and Totals'!$B$8*'Inputs and Totals'!$B$9*0.001,\"Error\")))","v":0},{"$f":"IF('Inputs and Totals'!C32 = 1,'Solar Profiles'!$G$3*'Inputs and Totals'!$B$9*'Inputs and Totals'!$B$8*0.001, IF('Inputs and Totals'!C32 =2,'Solar Profiles'!$G$4*'Inputs and Totals'!$B$8*'Inputs and Totals'!$B$9*0.001,IF('Inputs and Totals'!C32 =3,'Solar Profiles'!$G$5*'Inputs and Totals'!$B$8*'Inputs and Totals'!$B$9*0.001,\"Error\")))","v":0},{"$f":"IF('Inputs and Totals'!C32 = 1,'Solar Profiles'!$H$3*'Inputs and Totals'!$B$9*'Inputs and Totals'!$B$8*0.001, IF('Inputs and Totals'!C32 =2,'Solar Profiles'!$H$4*'Inputs and Totals'!$B$8*'Inputs and Totals'!$B$9*0.001,IF('Inputs and Totals'!C32 =3,'Solar Profiles'!$H$5*'Inputs and Totals'!$B$8*'Inputs and Totals'!$B$9*0.001,\"Error\")))","v":0},{"$f":"IF('Inputs and Totals'!C32 = 1,'Solar Profiles'!$I$3*'Inputs and Totals'!$B$9*'Inputs and Totals'!$B$8*0.001, IF('Inputs and Totals'!C32 =2,'Solar Profiles'!$I$4*'Inputs and Totals'!$B$8*'Inputs and Totals'!$B$9*0.001,IF('Inputs and Totals'!C32 =3,'Solar Profiles'!$I$5*'Inputs and Totals'!$B$8*'Inputs and Totals'!$B$9*0.001,\"Error\")))","v":0},{"$f":"IF('Inputs and Totals'!C32 = 1,'Solar Profiles'!$J$3*'Inputs and Totals'!$B$9*'Inputs and Totals'!$B$8*0.001, IF('Inputs and Totals'!C32 =2,'Solar Profiles'!$J$4*'Inputs and Totals'!$B$8*'Inputs and Totals'!$B$9*0.001,IF('Inputs and Totals'!C32 =3,'Solar Profiles'!$J$5*'Inputs and Totals'!$B$8*'Inputs and Totals'!$B$9*0.001,\"Error\")))","v":199.98000000000002},{"$f":"IF('Inputs and Totals'!C32 = 1,'Solar Profiles'!$K$3*'Inputs and Totals'!$B$9*'Inputs and Totals'!$B$8*0.001, IF('Inputs and Totals'!C32 =2,'Solar Profiles'!$K$4*'Inputs and Totals'!$B$8*'Inputs and Totals'!$B$9*0.001,IF('Inputs and Totals'!C32 =3,'Solar Profiles'!$K$5*'Inputs and Totals'!$B$8*'Inputs and Totals'!$B$9*0.001,\"Error\")))","v":399.96000000000004},{"$f":"IF('Inputs and Totals'!C32 = 1,'Solar Profiles'!$L$3*'Inputs and Totals'!$B$9*'Inputs and Totals'!$B$8*0.001, IF('Inputs and Totals'!C32 =2,'Solar Profiles'!$L$4*'Inputs and Totals'!$B$8*'Inputs and Totals'!$B$9*0.001,IF('Inputs and Totals'!C32 =3,'Solar Profiles'!$L$5*'Inputs and Totals'!$B$8*'Inputs and Totals'!$B$9*0.001,\"Error\")))","v":599.94000000000005},{"$f":"IF('Inputs and Totals'!C32 = 1,'Solar Profiles'!$M$3*'Inputs and Totals'!$B$9*'Inputs and Totals'!$B$8*0.001, IF('Inputs and Totals'!C32 =2,'Solar Profiles'!$M$4*'Inputs and Totals'!$B$8*'Inputs and Totals'!$B$9*0.001,IF('Inputs and Totals'!C32 =3,'Solar Profiles'!$M$5*'Inputs and Totals'!$B$8*'Inputs and Totals'!$B$9*0.001,\"Error\")))","v":799.92000000000007},{"$f":"IF('Inputs and Totals'!C32 = 1,'Solar Profiles'!$N$3*'Inputs and Totals'!$B$9*'Inputs and Totals'!$B$8*0.001, IF('Inputs and Totals'!C32 =2,'Solar Profiles'!$N$4*'Inputs and Totals'!$B$8*'Inputs and Totals'!$B$9*0.001,IF('Inputs and Totals'!C32 =3,'Solar Profiles'!$N$5*'Inputs and Totals'!$B$8*'Inputs and Totals'!$B$9*0.001,\"Error\")))","v":1599.8400000000001},{"$f":"IF('Inputs and Totals'!C32 = 1,'Solar Profiles'!$O$3*'Inputs and Totals'!$B$9*'Inputs and Totals'!$B$8*0.001, IF('Inputs and Totals'!C32 =2,'Solar Profiles'!$O$4*'Inputs and Totals'!$B$8*'Inputs and Totals'!$B$9*0.001,IF('Inputs and Totals'!C32 =3,'Solar Profiles'!$O$5*'Inputs and Totals'!$B$8*'Inputs and Totals'!$B$9*0.001,\"Error\")))","v":1999.8},{"$f":"IF('Inputs and Totals'!C32 = 1,'Solar Profiles'!$P$3*'Inputs and Totals'!$B$9*'Inputs and Totals'!$B$8*0.001, IF('Inputs and Totals'!C32 =2,'Solar Profiles'!$P$4*'Inputs and Totals'!$B$8*'Inputs and Totals'!$B$9*0.001,IF('Inputs and Totals'!C32 =3,'Solar Profiles'!$P$5*'Inputs and Totals'!$B$8*'Inputs and Totals'!$B$9*0.001,\"Error\")))","v":1999.8},{"$f":"IF('Inputs and Totals'!C32 = 1,'Solar Profiles'!$Q$3*'Inputs and Totals'!$B$9*'Inputs and Totals'!$B$8*0.001, IF('Inputs and Totals'!C32 =2,'Solar Profiles'!$Q$4*'Inputs and Totals'!$B$8*'Inputs and Totals'!$B$9*0.001,IF('Inputs and Totals'!C32 =3,'Solar Profiles'!$Q$5*'Inputs and Totals'!$B$8*'Inputs and Totals'!$B$9*0.001,\"Error\")))","v":1399.86},{"$f":"IF('Inputs and Totals'!C32 = 1,'Solar Profiles'!$R$3*'Inputs and Totals'!$B$9*'Inputs and Totals'!$B$8*0.001, IF('Inputs and Totals'!C32 =2,'Solar Profiles'!$R$4*'Inputs and Totals'!$B$8*'Inputs and Totals'!$B$9*0.001,IF('Inputs and Totals'!C32 =3,'Solar Profiles'!$R$5*'Inputs and Totals'!$B$8*'Inputs and Totals'!$B$9*0.001,\"Error\")))","v":1199.8800000000001},{"$f":"IF('Inputs and Totals'!C32 = 1,'Solar Profiles'!$S$3*'Inputs and Totals'!$B$9*'Inputs and Totals'!$B$8*0.001, IF('Inputs and Totals'!C32 =2,'Solar Profiles'!$S$4*'Inputs and Totals'!$B$8*'Inputs and Totals'!$B$9*0.001,IF('Inputs and Totals'!C32 =3,'Solar Profiles'!$S$5*'Inputs and Totals'!$B$8*'Inputs and Totals'!$B$9*0.001,\"Error\")))","v":999.9},{"$f":"IF('Inputs and Totals'!C32 = 1,'Solar Profiles'!$T$3*'Inputs and Totals'!$B$9*'Inputs and Totals'!$B$8*0.001, IF('Inputs and Totals'!C32 =2,'Solar Profiles'!$T$4*'Inputs and Totals'!$B$8*'Inputs and Totals'!$B$9*0.001,IF('Inputs and Totals'!C32 =3,'Solar Profiles'!$T$5*'Inputs and Totals'!$B$8*'Inputs and Totals'!$B$9*0.001,\"Error\")))","v":399.96000000000004},{"$f":"IF('Inputs and Totals'!C32 = 1,'Solar Profiles'!$U$3*'Inputs and Totals'!$B$9*'Inputs and Totals'!$B$8*0.001, IF('Inputs and Totals'!C32 =2,'Solar Profiles'!$U$4*'Inputs and Totals'!$B$8*'Inputs and Totals'!$B$9*0.001,IF('Inputs and Totals'!C32 =3,'Solar Profiles'!$U$5*'Inputs and Totals'!$B$8*'Inputs and Totals'!$B$9*0.001,\"Error\")))","v":0},{"$f":"IF('Inputs and Totals'!C32 = 1,'Solar Profiles'!$V$3*'Inputs and Totals'!$B$9*'Inputs and Totals'!$B$8*0.001, IF('Inputs and Totals'!C32 =2,'Solar Profiles'!$V$4*'Inputs and Totals'!$B$8*'Inputs and Totals'!$B$9*0.001,IF('Inputs and Totals'!C32 =3,'Solar Profiles'!$V$5*'Inputs and Totals'!$B$8*'Inputs and Totals'!$B$9*0.001,\"Error\")))","v":0},{"$f":"IF('Inputs and Totals'!C32 = 1,'Solar Profiles'!$W$3*'Inputs and Totals'!$B$9*'Inputs and Totals'!$B$8*0.001, IF('Inputs and Totals'!C32 =2,'Solar Profiles'!$W$4*'Inputs and Totals'!$B$8*'Inputs and Totals'!$B$9*0.001,IF('Inputs and Totals'!C32 =3,'Solar Profiles'!$W$5*'Inputs and Totals'!$B$8*'Inputs and Totals'!$B$9*0.001,\"Error\")))","v":0},{"$f":"IF('Inputs and Totals'!C32 = 1,'Solar Profiles'!$X$3*'Inputs and Totals'!$B$9*'Inputs and Totals'!$B$8*0.001, IF('Inputs and Totals'!C32 =2,'Solar Profiles'!$X$4*'Inputs and Totals'!$B$8*'Inputs and Totals'!$B$9*0.001,IF('Inputs and Totals'!C32 =3,'Solar Profiles'!$X$5*'Inputs and Totals'!$B$8*'Inputs and Totals'!$B$9*0.001,\"Error\")))","v":0},{"$f":"IF('Inputs and Totals'!C32 = 1,'Solar Profiles'!$Y$3*'Inputs and Totals'!$B$9*'Inputs and Totals'!$B$8*0.001, IF('Inputs and Totals'!C32 =2,'Solar Profiles'!$Y$4*'Inputs and Totals'!$B$8*'Inputs and Totals'!$B$9*0.001,IF('Inputs and Totals'!C32 =3,'Solar Profiles'!$Y$5*'Inputs and Totals'!$B$8*'Inputs and Totals'!$B$9*0.001,\"Error\")))","v":0},{"$f":"IF('Inputs and Totals'!C32 = 1,'Solar Profiles'!$Z$3*'Inputs and Totals'!$B$9*'Inputs and Totals'!$B$8*0.001, IF('Inputs and Totals'!C32 =2,'Solar Profiles'!$Z$4*'Inputs and Totals'!$B$8*'Inputs and Totals'!$B$9*0.001,IF('Inputs and Totals'!C32 =3,'Solar Profiles'!$Z$5*'Inputs and Totals'!$B$8*'Inputs and Totals'!$B$9*0.001,\"Error\")))","v":0},11598.84]
["Day 14",{"$f":"IF('Inputs and Totals'!C33 = 1,'Solar Profiles'!$C$3*'Inputs and Totals'!$B$9*'Inputs and Totals'!$B$8*0.001, IF('Inputs and Totals'!C33 =2,'Solar Profiles'!$C$4*'Inputs and Totals'!$B$8*'Inputs and Totals'!$B$9*0.001,IF('Inputs and Totals'!C33 =3,'Solar Profiles'!$C$5*'Inputs and Totals'!$B$8*'Inputs and Totals'!$B$9*0.001,\"Error\")))","v":0},{"$f":"IF('Inputs and Totals'!C33 = 1,'Solar Profiles'!$D$3*'Inputs and Totals'!$B$9*'Inputs and Totals'!$B$8*0.001, IF('Inputs and Totals'!C33 =2,'Solar Profiles'!$D$4*'Inputs and Totals'!$B$8*'Inputs and Totals'!$B$9*0.001,IF('Inputs and Totals'!C33 =3,'Solar Profiles'!$D$5*'Inputs and Totals'!$B$8*'Inputs and Totals'!$B$9*0.001,\"Error\")))","v":0},{"$f":"IF('Inputs and Totals'!C33 = 1,'Solar Profiles'!$E$3*'Inputs and Totals'!$B$9*'Inputs and Totals'!$B$8*0.001, IF('Inputs and Totals'!C33 =2,'Solar Profiles'!$E$4*'Inputs and Totals'!$B$8*'Inputs and Totals'!$B$9*0.001,IF('Inputs and Totals'!C33 =3,'Solar Profiles'!$E$5*'Inputs and Totals'!$B$8*'Inputs and Totals'!$B$9*0.001,\"Error\")))","v":0},{"$f":"IF('Inputs and Totals'!C33 = 1,'Solar Profiles'!$F$3*'Inputs and Totals'!$B$9*'Inputs and Totals'!$B$8*0.001, IF('Inputs and Totals'!C33 =2,'Solar Profiles'!$F$4*'Inputs and Totals'!$B$8*'Inputs and Totals'!$B$9*0.001,IF('Inputs and Totals'!C33 =3,'Solar Profiles'!$F$5*'Inputs and Totals'!$B$8*'Inputs and Totals'!$B$9*0.001,\"Error\")))","v":0},{"$f":"IF('Inputs and Totals'!C33 = 1,'Solar Profiles'!$G$3*'Inputs and Totals'!$B$9*'Inputs and Totals'!$B$8*0.001, IF('Inputs and Totals'!C33 =2,'Solar Profiles'!$G$4*'Inputs and Totals'!$B$8*'Inputs and Totals'!$B$9*0.001,IF('Inputs and Totals'!C33 =3,'Solar Profiles'!$G$5*'Inputs and Totals'!$B$8*'Inputs and Totals'!$B$9*0.001,\"Error\")))","v":0},{"$f":"IF('Inputs and Totals'!C33 = 1,'Solar Profiles'!$H$3*'Inputs and Totals'!$B$9*'Inputs and Totals'!$B$8*0.001, IF('Inputs and Totals'!C33 =2,'Solar Profiles'!$H$4*'Inputs and Totals'!$B$8*'Inputs and Totals'!$B$9*0.001,IF('Inputs and Totals'!C33 =3,'Solar Profiles'!$H$5*'Inputs and Totals'!$B$8*'Inputs and Totals'!$B$9*0.001,\"Error\")))","v":0},{"$f":"IF('Inputs and Totals'!C33 = 1,'Solar Profiles'!$I$3*'Inputs and Totals'!$B$9*'Inputs and Totals'!$B$8*0.001, IF('Inputs and Totals'!C33 =2,'Solar Profiles'!$I$4*'Inputs and Totals'!$B$8*'Inputs and Totals'!$B$9*0.001,IF('Inputs and Totals'!C33 =3,'Solar Profiles'!$I$5*'Inputs and Totals'!$B$8*'Inputs and Totals'!$B$9*0.001,\"Error\")))","v":0},{"$f":"IF('Inputs and Totals'!C33 = 1,'Solar Profiles'!$J$3*'Inputs and Totals'!$B$9*'Inputs and Totals'!$B$8*0.001, IF('Inputs and Totals'!C33 =2,'Solar Profiles'!$J$4*'Inputs and Totals'!$B$8*'Inputs and Totals'!$B$9*0.001,IF('Inputs and Totals'!C33 =3,'Solar Profiles'!$J$5*'Inputs and Totals'!$B$8*'Inputs and Totals'!$B$9*0.001,\"Error\")))","v":199.98000000000002},{"$f":"IF('Inputs and Totals'!C33 = 1,'Solar Profiles'!$K$3*'Inputs and Totals'!$B$9*'Inputs and Totals'!$B$8*0.001, IF('Inputs and Totals'!C33 =2,'Solar Profiles'!$K$4*'Inputs and Totals'!$B$8*'Inputs and Totals'!$B$9*0.001,IF('Inputs and Totals'!C33 =3,'Solar Profiles'!$K$5*'Inputs and Totals'!$B$8*'Inputs and Totals'!$B$9*0.001,\"Error\")))","v":199.98000000000002},{"$f":"IF('Inputs and Totals'!C33 = 1,'Solar Profiles'!$L$3*'Inputs and Totals'!$B$9*'Inputs and Totals'!$B$8*0.001, IF('Inputs and Totals'!C33 =2,'Solar Profiles'!$L$4*'Inputs and Totals'!$B$8*'Inputs and Totals'!$B$9*0.001,IF('Inputs and Totals'!C33 =3,'Solar Profiles'!$L$5*'Inputs and Totals'!$B$8*'Inputs and Totals'!$B$9*0.001,\"Error\")))","v":399.96000000000004},{"$f":"IF('Inputs and Totals'!C33 = 1,'Solar Profiles'!$M$3*'Inputs and Totals'!$B$9*'Inputs and Totals'!$B$8*0.001, IF('Inputs and Totals'!C33 =2,'Solar Profiles'!$M$4*'Inputs and Totals'!$B$8*'Inputs and Totals'!$B$9*0.001,IF('Inputs and Totals'!C33 =3,'Solar Profiles'!$M$5*'Inputs and Totals'!$B$8*'Inputs and Totals'!$B$9*0.001,\"Error\")))","v":599.94000000000005},{"$f":"IF('Inputs and Totals'!C33 = 1,'Solar Profiles'!$N$3*'Inputs and Totals'!$B$9*'Inputs and Totals'!$B$8*0.001, IF('Inputs and Totals'!C33 =2,'Solar Profiles'!$N$4*'Inputs and Totals'!$B$8*'Inputs and Totals'!$B$9*0.001,IF('Inputs and Totals'!C33 =3,'Solar Profiles'!$N$5*'Inputs and Totals'!$B$8*'Inputs and Totals'!$B$9*0.001,\"Error\")))","v":999.9},{"$f":"IF('Inputs and Totals'!C33 = 1,'Solar Profiles'!$O$3*'Inputs and Totals'!$B$9*'Inputs and Totals'!$B$8*0.001, IF('Inputs and Totals'!C33 =2,'Solar Profiles'!$O$4*'Inputs and Totals'!$B$8*'Inputs and Totals'!$B$9*0.001,IF('Inputs and Totals'!C33 =3,'Solar Profiles'!$O$5*'Inputs and Totals'!$B$8*'Inputs and Totals'!$B$9*0.001,\"Error\")))","v":1799.82},{"$f":"IF('Inputs and Totals'!C33 = 1,'Solar Profiles'!$P$3*'Inputs and Totals'!$B$9*'Inputs and Totals'!$B$8*0.001, IF('Inputs and Totals'!C33 =2,'Solar Profiles'!$P$4*'Inputs and Totals'!$B$8*'Inputs and Totals'!$B$9*0.001,IF('Inputs and Totals'!C33 =3,'Solar Profiles'!$P$5*'Inputs and Totals'!$B$8*'Inputs and Totals'!$B$9*0.001,\"Error\")))","v":1999.8},{"$f":"IF('Inputs and Totals'!C33 = 1,'Solar Profiles'!$Q$3*'Inputs and Totals'!$B$9*'Inputs and Totals'!$B$8*0.001, IF('Inputs and Totals'!C33 =2,'Solar Profiles'!$Q$4*'Inputs and Totals'!$B$8*'Inputs and Totals'!$B$9*0.001,IF('Inputs and Totals'!C33 =3,'Solar Profiles'!$Q$5*'Inputs and Totals'!$B$8*'Inputs and Totals'!$B$9*0.001,\"Error\")))","v":1199.8800000000001},{"$f":"IF('Inputs and Totals'!C33 = 1,'Solar Profiles'!$R$3*'Inputs and Totals'!$B$9*'Inputs and Totals'!$B$8*0.001, IF('Inputs and Totals'!C33 =2,'Solar Profiles'!$R$4*'Inputs and Totals'!$B$8*'Inputs and Totals'!$B$9*0.001,IF('Inputs and Totals'!C33 =3,'Solar Profiles'!$R$5*'Inputs and Totals'!$B$8*'Inputs and Totals'!$B$9*0.001,\"Error\")))","v":999.9},{"$f":"IF('Inputs and Totals'!C33 = 1,'Solar Profiles'!$S$3*'Inputs and Totals'!$B$9*'Inputs and Totals'!$B$8*0.001, IF('Inputs and Totals'!C33 =2,'Solar Profiles'!$S$4*'Inputs and Totals'!$B$8*'Inputs and Totals'!$B$9*0.001,IF('Inputs and Totals'!C33 =3,'Solar Profiles'!$S$5*'Inputs and Totals'!$B$8*'Inputs and Totals'!$B$9*0.001,\"Error\")))","v":599.94000000000005},{"$f":"IF('Inputs and Totals'!C33 = 1,'Solar Profiles'!$T$3*'Inputs and Totals'!$B$9*'Inputs and Totals'!$B$8*0.001, IF('Inputs and Totals'!C33 =2,'Solar Profiles'!$T$4*'Inputs and Totals'!$B$8*'Inputs and Totals'!$B$9*0.001,IF('Inputs and Totals'!C33 =3,'Solar Profiles'!$T$5*'Inputs and Totals'!$B$8*'Inputs and Totals'!$B$9*0.001,\"Error\")))","v":199.98000000000002},{"$f":"IF('Inputs and Totals'!C33 = 1,'Solar Profiles'!$U$3*'Inputs and Totals'!$B$9*'Inputs and Totals'!$B$8*0.001, IF('Inputs and Totals'!C33 =2,'Solar Profiles'!$U$4*'Inputs and Totals'!$B$8*'Inputs and Totals'!$B$9*0.001,IF('Inputs and Totals'!C33 =3,'Solar Profiles'!$U$5*'Inputs and Totals'!$B$8*'Inputs and Totals'!$B$9*0.001,\"Error\")))","v":0},{"$f":"IF('Inputs and Totals'!C33 = 1,'Solar Profiles'!$V$3*'Inputs and Totals'!$B$9*'Inputs and Totals'!$B$8*0.001, IF('Inputs and Totals'!C33 =2,'Solar Profiles'!$V$4*'Inputs and Totals'!$B$8*'Inputs and Totals'!$B$9*0.001,IF('Inputs and Totals'!C33 =3,'Solar Profiles'!$V$5*'Inputs and Totals'!$B$8*'Inputs and Totals'!$B$9*0.001,\"Error\")))","v":0},{"$f":"IF('Inputs and Totals'!C33 = 1,'Solar Profiles'!$W$3*'Inputs and Totals'!$B$9*'Inputs and Totals'!$B$8*0.001, IF('Inputs and Totals'!C33 =2,'Solar Profiles'!$W$4*'Inputs and Totals'!$B$8*'Inputs and Totals'!$B$9*0.001,IF('Inputs and Totals'!C33 =3,'Solar Profiles'!$W$5*'Inputs and Totals'!$B$8*'Inputs and Totals'!$B$9*0.001,\"Error\")))","v":0},{"$f":"IF('Inputs and Totals'!C33 = 1,'Solar Profiles'!$X$3*'Inputs and Totals'!$B$9*'Inputs and Totals'!$B$8*0.001, IF('Inputs and Totals'!C33 =2,'Solar Profiles'!$X$4*'Inputs and Totals'!$B$8*'Inputs and Totals'!$B$9*0.001,IF('Inputs and Totals'!C33 =3,'Solar Profiles'!$X$5*'Inputs and Totals'!$B$8*'Inputs and Totals'!$B$9*0.001,\"Error\")))","v":0},{"$f":"IF('Inputs and Totals'!C33 = 1,'Solar Profiles'!$Y$3*'Inputs and Totals'!$B$9*'Inputs and Totals'!$B$8*0.001, IF('Inputs and Totals'!C33 =2,'Solar Profiles'!$Y$4*'Inputs and Totals'!$B$8*'Inputs and Totals'!$B$9*0.001,IF('Inputs and Totals'!C33 =3,'Solar Profiles'!$Y$5*'Inputs and Totals'!$B$8*'Inputs and Totals'!$B$9*0.001,\"Error\")))","v":0},{"$f":"IF('Inputs and Totals'!C33 = 1,'Solar Profiles'!$Z$3*'Inputs and Totals'!$B$9*'Inputs and Totals'!$B$8*0.001, IF('Inputs and Totals'!C33 =2,'Solar Profiles'!$Z$4*'Inputs and Totals'!$B$8*'Inputs and Totals'!$B$9*0.001,IF('Inputs and Totals'!C33 =3,'Solar Profiles'!$Z$5*'Inputs and Totals'!$B$8*'Inputs and Totals'!$B$9*0.001,\"Error\")))","v":0},9199.08]
["Day 15",{"$f":"IF('Inputs and Totals'!C34 = 1,'Solar Profiles'!$C$3*'Inputs and Totals'!$B$9*'Inputs and Totals'!$B$8*0.001, IF('Inputs and Totals'!C34 =2,'Solar Profiles'!$C$4*'Inputs and Totals'!$B$8*'Inputs and Totals'!$B$9*0.001,IF('Inputs and Totals'!C34 =3,'Solar Profiles'!$C$5*'Inputs and Totals'!$B$8*'Inputs and Totals'!$B$9*0.001,\"Error\")))","v":0},{"$f":"IF('Inputs and Totals'!C34 = 1,'Solar Profiles'!$D$3*'Inputs and Totals'!$B$9*'Inputs and Totals'!$B$8*0.001, IF('Inputs and Totals'!C34 =2,'Solar Profiles'!$D$4*'Inputs and Totals'!$B$8*'Inputs and Totals'!$B$9*0.001,IF('Inputs and Totals'!C34 =3,'Solar Profiles'!$D$5*'Inputs and Totals'!$B$8*'Inputs and Totals'!$B$9*0.001,\"Error\")))","v":0},{"$f":"IF('Inputs and Totals'!C34 = 1,'Solar Profiles'!$E$3*'Inputs and Totals'!$B$9*'Inputs and Totals'!$B$8*0.001, IF('Inputs and Totals'!C34 =2,'Solar Profiles'!$E$4*'Inputs and Totals'!$B$8*'Inputs and Totals'!$B$9*0.001,IF('Inputs and Totals'!C34 =3,'Solar Profiles'!$E$5*'Inputs and Totals'!$B$8*'Inputs and Totals'!$B$9*0.001,\"Error\")))","v":0},{"$f":"IF('Inputs and Totals'!C34 = 1,'Solar Profiles'!$F$3*'Inputs and Totals'!$B$9*'Inputs and Totals'!$B$8*0.001, IF('Inputs and Totals'!C34 =2,'Solar Profiles'!$F$4*'Inputs and Totals'!$B$8*'Inputs and Totals'!$B$9*0.001,IF('Inputs and Totals'!C34 =3,'Solar Profiles'!$F$5*'Inputs and Totals'!$B$8*'Inputs and Totals'!$B$9*0.001,\"Error\")))","v":0},{"$f":"IF('Inputs and Totals'!C34 = 1,'Solar Profiles'!$G$3*'Inputs and Totals'!$B$9*'Inputs and Totals'!$B$8*0.001, IF('Inputs and Totals'!C34 =2,'Solar Profiles'!$G$4*'Inputs and Totals'!$B$8*'Inputs and Totals'!$B$9*0.001,IF('Inputs and Totals'!C34 =3,'Solar Profiles'!$G$5*'Inputs and Totals'!$B$8*'Inputs and Totals'!$B$9*0.001,\"Error\")))","v":0},{"$f":"IF('Inputs and Totals'!C34 = 1,'Solar Profiles'!$H$3*'Inputs and Totals'!$B$9*'Inputs and Totals'!$B$8*0.001, IF('Inputs and Totals'!C34 =2,'Solar Profiles'!$H$4*'Inputs and Totals'!$B$8*'Inputs and Totals'!$B$9*0.001,IF('Inputs and Totals'!C34 =3,'Solar Profiles'!$H$5*'Inputs and Totals'!$B$8*'Inputs and Totals'!$B$9*0.001,\"Error\")))","v":0},{"$f":"IF('Inputs and Totals'!C34 = 1,'Solar Profiles'!$I$3*'Inputs and Totals'!$B$9*'Inputs and Totals'!$B$8*0.001, IF('Inputs and Totals'!C34 =2,'Solar Profiles'!$I$4*'Inputs and Totals'!$B$8*'Inputs and Totals'!$B$9*0.001,IF('Inputs and Totals'!C34 =3,'Solar Profiles'!$I$5*'Inputs and Totals'!$B$8*'Inputs and Totals'!$B$9*0.001,\"Error\")))","v":0},{"$f":"IF('Inputs and Totals'!C34 = 1,'Solar Profiles'!$J$3*'Inputs and Totals'!$B$9*'Inputs and Totals'!$B$8*0.001, IF('Inputs and Totals'!C34 =2,'Solar Profiles'!$J$4*'Inputs and Totals'!$B$8*'Inputs and Totals'!$B$9*0.001,IF('Inputs and Totals'!C34 =3,'Solar Profiles'!$J$5*'Inputs and Totals'!$B$8*'Inputs and Totals'!$B$9*0.001,\"Error\")))","v":199.98000000000002},{"$f":"IF('Inputs and Totals'!C34 = 1,'Solar Profiles'!$K$3*'Inputs and Totals'!$B$9*'Inputs and Totals'!$B$8*0.001, IF('Inputs and Totals'!C34 =2,'Solar Profiles'!$K$4*'Inputs and Totals'!$B$8*'Inputs and Totals'!$B$9*0.001,IF('Inputs and Totals'!C34 =3,'Solar Profiles'!$K$5*'Inputs and Totals'!$B$8*'Inputs and Totals'!$B$9*0.001,\"Error\")))","v":399.96000000000004},{"$f":"IF('Inputs and Totals'!C34 = 1,'Solar Profiles'!$L$3*'Inputs and Totals'!$B$9*'Inputs and Totals'!$B$8*0.001, IF('Inputs and Totals'!C34 =2,'Solar Profiles'!$L$4*'Inputs and Totals'!$B$8*'Inputs and Totals'!$B$9*0.001,IF('Inputs and Totals'!C34 =3,'Solar Profiles'!$L$5*'Inputs and Totals'!$B$8*'Inputs and Totals'!$B$9*0.001,\"Error\")))","v":599.94000000000005},{"$f":"IF('Inputs and Totals'!C34 = 1,'Solar Profiles'!$M$3*'Inputs and Totals'!$B$9*'Inputs and Totals'!$B$8*0.001, IF('Inputs and Totals'!C34 =2,'Solar Profiles'!$M$4*'Inputs and Totals'!$B$8*'Inputs and Totals'!$B$9*0.001,IF('Inputs and Totals'!C34 =3,'Solar Profiles'!$M$5*'Inputs and Totals'!$B$8*'Inputs and Totals'!$B$9*0.001,\"Error\")))","v":799.92000000000007},{"$f":"IF('Inputs and Totals'!C34 = 1,'Solar Profiles'!$N$3*'Inputs and Totals'!$B$9*'Inputs and Totals'!$B$8*0.001, IF('Inputs and Totals'!C34 =2,'Solar Profiles'!$N$4*'Inputs and Totals'!$B$8*'Inputs and Totals'!$B$9*0.001,IF('Inputs and Totals'!C34 =3,'Solar Profiles'!$N$5*'Inputs and Totals'!$B$8*'Inputs and Totals'!$B$9*0.001,\"Error\")))","v":1599.8400000000001},{"$f":"IF('Inputs and Totals'!C34 = 1,'Solar Profiles'!$O$3*'Inputs and Totals'!$B$9*'Inputs and Totals'!$B$8*0.001, IF('Inputs and Totals'!C34 =2,'Solar Profiles'!$O$4*'Inputs and Totals'!$B$8*'Inputs and Totals'!$B$9*0.001,IF('Inputs and Totals'!C34 =3,'Solar Profiles'!$O$5*'Inputs and Totals'!$B$8*'Inputs and Totals'!$B$9*0.001,\"Error\")))","v":1999.8},{"$f":"IF('Inputs and Totals'!C34 = 1,'Solar Profiles'!$P$3*'Inputs and Totals'!$B$9*'Inputs and Totals'!$B$8*0.001, IF('Inputs and Totals'!C34 =2,'Solar Profiles'!$P$4*'Inputs and Totals'!$B$8*'Inputs and Totals'!$B$9*0.001,IF('Inputs and Totals'!C34 =3,'Solar Profiles'!$P$5*'Inputs and Totals'!$B$8*'Inputs and Totals'!$B$9*0.001,\"Error\")))","v":1999.8},{"$f":"IF('Inputs and Totals'!C34 = 1,'Solar Profiles'!$Q$3*'Inputs and Totals'!$B$9*'Inputs and Totals'!$B$8*0.001, IF('Inputs and Totals'!C34 =2,'Solar Profiles'!$Q$4*'Inputs and Totals'!$B$8*'Inputs and Totals'!$B$9*0.001,IF('Inputs and Totals'!C34 =3,'Solar Profiles'!$Q$5*'Inputs and Totals'!$B$8*'Inputs and Totals'!$B$9*0.001,\"Error\")))","v":1399.86},{"$f":"IF('Inputs and Totals'!C34 = 1,'Solar Profiles'!$R$3*'Inputs and Totals'!$B$9*'Inputs and Totals'!$B$8*0.001, IF('Inputs and Totals'!C34 =2,'Solar Profiles'!$R$4*'Inputs and Totals'!$B$8*'Inputs and Totals'!$B$9*0.001,IF('Inputs and Totals'!C34 =3,'Solar Profiles'!$R$5*'Inputs and Totals'!$B$8*'Inputs and Totals'!$B$9*0.001,\"Error\")))","v":1199.8800000000001},{"$f":"IF('Inputs and Totals'!C34 = 1,'Solar Profiles'!$S$3*'Inputs and Totals'!$B$9*'Inputs and Totals'!$B$8*0.001, IF('Inputs and Totals'!C34 =2,'Solar Profiles'!$S$4*'Inputs and Totals'!$B$8*'Inputs and Totals'!$B$9*0.001,IF('Inputs and Totals'!C34 =3,'Solar Profiles'!$S$5*'Inputs and Totals'!$B$8*'Inputs and Totals'!$B$9*0.001,\"Error\")))","v":999.9},{"$f":"IF('Inputs and Totals'!C34 = 1,'Solar Profiles'!$T$3*'Inputs and Totals'!$B$9*'Inputs and Totals'!$B$8*0.001, IF('Inputs and Totals'!C34 =2,'Solar Profiles'!$T$4*'Inputs and Totals'!$B$8*'Inputs and Totals'!$B$9*0.001,IF('Inputs and Totals'!C34 =3,'Solar Profiles'!$T$5*'Inputs and Totals'!$B$8*'Inputs and Totals'!$B$9*0.001,\"Error\")))","v":399.96000000000004},{"$f":"IF('Inputs and Totals'!C34 = 1,'Solar Profiles'!$U$3*'Inputs and Totals'!$B$9*'Inputs and Totals'!$B$8*0.001, IF('Inputs and Totals'!C34 =2,'Solar Profiles'!$U$4*'Inputs and Totals'!$B$8*'Inputs and Totals'!$B$9*0.001,IF('Inputs and Totals'!C34 =3,'Solar Profiles'!$U$5*'Inputs and Totals'!$B$8*'Inputs and Totals'!$B$9*0.001,\"Error\")))","v":0},{"$f":"IF('Inputs and Totals'!C34 = 1,'Solar Profiles'!$V$3*'Inputs and Totals'!$B$9*'Inputs and Totals'!$B$8*0.001, IF('Inputs and Totals'!C34 =2,'Solar Profiles'!$V$4*'Inputs and Totals'!$B$8*'Inputs and Totals'!$B$9*0.001,IF('Inputs and Totals'!C34 =3,'Solar Profiles'!$V$5*'Inputs and Totals'!$B$8*'Inputs and Totals'!$B$9*0.001,\"Error\")))","v":0},{"$f":"IF('Inputs and Totals'!C34 = 1,'Solar Profiles'!$W$3*'Inputs and Totals'!$B$9*'Inputs and Totals'!$B$8*0.001, IF('Inputs and Totals'!C34 =2,'Solar Profiles'!$W$4*'Inputs and Totals'!$B$8*'Inputs and Totals'!$B$9*0.001,IF('Inputs and Totals'!C34 =3,'Solar Profiles'!$W$5*'Inputs and Totals'!$B$8*'Inputs and Totals'!$B$9*0.001,\"Error\")))","v":0},{"$f":"IF('Inputs and Totals'!C34 = 1,'Solar Profiles'!$X$3*'Inputs and Totals'!$B$9*'Inputs and Totals'!$B$8*0.001, IF('Inputs and Totals'!C34 =2,'Solar Profiles'!$X$4*'Inputs and Totals'!$B$8*'Inputs and Totals'!$B$9*0.001,IF('Inputs and Totals'!C34 =3,'Solar Profiles'!$X$5*'Inputs and Totals'!$B$8*'Inputs and Totals'!$B$9*0.001,\"Error\")))","v":0},{"$f":"IF('Inputs and Totals'!C34 = 1,'Solar Profiles'!$Y$3*'Inputs and Totals'!$B$9*'Inputs and Totals'!$B$8*0.001, IF('Inputs and Totals'!C34 =2,'Solar Profiles'!$Y$4*'Inputs and Totals'!$B$8*'Inputs and Totals'!$B$9*0.001,IF('Inputs and Totals'!C34 =3,'Solar Profiles'!$Y$5*'Inputs and Totals'!$B$8*'Inputs and Totals'!$B$9*0.001,\"Error\")))","v":0},{"$f":"IF('Inputs and Totals'!C34 = 1,'Solar Profiles'!$Z$3*'Inputs and Totals'!$B$9*'Inputs and Totals'!$B$8*0.001, IF('Inputs and Totals'!C34 =2,'Solar Profiles'!$Z$4*'Inputs and Totals'!$B$8*'Inputs and Totals'!$B$9*0.001,IF('Inputs and Totals'!C34 =3,'Solar Profiles'!$Z$5*'Inputs and Totals'!$B$8*'Inputs and Totals'!$B$9*0.001,\"Error\")))","v":0},11598.84]
["Day 16",{"$f":"IF('Inputs and Totals'!C35 = 1,'Solar Profiles'!$C$3*'Inputs and Totals'!$B$9*'Inputs and Totals'!$B$8*0.001, IF('Inputs and Totals'!C35 =2,'Solar Profiles'!$C$4*'Inputs and Totals'!$B$8*'Inputs and Totals'!$B$9*0.001,IF('Inputs and Totals'!C35 =3,'Solar Profiles'!$C$5*'Inputs and Totals'!$B$8*'Inputs and Totals'!$B$9*0.001,\"Error\")))","v":0},{"$f":"IF('Inputs and Totals'!C35 = 1,'Solar Profiles'!$D$3*'Inputs and Totals'!$B$9*'Inputs and Totals'!$B$8*0.001, IF('Inputs and Totals'!C35 =2,'Solar Profiles'!$D$4*'Inputs and Totals'!$B$8*'Inputs and Totals'!$B$9*0.001,IF('Inputs and Totals'!C35 =3,'Solar Profiles'!$D$5*'Inputs and Totals'!$B$8*'Inputs and Totals'!$B$9*0.001,\"Error\")))","v":0},{"$f":"IF('Inputs and Totals'!C35 = 1,'Solar Profiles'!$E$3*'Inputs and Totals'!$B$9*'Inputs and Totals'!$B$8*0.001, IF('Inputs and Totals'!C35 =2,'Solar Profiles'!$E$4*'Inputs and Totals'!$B$8*'Inputs and Totals'!$B$9*0.001,IF('Inputs and Totals'!C35 =3,'Solar Profiles'!$E$5*'Inputs and Totals'!$B$8*'Inputs and Totals'!$B$9*0.001,\"Error\")))","v":0},{"$f":"IF('Inputs and Totals'!C35 = 1,'Solar Profiles'!$F$3*'Inputs and Totals'!$B$9*'Inputs and Totals'!$B$8*0.001, IF('Inputs and Totals'!C35 =2,'Solar Profiles'!$F$4*'Inputs and Totals'!$B$8*'Inputs and Totals'!$B$9*0.001,IF('Inputs and Totals'!C35 =3,'Solar Profiles'!$F$5*'Inputs and Totals'!$B$8*'Inputs and Totals'!$B$9*0.001,\"Error\")))","v":0},{"$f":"IF('Inputs and Totals'!C35 = 1,'Solar Profiles'!$G$3*'Inputs and Totals'!$B$9*'Inputs and Totals'!$B$8*0.001, IF('Inputs and Totals'!C35 =2,'Solar Profiles'!$G$4*'Inputs and Totals'!$B$8*'Inputs and Totals'!$B$9*0.001,IF('Inputs and Totals'!C35 =3,'Solar Profiles'!$G$5*'Inputs and Totals'!$B$8*'Inputs and Totals'!$B$9*0.001,\"Error\")))","v":0},{"$f":"IF('Inputs and Totals'!C35 = 1,'Solar Profiles'!$H$3*'Inputs and Totals'!$B$9*'Inputs and Totals'!$B$8*0.001, IF('Inputs and Totals'!C35 =2,'Solar Profiles'!$H$4*'Inputs and Totals'!$B$8*'Inputs and Totals'!$B$9*0.001,IF('Inputs and Totals'!C35 =3,'Solar Profiles'!$H$5*'Inputs and Totals'!$B$8*'Inputs and Totals'!$B$9*0.001,\"Error\")))","v":0},{"$f":"IF('Inputs and Totals'!C35 = 1,'Solar Profiles'!$I$3*'Inputs and Totals'!$B$9*'Inputs and Totals'!$B$8*0.001, IF('Inputs and Totals'!C35 =2,'Solar Profiles'!$I$4*'Inputs and Totals'!$B$8*'Inputs and Totals'!$B$9*0.001,IF('Inputs and Totals'!C35 =3,'Solar Profiles'!$I$5*'Inputs and Totals'!$B$8*'Inputs and Totals'!$B$9*0.001,\"Error\")))","v":0},{"$f":"IF('Inputs and Totals'!C35 = 1,'Solar Profiles'!$J$3*'Inputs and Totals'!$B$9*'Inputs and Totals'!$B$8*0.001, IF('Inputs and Totals'!C35 =2,'Solar Profiles'!$J$4*'Inputs and Totals'!$B$8*'Inputs and Totals'!$B$9*0.001,IF('Inputs and Totals'!C35 =3,'Solar Profiles'!$J$5*'Inputs and Totals'!$B$8*'Inputs and Totals'!$B$9*0.001,\"Error\")))","v":199.98000000000002},{"$f":"IF('Inputs and Totals'!C35 = 1,'Solar Profiles'!$K$3*'Inputs and Totals'!$B$9*'Inputs and Totals'!$B$8*0.001, IF('Inputs and Totals'!C35 =2,'Solar Profiles'!$K$4*'Inputs and Totals'!$B$8*'Inputs and Totals'!$B$9*0.001,IF('Inputs and Totals'!C35 =3,'Solar Profiles'!$K$5*'Inputs and Totals'!$B$8*'Inputs and Totals'!$B$9*0.001,\"Error\")))","v":399.96000000000004},{"$f":"IF('Inputs and Totals'!C35 = 1,'Solar Profiles'!$L$3*'Inputs and Totals'!$B$9*'Inputs and Totals'!$B$8*0.001, IF('Inputs and Totals'!C35 =2,'Solar Profiles'!$L$4*'Inputs and Totals'!$B$8*'Inputs and Totals'!$B$9*0.001,IF('Inputs and Totals'!C35 =3,'Solar Profiles'!$L$5*'Inputs and Totals'!$B$8*'Inputs and Totals'!$B$9*0.001,\"Error\")))","v":599.94000000000005},{"$f":"IF('Inputs and Totals'!C35 = 1,'Solar Profiles'!$M$3*'Inputs and Totals'!$B$9*'Inputs and Totals'!$B$8*0.001, IF('Inputs and Totals'!C35 =2,'Solar Profiles'!$M$4*'Inputs and Totals'!$B$8*'Inputs and Totals'!$B$9*0.001,IF('Inputs and Totals'!C35 =3,'Solar Profiles'!$M$5*'Inputs and Totals'!$B$8*'Inputs and Totals'!$B$9*0.001,\"Error\")))","v":799.92000000000007},{"$f":"IF('Inputs and Totals'!C35 = 1,'Solar Profiles'!$N$3*'Inputs and Totals'!$B$9*'Inputs and Totals'!$B$8*0.001, IF('Inputs and Totals'!C35 =2,'Solar Profiles'!$N$4*'Inputs and Totals'!$B$8*'Inputs and Totals'!$B$9*0.001,IF('Inputs and Totals'!C35 =3,'Solar Profiles'!$N$5*'Inputs and Totals'!$B$8*'Inputs and Totals'!$B$9*0.001,\"Error\")))","v":1599.8400000000001},{"$f":"IF('Inputs and Totals'!C35 = 1,'Solar Profiles'!$O$3*'Inputs and Totals'!$B$9*'Inputs and Totals'!$B$8*0.001, IF('Inputs and Totals'!C35 =2,'Solar Profiles'!$O$4*'Inputs and Totals'!$B$8*'Inputs and Totals'!$B$9*0.001,IF('Inputs and Totals'!C35 =3,'Solar Profiles'!$O$5*'Inputs and Totals'!$B$8*'Inputs and Totals'!$B$9*0.001,\"Error\")))","v":1999.8},{"$f":"IF('Inputs and Totals'!C35 = 1,'Solar Profiles'!$P$3*'Inputs and Totals'!$B$9*'Inputs and Totals'!$B$8*0.001, IF('Inputs and Totals'!C35 =2,'Solar Profiles'!$P$4*'Inputs and Totals'!$B$8*'Inputs and Totals'!$B$9*0.001,IF('Inputs and Totals'!C35 =3,'Solar Profiles'!$P$5*'Inputs and Totals'!$B$8*'Inputs and Totals'!$B$9*0.001,\"Error\")))","v":1999.8},{"$f":"IF('Inputs and Totals'!C35 = 1,'Solar Profiles'!$Q$3*'Inputs and Totals'!$B$9*'Inputs and Totals'!$B$8*0.001, IF('Inputs and Totals'!C35 =2,'Solar Profiles'!$Q$4*'Inputs and Totals'!$B$8*'Inputs and Totals'!$B$9*0.001,IF('Inputs and Totals'!C35 =3,'Solar Profiles'!$Q$5*'Inputs and Totals'!$B$8*'Inputs and Totals'!$B$9*0.001,\"Error\")))","v":1399.86},{"$f":"IF('Inputs and Totals'!C35 = 1,'Solar Profiles'!$R$3*'Inputs and Totals'!$B$9*'Inputs and Totals'!$B$8*0.001, IF('Inputs and Totals'!C35 =2,'Solar Profiles'!$R$4*'Inputs and Totals'!$B$8*'Inputs and Totals'!$B$9*0.001,IF('Inputs and Totals'!C35 =3,'Solar Profiles'!$R$5*'Inputs and Totals'!$B$8*'Inputs and Totals'!$B$9*0.001,\"Error\")))","v":1199.8800000000001},{"$f":"IF('Inputs and Totals'!C35 = 1,'Solar Profiles'!$S$3*'Inputs and Totals'!$B$9*'Inputs and Totals'!$B$8*0.001, IF('Inputs and Totals'!C35 =2,'Solar Profiles'!$S$4*'Inputs and Totals'!$B$8*'Inputs and Totals'!$B$9*0.001,IF('Inputs and Totals'!C35 =3,'Solar Profiles'!$S$5*'Inputs and Totals'!$B$8*'Inputs and Totals'!$B$9*0.001,\"Error\")))","v":999.9},{"$f":"IF('Inputs and Totals'!C35 = 1,'Solar Profiles'!$T$3*'Inputs and Totals'!$B$9*'Inputs and Totals'!$B$8*0.001, IF('Inputs and Totals'!C35 =2,'Solar Profiles'!$T$4*'Inputs and Totals'!$B$8*'Inputs and Totals'!$B$9*0.001,IF('Inputs and Totals'!C35 =3,'Solar Profiles'!$T$5*'Inputs and Totals'!$B$8*'Inputs and Totals'!$B$9*0.001,\"Error\")))","v":399.96000000000004},{"$f":"IF('Inputs and Totals'!C35 = 1,'Solar Profiles'!$U$3*'Inputs and Totals'!$B$9*'Inputs and Totals'!$B$8*0.001, IF('Inputs and Totals'!C35 =2,'Solar Profiles'!$U$4*'Inputs and Totals'!$B$8*'Inputs and Totals'!$B$9*0.001,IF('Inputs and Totals'!C35 =3,'Solar Profiles'!$U$5*'Inputs and Totals'!$B$8*'Inputs and Totals'!$B$9*0.001,\"Error\")))","v":0},{"$f":"IF('Inputs and Totals'!C35 = 1,'Solar Profiles'!$V$3*'Inputs and Totals'!$B$9*'Inputs and Totals'!$B$8*0.001, IF('Inputs and Totals'!C35 =2,'Solar Profiles'!$V$4*'Inputs and Totals'!$B$8*'Inputs and Totals'!$B$9*0.001,IF('Inputs and Totals'!C35 =3,'Solar Profiles'!$V$5*'Inputs and Totals'!$B$8*'Inputs and Totals'!$B$9*0.001,\"Error\")))","v":0},{"$f":"IF('Inputs and Totals'!C35 = 1,'Solar Profiles'!$W$3*'Inputs and Totals'!$B$9*'Inputs and Totals'!$B$8*0.001, IF('Inputs and Totals'!C35 =2,'Solar Profiles'!$W$4*'Inputs and Totals'!$B$8*'Inputs and Totals'!$B$9*0.001,IF('Inputs and Totals'!C35 =3,'Solar Profiles'!$W$5*'Inputs and Totals'!$B$8*'Inputs and Totals'!$B$9*0.001,\"Error\")))","v":0},{"$f":"IF('Inputs and Totals'!C35 = 1,'Solar Profiles'!$X$3*'Inputs and Totals'!$B$9*'Inputs and Totals'!$B$8*0.001, IF('Inputs and Totals'!C35 =2,'Solar Profiles'!$X$4*'Inputs and Totals'!$B$8*'Inputs and Totals'!$B$9*0.001,IF('Inputs and Totals'!C35 =3,'Solar Profiles'!$X$5*'Inputs and Totals'!$B$8*'Inputs and Totals'!$B$9*0.001,\"Error\")))","v":0},{"$f":"IF('Inputs and Totals'!C35 = 1,'Solar Profiles'!$Y$3*'Inputs and Totals'!$B$9*'Inputs and Totals'!$B$8*0.001, IF('Inputs and Totals'!C35 =2,'Solar Profiles'!$Y$4*'Inputs and Totals'!$B$8*'Inputs and Totals'!$B$9*0.001,IF('Inputs and Totals'!C35 =3,'Solar Profiles'!$Y$5*'Inputs and Totals'!$B$8*'Inputs and Totals'!$B$9*0.001,\"Error\")))","v":0},{"$f":"IF('Inputs and Totals'!C35 = 1,'Solar Profiles'!$Z$3*'Inputs and Totals'!$B$9*'Inputs and Totals'!$B$8*0.001, IF('Inputs and Totals'!C35 =2,'Solar Profiles'!$Z$4*'Inputs and Totals'!$B$8*'Inputs and Totals'!$B$9*0.001,IF('Inputs and Totals'!C35 =3,'Solar Profiles'!$Z$5*'Inputs and Totals'!$B$8*'Inputs and Totals'!$B$9*0.001,\"Error\")))","v":0},11598.84]
["Day 17",{"$f":"IF('Inputs and Totals'!C36 = 1,'Solar Profiles'!$C$3*'Inputs and Totals'!$B$9*'Inputs and Totals'!$B$8*0.001, IF('Inputs and Totals'!C36 =2,'Solar Profiles'!$C$4*'Inputs and Totals'!$B$8*'Inputs and Totals'!$B$9*0.001,IF('Inputs and Totals'!C36 =3,'Solar Profiles'!$C$5*'Inputs and Totals'!$B$8*'Inputs and Totals'!$B$9*0.001,\"Error\")))","v":0},{"$f":"IF('Inputs and Totals'!C36 = 1,'Solar Profiles'!$D$3*'Inputs and Totals'!$B$9*'Inputs and Totals'!$B$8*0.001, IF('Inputs and Totals'!C36 =2,'Solar Profiles'!$D$4*'Inputs and Totals'!$B$8*'Inputs and Totals'!$B$9*0.001,IF('Inputs and Totals'!C36 =3,'Solar Profiles'!$D$5*'Inputs and Totals'!$B$8*'Inputs and Totals'!$B$9*0.001,\"Error\")))","v":0},{"$f":"IF('Inputs and Totals'!C36 = 1,'Solar Profiles'!$E$3*'Inputs and Totals'!$B$9*'Inputs and Totals'!$B$8*0.001, IF('Inputs and Totals'!C36 =2,'Solar Profiles'!$E$4*'Inputs and Totals'!$B$8*'Inputs and Totals'!$B$9*0.001,IF('Inputs and Totals'!C36 =3,'Solar Profiles'!$E$5*'Inputs and Totals'!$B$8*'Inputs and Totals'!$B$9*0.001,\"Error\")))","v":0},{"$f":"IF('Inputs and Totals'!C36 = 1,'Solar Profiles'!$F$3*'Inputs and Totals'!$B$9*'Inputs and Totals'!$B$8*0.001, IF('Inputs and Totals'!C36 =2,'Solar Profiles'!$F$4*'Inputs and Totals'!$B$8*'Inputs and Totals'!$B$9*0.001,IF('Inputs and Totals'!C36 =3,'Solar Profiles'!$F$5*'Inputs and Totals'!$B$8*'Inputs and Totals'!$B$9*0.001,\"Error\")))","v":0},{"$f":"IF('Inputs and Totals'!C36 = 1,'Solar Profiles'!$G$3*'Inputs and Totals'!$B$9*'Inputs and Totals'!$B$8*0.001, IF('Inputs and Totals'!C36 =2,'Solar Profiles'!$G$4*'Inputs and Totals'!$B$8*'Inputs and Totals'!$B$9*0.001,IF('Inputs and Totals'!C36 =3,'Solar Profiles'!$G$5*'Inputs and Totals'!$B$8*'Inputs and Totals'!$B$9*0.001,\"Error\")))","v":0},{"$f":"IF('Inputs and Totals'!C36 = 1,'Solar Profiles'!$H$3*'Inputs and Totals'!$B$9*'Inputs and Totals'!$B$8*0.001, IF('Inputs and Totals'!C36 =2,'Solar Profiles'!$H$4*'Inputs and Totals'!$B$8*'Inputs and Totals'!$B$9*0.001,IF('Inputs and Totals'!C36 =3,'Solar Profiles'!$H$5*'Inputs and Totals'!$B$8*'Inputs and Totals'!$B$9*0.001,\"Error\")))","v":0},{"$f":"IF('Inputs and Totals'!C36 = 1,'Solar Profiles'!$I$3*'Inputs and Totals'!$B$9*'Inputs and Totals'!$B$8*0.001, IF('Inputs and Totals'!C36 =2,'Solar Profiles'!$I$4*'Inputs and Totals'!$B$8*'Inputs and Totals'!$B$9*0.001,IF('Inputs and Totals'!C36 =3,'Solar Profiles'!$I$5*'Inputs and Totals'!$B$8*'Inputs and Totals'!$B$9*0.001,\"Error\")))","v":0},{"$f":"IF('Inputs and Totals'!C36 = 1,'Solar Profiles'!$J$3*'Inputs and Totals'!$B$9*'Inputs and Totals'!$B$8*0.001, IF('Inputs and Totals'!C36 =2,'Solar Profiles'!$J$4*'Inputs and Totals'!$B$8*'Inputs and Totals'!$B$9*0.001,IF('Inputs and Totals'!C36 =3,'Solar Profiles'!$J$5*'Inputs and Totals'!$B$8*'Inputs and Totals'!$B$9*0.001,\"Error\")))","v":99.990000000000009},{"$f":"IF('Inputs and Totals'!C36 = 1,'Solar Profiles'!$K$3*'Inputs and Totals'!$B$9*'Inputs and Totals'!$B$8*0.001, IF('Inputs and Totals'!C36 =2,'Solar Profiles'!$K$4*'Inputs and Totals'!$B$8*'Inputs and Totals'!$B$9*0.001,IF('Inputs and Totals'!C36 =3,'Solar Profiles'!$K$5*'Inputs and Totals'!$B$8*'Inputs and Totals'!$B$9*0.001,\"Error\")))","v":199.98000000000002},{"$f":"IF('Inputs and Totals'!C36 = 1,'Solar Profiles'!$L$3*'Inputs and Totals'!$B$9*'Inputs and Totals'!$B$8*0.001, IF('Inputs and Totals'!C36 =2,'Solar Profiles'!$L$4*'Inputs and Totals'!$B$8*'Inputs and Totals'!$B$9*0.001,IF('Inputs and Totals'!C36 =3,'Solar Profiles'!$L$5*'Inputs and Totals'!$B$8*'Inputs and Totals'!$B$9*0.001,\"Error\")))","v":299.97000000000003},{"$f":"IF('Inputs and Totals'!C36 = 1,'Solar Profiles'!$M$3*'Inputs and Totals'!$B$9*'Inputs and Totals'!$B$8*0.001, IF('Inputs and Totals'!C36 =2,'Solar Profiles'!$M$4*'Inputs and Totals'!$B$8*'Inputs and Totals'!$B$9*0.001,IF('Inputs and Totals'!C36 =3,'Solar Profiles'!$M$5*'Inputs and Totals'!$B$8*'Inputs and Totals'!$B$9*0.001,\"Error\")))","v":399.96000000000004},{"$f":"IF('Inputs and Totals'!C36 = 1,'Solar Profiles'!$N$3*'Inputs and Totals'!$B$9*'Inputs and Totals'!$B$8*0.001, IF('Inputs and Totals'!C36 =2,'Solar Profiles'!$N$4*'Inputs and Totals'!$B$8*'Inputs and Totals'!$B$9*0.001,IF('Inputs and Totals'!C36 =3,'Solar Profiles'!$N$5*'Inputs and Totals'!$B$8*'Inputs and Totals'!$B$9*0.001,\"Error\")))","v":799.92000000000007},{"$f":"IF('Inputs and Totals'!C36 = 1,'Solar Profiles'!$O$3*'Inputs and Totals'!$B$9*'Inputs and Totals'!$B$8*0.001, IF('Inputs and Totals'!C36 =2,'Solar Profiles'!$O$4*'Inputs and Totals'!$B$8*'Inputs and Totals'!$B$9*0.001,IF('Inputs and Totals'!C36 =3,'Solar Profiles'!$O$5*'Inputs and Totals'!$B$8*'Inputs and Totals'!$B$9*0.001,\"Error\")))","v":999.9},{"$f":"IF('Inputs and Totals'!C36 = 1,'Solar Profiles'!$P$3*'Inputs and Totals'!$B$9*'Inputs and Totals'!$B$8*0.001, IF('Inputs and Totals'!C36 =2,'Solar Profiles'!$P$4*'Inputs and Totals'!$B$8*'Inputs and Totals'!$B$9*0.001,IF('Inputs and Totals'!C36 =3,'Solar Profiles'!$P$5*'Inputs and Totals'!$B$8*'Inputs and Totals'!$B$9*0.001,\"Error\")))","v":999.9},{"$f":"IF('Inputs and Totals'!C36 = 1,'Solar Profiles'!$Q$3*'Inputs and Totals'!$B$9*'Inputs and Totals'!$B$8*0.001, IF('Inputs and Totals'!C36 =2,'Solar Profiles'!$Q$4*'Inputs and Totals'!$B$8*'Inputs and Totals'!$B$9*0.001,IF('Inputs and Totals'!C36 =3,'Solar Profiles'!$Q$5*'Inputs and Totals'!$B$8*'Inputs and Totals'!$B$9*0.001,\"Error\")))","v":799.92000000000007},{"$f":"IF('Inputs and Totals'!C36 = 1,'Solar Profiles'!$R$3*'Inputs and Totals'!$B$9*'Inputs and Totals'!$B$8*0.001, IF('Inputs and Totals'!C36 =2,'Solar Profiles'!$R$4*'Inputs and Totals'!$B$8*'Inputs and Totals'!$B$9*0.001,IF('Inputs and Totals'!C36 =3,'Solar Profiles'!$R$5*'Inputs and Totals'!$B$8*'Inputs and Totals'!$B$9*0.001,\"Error\")))","v":599.94000000000005},{"$f":"IF('Inputs and Totals'!C36 = 1,'Solar Profiles'!$S$3*'Inputs and Totals'!$B$9*'Inputs and Totals'!$B$8*0.001, IF('Inputs and Totals'!C36 =2,'Solar Profiles'!$S$4*'Inputs and Totals'!$B$8*'Inputs and Totals'!$B$9*0.001,IF('Inputs and Totals'!C36 =3,'Solar Profiles'!$S$5*'Inputs and Totals'!$B$8*'Inputs and Totals'!$B$9*0.001,\"Error\")))","v":399.96000000000004},{"$f":"IF('Inputs and Totals'!C36 = 1,'Solar Profiles'!$T$3*'Inputs and Totals'!$B$9*'Inputs and Totals'!$B$8*0.001, IF('Inputs and Totals'!C36 =2,'Solar Profiles'!$T$4*'Inputs and Totals'!$B$8*'Inputs and Totals'!$B$9*0.001,IF('Inputs and Totals'!C36 =3,'Solar Profiles'!$T$5*'Inputs and Totals'!$B$8*'Inputs and Totals'!$B$9*0.001,\"Error\")))","v":199.98000000000002},{"$f":"IF('Inputs and Totals'!C36 = 1,'Solar Profiles'!$U$3*'Inputs and Totals'!$B$9*'Inputs and Totals'!$B$8*0.001, IF('Inputs and Totals'!C36 =2,'Solar Profiles'!$U$4*'Inputs and Totals'!$B$8*'Inputs and Totals'!$B$9*0.001,IF('Inputs and Totals'!C36 =3,'Solar Profiles'!$U$5*'Inputs and Totals'!$B$8*'Inputs and Totals'!$B$9*0.001,\"Error\")))","v":0},{"$f":"IF('Inputs and Totals'!C36 = 1,'Solar Profiles'!$V$3*'Inputs and Totals'!$B$9*'Inputs and Totals'!$B$8*0.001, IF('Inputs and Totals'!C36 =2,'Solar Profiles'!$V$4*'Inputs and Totals'!$B$8*'Inputs and Totals'!$B$9*0.001,IF('Inputs and Totals'!C36 =3,'Solar Profiles'!$V$5*'Inputs and Totals'!$B$8*'Inputs and Totals'!$B$9*0.001,\"Error\")))","v":0},{"$f":"IF('Inputs and Totals'!C36 = 1,'Solar Profiles'!$W$3*'Inputs and Totals'!$B$9*'Inputs and Totals'!$B$8*0.001, IF('Inputs and Totals'!C36 =2,'Solar Profiles'!$W$4*'Inputs and Totals'!$B$8*'Inputs and Totals'!$B$9*0.001,IF('Inputs and Totals'!C36 =3,'Solar Profiles'!$W$5*'Inputs and Totals'!$B$8*'Inputs and Totals'!$B$9*0.001,\"Error\")))","v":0},{"$f":"IF('Inputs and Totals'!C36 = 1,'Solar Profiles'!$X$3*'Inputs and Totals'!$B$9*'Inputs and Totals'!$B$8*0.001, IF('Inputs and Totals'!C36 =2,'Solar Profiles'!$X$4*'Inputs and Totals'!$B$8*'Inputs and Totals'!$B$9*0.001,IF('Inputs and Totals'!C36 =3,'Solar Profiles'!$X$5*'Inputs and Totals'!$B$8*'Inputs and Totals'!$B$9*0.001,\"Error\")))","v":0},{"$f":"IF('Inputs and Totals'!C36 = 1,'Solar Profiles'!$Y$3*'Inputs and Totals'!$B$9*'Inputs and Totals'!$B$8*0.001, IF('Inputs and Totals'!C36 =2,'Solar Profiles'!$Y$4*'Inputs and Totals'!$B$8*'Inputs and Totals'!$B$9*0.001,IF('Inputs and Totals'!C36 =3,'Solar Profiles'!$Y$5*'Inputs and Totals'!$B$8*'Inputs and Totals'!$B$9*0.001,\"Error\")))","v":0},{"$f":"IF('Inputs and Totals'!C36 = 1,'Solar Profiles'!$Z$3*'Inputs and Totals'!$B$9*'Inputs and Totals'!$B$8*0.001, IF('Inputs and Totals'!C36 =2,'Solar Profiles'!$Z$4*'Inputs and Totals'!$B$8*'Inputs and Totals'!$B$9*0.001,IF('Inputs and Totals'!C36 =3,'Solar Profiles'!$Z$5*'Inputs and Totals'!$B$8*'Inputs and Totals'!$B$9*0.001,\"Error\")))","v":0},5799.4200000000019]
["Day 18",{"$f":"IF('Inputs and Totals'!C37 = 1,'Solar Profiles'!$C$3*'Inputs and Totals'!$B$9*'Inputs and Totals'!$B$8*0.001, IF('Inputs and Totals'!C37 =2,'Solar Profiles'!$C$4*'Inputs and Totals'!$B$8*'Inputs and Totals'!$B$9*0.001,IF('Inputs and Totals'!C37 =3,'Solar Profiles'!$C$5*'Inputs and Totals'!$B$8*'Inputs and Totals'!$B$9*0.001,\"Error\")))","v":0},{"$f":"IF('Inputs and Totals'!C37 = 1,'Solar Profiles'!$D$3*'Inputs and Totals'!$B$9*'Inputs and Totals'!$B$8*0.001, IF('Inputs and Totals'!C37 =2,'Solar Profiles'!$D$4*'Inputs and Totals'!$B$8*'Inputs and Totals'!$B$9*0.001,IF('Inputs and Totals'!C37 =3,'Solar Profiles'!$D$5*'Inputs and Totals'!$B$8*'Inputs and Totals'!$B$9*0.001,\"Error\")))","v":0},{"$f":"IF('Inputs and Totals'!C37 = 1,'Solar Profiles'!$E$3*'Inputs and Totals'!$B$9*'Inputs and Totals'!$B$8*0.001, IF('Inputs and Totals'!C37 =2,'Solar Profiles'!$E$4*'Inputs and Totals'!$B$8*'Inputs and Totals'!$B$9*0.001,IF('Inputs and Totals'!C37 =3,'Solar Profiles'!$E$5*'Inputs and Totals'!$B$8*'Inputs and Totals'!$B$9*0.001,\"Error\")))","v":0},{"$f":"IF('Inputs and Totals'!C37 = 1,'Solar Profiles'!$F$3*'Inputs and Totals'!$B$9*'Inputs and Totals'!$B$8*0.001, IF('Inputs and Totals'!C37 =2,'Solar Profiles'!$F$4*'Inputs and Totals'!$B$8*'Inputs and Totals'!$B$9*0.001,IF('Inputs and Totals'!C37 =3,'Solar Profiles'!$F$5*'Inputs and Totals'!$B$8*'Inputs and Totals'!$B$9*0.001,\"Error\")))","v":0},{"$f":"IF('Inputs and Totals'!C37 = 1,'Solar Profiles'!$G$3*'Inputs and Totals'!$B$9*'Inputs and Totals'!$B$8*0.001, IF('Inputs and Totals'!C37 =2,'Solar Profiles'!$G$4*'Inputs and Totals'!$B$8*'Inputs and Totals'!$B$9*0.001,IF('Inputs and Totals'!C37 =3,'Solar Profiles'!$G$5*'Inputs and Totals'!$B$8*'Inputs and Totals'!$B$9*0.001,\"Error\")))","v":0},{"$f":"IF('Inputs and Totals'!C37 = 1,'Solar Profiles'!$H$3*'Inputs and Totals'!$B$9*'Inputs and Totals'!$B$8*0.001, IF('Inputs and Totals'!C37 =2,'Solar Profiles'!$H$4*'Inputs and Totals'!$B$8*'Inputs and Totals'!$B$9*0.001,IF('Inputs and Totals'!C37 =3,'Solar Profiles'!$H$5*'Inputs and Totals'!$B$8*'Inputs and Totals'!$B$9*0.001,\"Error\")))","v":0},{"$f":"IF('Inputs and Totals'!C37 = 1,'Solar Profiles'!$I$3*'Inputs and Totals'!$B$9*'Inputs and Totals'!$B$8*0.001, IF('Inputs and Totals'!C37 =2,'Solar Profiles'!$I$4*'Inputs and Totals'!$B$8*'Inputs and Totals'!$B$9*0.001,IF('Inputs and Totals'!C37 =3,'Solar Profiles'!$I$5*'Inputs and Totals'!$B$8*'Inputs and Totals'!$B$9*0.001,\"Error\")))","v":0},{"$f":"IF('Inputs and Totals'!C37 = 1,'Solar Profiles'!$J$3*'Inputs and Totals'!$B$9*'Inputs and Totals'!$B$8*0.001, IF('Inputs and Totals'!C37 =2,'Solar Profiles'!$J$4*'Inputs and Totals'!$B$8*'Inputs and Totals'!$B$9*0.001,IF('Inputs and Totals'!C37 =3,'Solar Profiles'!$J$5*'Inputs and Totals'!$B$8*'Inputs and Totals'!$B$9*0.001,\"Error\")))","v":199.98000000000002},{"$f":"IF('Inputs and Totals'!C37 = 1,'Solar Profiles'!$K$3*'Inputs and Totals'!$B$9*'Inputs and Totals'!$B$8*0.001, IF('Inputs and Totals'!C37 =2,'Solar Profiles'!$K$4*'Inputs and Totals'!$B$8*'Inputs and Totals'!$B$9*0.001,IF('Inputs and Totals'!C37 =3,'Solar Profiles'!$K$5*'Inputs and Totals'!$B$8*'Inputs and Totals'!$B$9*0.001,\"Error\")))","v":399.96000000000004},{"$f":"IF('Inputs and Totals'!C37 = 1,'Solar Profiles'!$L$3*'Inputs and Totals'!$B$9*'Inputs and Totals'!$B$8*0.001, IF('Inputs and Totals'!C37 =2,'Solar Profiles'!$L$4*'Inputs and Totals'!$B$8*'Inputs and Totals'!$B$9*0.001,IF('Inputs and Totals'!C37 =3,'Solar Profiles'!$L$5*'Inputs and Totals'!$B$8*'Inputs and Totals'!$B$9*0.001,\"Error\")))","v":599.94000000000005},{"$f":"IF('Inputs and Totals'!C37 = 1,'Solar Profiles'!$M$3*'Inputs and Totals'!$B$9*'Inputs and Totals'!$B$8*0.001, IF('Inputs and Totals'!C37 =2,'Solar Profiles'!$M$4*'Inputs and Totals'!$B$8*'Inputs and Totals'!$B$9*0.001,IF('Inputs and Totals'!C37 =3,'Solar Profiles'!$M$5*'Inputs and Totals'!$B$8*'Inputs and Totals'!$B$9*0.001,\"Error\")))","v":799.92000000000007},{"$f":"IF('Inputs and Totals'!C37 = 1,'Solar Profiles'!$N$3*'Inputs and Totals'!$B$9*'Inputs and Totals'!$B$8*0.001, IF('Inputs and Totals'!C37 =2,'Solar Profiles'!$N$4*'Inputs and Totals'!$B$8*'Inputs and Totals'!$B$9*0.001,IF('Inputs and Totals'!C37 =3,'Solar Profiles'!$N$5*'Inputs and Totals'!$B$8*'Inputs and Totals'!$B$9*0.001,\"Error\")))","v":1599.8400000000001},{"$f":"IF('Inputs and Totals'!C37 = 1,'Solar Profiles'!$O$3*'Inputs and Totals'!$B$9*'Inputs and Totals'!$B$8*0.001, IF('Inputs and Totals'!C37 =2,'Solar Profiles'!$O$4*'Inputs and Totals'!$B$8*'Inputs and Totals'!$B$9*0.001,IF('Inputs and Totals'!C37 =3,'Solar Profiles'!$O$5*'Inputs and Totals'!$B$8*'Inputs and Totals'!$B$9*0.001,\"Error\")))","v":1999.8},{"$f":"IF('Inputs and Totals'!C37 = 1,'Solar Profiles'!$P$3*'Inputs and Totals'!$B$9*'Inputs and Totals'!$B$8*0.001, IF('Inputs and Totals'!C37 =2,'Solar Profiles'!$P$4*'Inputs and Totals'!$B$8*'Inputs and Totals'!$B$9*0.001,IF('Inputs and Totals'!C37 =3,'Solar Profiles'!$P$5*'Inputs and Totals'!$B$8*'Inputs and Totals'!$B$9*0.001,\"Error\")))","v":1999.8},{"$f":"IF('Inputs and Totals'!C37 = 1,'Solar Profiles'!$Q$3*'Inputs and Totals'!$B$9*'Inputs and Totals'!$B$8*0.001, IF('Inputs and Totals'!C37 =2,'Solar Profiles'!$Q$4*'Inputs and Totals'!$B$8*'Inputs and Totals'!$B$9*0.001,IF('Inputs and Totals'!C37 =3,'Solar Profiles'!$Q$5*'Inputs and Totals'!$B$8*'Inputs and Totals'!$B$9*0.001,\"Error\")))","v":1399.86},{"$f":"IF('Inputs and Totals'!C37 = 1,'Solar Profiles'!$R$3*'Inputs and Totals'!$B$9*'Inputs and Totals'!$B$8*0.001, IF('Inputs and Totals'!C37 =2,'Solar Profiles'!$R$4*'Inputs and Totals'!$B$8*'Inputs and Totals'!$B$9*0.001,IF('Inputs and Totals'!C37 =3,'Solar Profiles'!$R$5*'Inputs and Totals'!$B$8*'Inputs and Totals'!$B$9*0.001,\"Error\")))","v":1199.8800000000001},{"$f":"IF('Inputs and Totals'!C37 = 1,'Solar Profiles'!$S$3*'Inputs and Totals'!$B$9*'Inputs and Totals'!$B$8*0.001, IF('Inputs and Totals'!C37 =2,'Solar Profiles'!$S$4*'Inputs and Totals'!$B$8*'Inputs and Totals'!$B$9*0.001,IF('Inputs and Totals'!C37 =3,'Solar Profiles'!$S$5*'Inputs and Totals'!$B$8*'Inputs and Totals'!$B$9*0.001,\"Error\")))","v":999.9},{"$f":"IF('Inputs and Totals'!C37 = 1,'Solar Profiles'!$T$3*'Inputs and Totals'!$B$9*'Inputs and Totals'!$B$8*0.001, IF('Inputs and Totals'!C37 =2,'Solar Profiles'!$T$4*'Inputs and Totals'!$B$8*'Inputs and Totals'!$B$9*0.001,IF('Inputs and Totals'!C37 =3,'Solar Profiles'!$T$5*'Inputs and Totals'!$B$8*'Inputs and Totals'!$B$9*0.001,\"Error\")))","v":399.96000000000004},{"$f":"IF('Inputs and Totals'!C37 = 1,'Solar Profiles'!$U$3*'Inputs and Totals'!$B$9*'Inputs and Totals'!$B$8*0.001, IF('Inputs and Totals'!C37 =2,'Solar Profiles'!$U$4*'Inputs and Totals'!$B$8*'Inputs and Totals'!$B$9*0.001,IF('Inputs and Totals'!C37 =3,'Solar Profiles'!$U$5*'Inputs and Totals'!$B$8*'Inputs and Totals'!$B$9*0.001,\"Error\")))","v":0},{"$f":"IF('Inputs and Totals'!C37 = 1,'Solar Profiles'!$V$3*'Inputs and Totals'!$B$9*'Inputs and Totals'!$B$8*0.001, IF('Inputs and Totals'!C37 =2,'Solar Profiles'!$V$4*'Inputs and Totals'!$B$8*'Inputs and Totals'!$B$9*0.001,IF('Inputs and Totals'!C37 =3,'Solar Profiles'!$V$5*'Inputs and Totals'!$B$8*'Inputs and Totals'!$B$9*0.001,\"Error\")))","v":0},{"$f":"IF('Inputs and Totals'!C37 = 1,'Solar Profiles'!$W$3*'Inputs and Totals'!$B$9*'Inputs and Totals'!$B$8*0.001, IF('Inputs and Totals'!C37 =2,'Solar Profiles'!$W$4*'Inputs and Totals'!$B$8*'Inputs and Totals'!$B$9*0.001,IF('Inputs and Totals'!C37 =3,'Solar Profiles'!$W$5*'Inputs and Totals'!$B$8*'Inputs and Totals'!$B$9*0.001,\"Error\")))","v":0},{"$f":"IF('Inputs and Totals'!C37 = 1,'Solar Profiles'!$X$3*'Inputs and Totals'!$B$9*'Inputs and Totals'!$B$8*0.001, IF('Inputs and Totals'!C37 =2,'Solar Profiles'!$X$4*'Inputs and Totals'!$B$8*'Inputs and Totals'!$B$9*0.001,IF('Inputs and Totals'!C37 =3,'Solar Profiles'!$X$5*'Inputs and Totals'!$B$8*'Inputs and Totals'!$B$9*0.001,\"Error\")))","v":0},{"$f":"IF('Inputs and Totals'!C37 = 1,'Solar Profiles'!$Y$3*'Inputs and Totals'!$B$9*'Inputs and Totals'!$B$8*0.001, IF('Inputs and Totals'!C37 =2,'Solar Profiles'!$Y$4*'Inputs and Totals'!$B$8*'Inputs and Totals'!$B$9*0.001,IF('Inputs and Totals'!C37 =3,'Solar Profiles'!$Y$5*'Inputs and Totals'!$B$8*'Inputs and Totals'!$B$9*0.001,\"Error\")))","v":0},{"$f":"IF('Inputs and Totals'!C37 = 1,'Solar Profiles'!$Z$3*'Inputs and Totals'!$B$9*'Inputs and Totals'!$B$8*0.001, IF('Inputs and Totals'!C37 =2,'Solar Profiles'!$Z$4*'Inputs and Totals'!$B$8*'Inputs and Totals'!$B$9*0.001,IF('Inputs and Totals'!C37 =3,'Solar Profiles'!$Z$5*'Inputs and Totals'!$B$8*'Inputs and Totals'!$B$9*0.001,\"Error\")))","v":0},11598.84]
["Day 19",{"$f":"IF('Inputs and Totals'!C38 = 1,'Solar Profiles'!$C$3*'Inputs and Totals'!$B$9*'Inputs and Totals'!$B$8*0.001, IF('Inputs and Totals'!C38 =2,'Solar Profiles'!$C$4*'Inputs and Totals'!$B$8*'Inputs and Totals'!$B$9*0.001,IF('Inputs and Totals'!C38 =3,'Solar Profiles'!$C$5*'Inputs and Totals'!$B$8*'Inputs and Totals'!$B$9*0.001,\"Error\")))","v":0},{"$f":"IF('Inputs and Totals'!C38 = 1,'Solar Profiles'!$D$3*'Inputs and Totals'!$B$9*'Inputs and Totals'!$B$8*0.001, IF('Inputs and Totals'!C38 =2,'Solar Profiles'!$D$4*'Inputs and Totals'!$B$8*'Inputs and Totals'!$B$9*0.001,IF('Inputs and Totals'!C38 =3,'Solar Profiles'!$D$5*'Inputs and Totals'!$B$8*'Inputs and Totals'!$B$9*0.001,\"Error\")))","v":0},{"$f":"IF('Inputs and Totals'!C38 = 1,'Solar Profiles'!$E$3*'Inputs and Totals'!$B$9*'Inputs and Totals'!$B$8*0.001, IF('Inputs and Totals'!C38 =2,'Solar Profiles'!$E$4*'Inputs and Totals'!$B$8*'Inputs and Totals'!$B$9*0.001,IF('Inputs and Totals'!C38 =3,'Solar Profiles'!$E$5*'Inputs and Totals'!$B$8*'Inputs and Totals'!$B$9*0.001,\"Error\")))","v":0},{"$f":"IF('Inputs and Totals'!C38 = 1,'Solar Profiles'!$F$3*'Inputs and Totals'!$B$9*'Inputs and Totals'!$B$8*0.001, IF('Inputs and Totals'!C38 =2,'Solar Profiles'!$F$4*'Inputs and Totals'!$B$8*'Inputs and Totals'!$B$9*0.001,IF('Inputs and Totals'!C38 =3,'Solar Profiles'!$F$5*'Inputs and Totals'!$B$8*'Inputs and Totals'!$B$9*0.001,\"Error\")))","v":0},{"$f":"IF('Inputs and Totals'!C38 = 1,'Solar Profiles'!$G$3*'Inputs and Totals'!$B$9*'Inputs and Totals'!$B$8*0.001, IF('Inputs and Totals'!C38 =2,'Solar Profiles'!$G$4*'Inputs and Totals'!$B$8*'Inputs and Totals'!$B$9*0.001,IF('Inputs and Totals'!C38 =3,'Solar Profiles'!$G$5*'Inputs and Totals'!$B$8*'Inputs and Totals'!$B$9*0.001,\"Error\")))","v":0},{"$f":"IF('Inputs and Totals'!C38 = 1,'Solar Profiles'!$H$3*'Inputs and Totals'!$B$9*'Inputs and Totals'!$B$8*0.001, IF('Inputs and Totals'!C38 =2,'Solar Profiles'!$H$4*'Inputs and Totals'!$B$8*'Inputs and Totals'!$B$9*0.001,IF('Inputs and Totals'!C38 =3,'Solar Profiles'!$H$5*'Inputs and Totals'!$B$8*'Inputs and Totals'!$B$9*0.001,\"Error\")))","v":0},{"$f":"IF('Inputs and Totals'!C38 = 1,'Solar Profiles'!$I$3*'Inputs and Totals'!$B$9*'Inputs and Totals'!$B$8*0.001, IF('Inputs and Totals'!C38 =2,'Solar Profiles'!$I$4*'Inputs and Totals'!$B$8*'Inputs and Totals'!$B$9*0.001,IF('Inputs and Totals'!C38 =3,'Solar Profiles'!$I$5*'Inputs and Totals'!$B$8*'Inputs and Totals'!$B$9*0.001,\"Error\")))","v":0},{"$f":"IF('Inputs and Totals'!C38 = 1,'Solar Profiles'!$J$3*'Inputs and Totals'!$B$9*'Inputs and Totals'!$B$8*0.001, IF('Inputs and Totals'!C38 =2,'Solar Profiles'!$J$4*'Inputs and Totals'!$B$8*'Inputs and Totals'!$B$9*0.001,IF('Inputs and Totals'!C38 =3,'Solar Profiles'!$J$5*'Inputs and Totals'!$B$8*'Inputs and Totals'!$B$9*0.001,\"Error\")))","v":199.98000000000002},{"$f":"IF('Inputs and Totals'!C38 = 1,'Solar Profiles'!$K$3*'Inputs and Totals'!$B$9*'Inputs and Totals'!$B$8*0.001, IF('Inputs and Totals'!C38 =2,'Solar Profiles'!$K$4*'Inputs and Totals'!$B$8*'Inputs and Totals'!$B$9*0.001,IF('Inputs and Totals'!C38 =3,'Solar Profiles'!$K$5*'Inputs and Totals'!$B$8*'Inputs and Totals'!$B$9*0.001,\"Error\")))","v":199.98000000000002},{"$f":"IF('Inputs and Totals'!C38 = 1,'Solar Profiles'!$L$3*'Inputs and Totals'!$B$9*'Inputs and Totals'!$B$8*0.001, IF('Inputs and Totals'!C38 =2,'Solar Profiles'!$L$4*'Inputs and Totals'!$B$8*'Inputs and Totals'!$B$9*0.001,IF('Inputs and Totals'!C38 =3,'Solar Profiles'!$L$5*'Inputs and Totals'!$B$8*'Inputs and Totals'!$B$9*0.001,\"Error\")))","v":399.96000000000004},{"$f":"IF('Inputs and Totals'!C38 = 1,'Solar Profiles'!$M$3*'Inputs and Totals'!$B$9*'Inputs and Totals'!$B$8*0.001, IF('Inputs and Totals'!C38 =2,'Solar Profiles'!$M$4*'Inputs and Totals'!$B$8*'Inputs and Totals'!$B$9*0.001,IF('Inputs and Totals'!C38 =3,'Solar Profiles'!$M$5*'Inputs and Totals'!$B$8*'Inputs and Totals'!$B$9*0.001,\"Error\")))","v":599.94000000000005},{"$f":"IF('Inputs and Totals'!C38 = 1,'Solar Profiles'!$N$3*'Inputs and Totals'!$B$9*'Inputs and Totals'!$B$8*0.001, IF('Inputs and Totals'!C38 =2,'Solar Profiles'!$N$4*'Inputs and Totals'!$B$8*'Inputs and Totals'!$B$9*0.001,IF('Inputs and Totals'!C38 =3,'Solar Profiles'!$N$5*'Inputs and Totals'!$B$8*'Inputs and Totals'!$B$9*0.001,\"Error\")))","v":999.9},{"$f":"IF('Inputs and Totals'!C38 = 1,'Solar Profiles'!$O$3*'Inputs and Totals'!$B$9*'Inputs and Totals'!$B$8*0.001, IF('Inputs and Totals'!C38 =2,'Solar Profiles'!$O$4*'Inputs and Totals'!$B$8*'Inputs and Totals'!$B$9*0.001,IF('Inputs and Totals'!C38 =3,'Solar Profiles'!$O$5*'Inputs and Totals'!$B$8*'Inputs and Totals'!$B$9*0.001,\"Error\")))","v":1799.82},{"$f":"IF('Inputs and Totals'!C38 = 1,'Solar Profiles'!$P$3*'Inputs and Totals'!$B$9*'Inputs and Totals'!$B$8*0.001, IF('Inputs and Totals'!C38 =2,'Solar Profiles'!$P$4*'Inputs and Totals'!$B$8*'Inputs and Totals'!$B$9*0.001,IF('Inputs and Totals'!C38 =3,'Solar Profiles'!$P$5*'Inputs and Totals'!$B$8*'Inputs and Totals'!$B$9*0.001,\"Error\")))","v":1999.8},{"$f":"IF('Inputs and Totals'!C38 = 1,'Solar Profiles'!$Q$3*'Inputs and Totals'!$B$9*'Inputs and Totals'!$B$8*0.001, IF('Inputs and Totals'!C38 =2,'Solar Profiles'!$Q$4*'Inputs and Totals'!$B$8*'Inputs and Totals'!$B$9*0.001,IF('Inputs and Totals'!C38 =3,'Solar Profiles'!$Q$5*'Inputs and Totals'!$B$8*'Inputs and Totals'!$B$9*0.001,\"Error\")))","v":1199.8800000000001},{"$f":"IF('Inputs and Totals'!C38 = 1,'Solar Profiles'!$R$3*'Inputs and Totals'!$B$9*'Inputs and Totals'!$B$8*0.001, IF('Inputs and Totals'!C38 =2,'Solar Profiles'!$R$4*'Inputs and Totals'!$B$8*'Inputs and Totals'!$B$9*0.001,IF('Inputs and Totals'!C38 =3,'Solar Profiles'!$R$5*'Inputs and Totals'!$B$8*'Inputs and Totals'!$B$9*0.001,\"Error\")))","v":999.9},{"$f":"IF('Inputs and Totals'!C38 = 1,'Solar Profiles'!$S$3*'Inputs and Totals'!$B$9*'Inputs and Totals'!$B$8*0.001, IF('Inputs and Totals'!C38 =2,'Solar Profiles'!$S$4*'Inputs and Totals'!$B$8*'Inputs and Totals'!$B$9*0.001,IF('Inputs and Totals'!C38 =3,'Solar Profiles'!$S$5*'Inputs and Totals'!$B$8*'Inputs and Totals'!$B$9*0.001,\"Error\")))","v":599.94000000000005},{"$f":"IF('Inputs and Totals'!C38 = 1,'Solar Profiles'!$T$3*'Inputs and Totals'!$B$9*'Inputs and Totals'!$B$8*0.001, IF('Inputs and Totals'!C38 =2,'Solar Profiles'!$T$4*'Inputs and Totals'!$B$8*'Inputs and Totals'!$B$9*0.001,IF('Inputs and Totals'!C38 =3,'Solar Profiles'!$T$5*'Inputs and Totals'!$B$8*'Inputs and Totals'!$B$9*0.001,\"Error\")))","v":199.98000000000002},{"$f":"IF('Inputs and Totals'!C38 = 1,'Solar Profiles'!$U$3*'Inputs and Totals'!$B$9*'Inputs and Totals'!$B$8*0.001, IF('Inputs and Totals'!C38 =2,'Solar Profiles'!$U$4*'Inputs and Totals'!$B$8*'Inputs and Totals'!$B$9*0.001,IF('Inputs and Totals'!C38 =3,'Solar Profiles'!$U$5*'Inputs and Totals'!$B$8*'Inputs and Totals'!$B$9*0.001,\"Error\")))","v":0},{"$f":"IF('Inputs and Totals'!C38 = 1,'Solar Profiles'!$V$3*'Inputs and Totals'!$B$9*'Inputs and Totals'!$B$8*0.001, IF('Inputs and Totals'!C38 =2,'Solar Profiles'!$V$4*'Inputs and Totals'!$B$8*'Inputs and Totals'!$B$9*0.001,IF('Inputs and Totals'!C38 =3,'Solar Profiles'!$V$5*'Inputs and Totals'!$B$8*'Inputs and Totals'!$B$9*0.001,\"Error\")))","v":0},{"$f":"IF('Inputs and Totals'!C38 = 1,'Solar Profiles'!$W$3*'Inputs and Totals'!$B$9*'Inputs and Totals'!$B$8*0.001, IF('Inputs and Totals'!C38 =2,'Solar Profiles'!$W$4*'Inputs and Totals'!$B$8*'Inputs and Totals'!$B$9*0.001,IF('Inputs and Totals'!C38 =3,'Solar Profiles'!$W$5*'Inputs and Totals'!$B$8*'Inputs and Totals'!$B$9*0.001,\"Error\")))","v":0},{"$f":"IF('Inputs and Totals'!C38 = 1,'Solar Profiles'!$X$3*'Inputs and Totals'!$B$9*'Inputs and Totals'!$B$8*0.001, IF('Inputs and Totals'!C38 =2,'Solar Profiles'!$X$4*'Inputs and Totals'!$B$8*'Inputs and Totals'!$B$9*0.001,IF('Inputs and Totals'!C38 =3,'Solar Profiles'!$X$5*'Inputs and Totals'!$B$8*'Inputs and Totals'!$B$9*0.001,\"Error\")))","v":0},{"$f":"IF('Inputs and Totals'!C38 = 1,'Solar Profiles'!$Y$3*'Inputs and Totals'!$B$9*'Inputs and Totals'!$B$8*0.001, IF('Inputs and Totals'!C38 =2,'Solar Profiles'!$Y$4*'Inputs and Totals'!$B$8*'Inputs and Totals'!$B$9*0.001,IF('Inputs and Totals'!C38 =3,'Solar Profiles'!$Y$5*'Inputs and Totals'!$B$8*'Inputs and Totals'!$B$9*0.001,\"Error\")))","v":0},{"$f":"IF('Inputs and Totals'!C38 = 1,'Solar Profiles'!$Z$3*'Inputs and Totals'!$B$9*'Inputs and Totals'!$B$8*0.001, IF('Inputs and Totals'!C38 =2,'Solar Profiles'!$Z$4*'Inputs and Totals'!$B$8*'Inputs and Totals'!$B$9*0.001,IF('Inputs and Totals'!C38 =3,'Solar Profiles'!$Z$5*'Inputs and Totals'!$B$8*'Inputs and Totals'!$B$9*0.001,\"Error\")))","v":0},9199.08]
["Day 20",{"$f":"IF('Inputs and Totals'!C39 = 1,'Solar Profiles'!$C$3*'Inputs and Totals'!$B$9*'Inputs and Totals'!$B$8*0.001, IF('Inputs and Totals'!C39 =2,'Solar Profiles'!$C$4*'Inputs and Totals'!$B$8*'Inputs and Totals'!$B$9*0.001,IF('Inputs and Totals'!C39 =3,'Solar Profiles'!$C$5*'Inputs and Totals'!$B$8*'Inputs and Totals'!$B$9*0.001,\"Error\")))","v":0},{"$f":"IF('Inputs and Totals'!C39 = 1,'Solar Profiles'!$D$3*'Inputs and Totals'!$B$9*'Inputs and Totals'!$B$8*0.001, IF('Inputs and Totals'!C39 =2,'Solar Profiles'!$D$4*'Inputs and Totals'!$B$8*'Inputs and Totals'!$B$9*0.001,IF('Inputs and Totals'!C39 =3,'Solar Profiles'!$D$5*'Inputs and Totals'!$B$8*'Inputs and Totals'!$B$9*0.001,\"Error\")))","v":0},{"$f":"IF('Inputs and Totals'!C39 = 1,'Solar Profiles'!$E$3*'Inputs and Totals'!$B$9*'Inputs and Totals'!$B$8*0.001, IF('Inputs and Totals'!C39 =2,'Solar Profiles'!$E$4*'Inputs and Totals'!$B$8*'Inputs and Totals'!$B$9*0.001,IF('Inputs and Totals'!C39 =3,'Solar Profiles'!$E$5*'Inputs and Totals'!$B$8*'Inputs and Totals'!$B$9*0.001,\"Error\")))","v":0},{"$f":"IF('Inputs and Totals'!C39 = 1,'Solar Profiles'!$F$3*'Inputs and Totals'!$B$9*'Inputs and Totals'!$B$8*0.001, IF('Inputs and Totals'!C39 =2,'Solar Profiles'!$F$4*'Inputs and Totals'!$B$8*'Inputs and Totals'!$B$9*0.001,IF('Inputs and Totals'!C39 =3,'Solar Profiles'!$F$5*'Inputs and Totals'!$B$8*'Inputs and Totals'!$B$9*0.001,\"Error\")))","v":0},{"$f":"IF('Inputs and Totals'!C39 = 1,'Solar Profiles'!$G$3*'Inputs and Totals'!$B$9*'Inputs and Totals'!$B$8*0.001, IF('Inputs and Totals'!C39 =2,'Solar Profiles'!$G$4*'Inputs and Totals'!$B$8*'Inputs and Totals'!$B$9*0.001,IF('Inputs and Totals'!C39 =3,'Solar Profiles'!$G$5*'Inputs and Totals'!$B$8*'Inputs and Totals'!$B$9*0.001,\"Error\")))","v":0},{"$f":"IF('Inputs and Totals'!C39 = 1,'Solar Profiles'!$H$3*'Inputs and Totals'!$B$9*'Inputs and Totals'!$B$8*0.001, IF('Inputs and Totals'!C39 =2,'Solar Profiles'!$H$4*'Inputs and Totals'!$B$8*'Inputs and Totals'!$B$9*0.001,IF('Inputs and Totals'!C39 =3,'Solar Profiles'!$H$5*'Inputs and Totals'!$B$8*'Inputs and Totals'!$B$9*0.001,\"Error\")))","v":0},{"$f":"IF('Inputs and Totals'!C39 = 1,'Solar Profiles'!$I$3*'Inputs and Totals'!$B$9*'Inputs and Totals'!$B$8*0.001, IF('Inputs and Totals'!C39 =2,'Solar Profiles'!$I$4*'Inputs and Totals'!$B$8*'Inputs and Totals'!$B$9*0.001,IF('Inputs and Totals'!C39 =3,'Solar Profiles'!$I$5*'Inputs and Totals'!$B$8*'Inputs and Totals'!$B$9*0.001,\"Error\")))","v":0},{"$f":"IF('Inputs and Totals'!C39 = 1,'Solar Profiles'!$J$3*'Inputs and Totals'!$B$9*'Inputs and Totals'!$B$8*0.001, IF('Inputs and Totals'!C39 =2,'Solar Profiles'!$J$4*'Inputs and Totals'!$B$8*'Inputs and Totals'!$B$9*0.001,IF('Inputs and Totals'!C39 =3,'Solar Profiles'!$J$5*'Inputs and Totals'!$B$8*'Inputs and Totals'!$B$9*0.001,\"Error\")))","v":199.98000000000002},{"$f":"IF('Inputs and Totals'!C39 = 1,'Solar Profiles'!$K$3*'Inputs and Totals'!$B$9*'Inputs and Totals'!$B$8*0.001, IF('Inputs and Totals'!C39 =2,'Solar Profiles'!$K$4*'Inputs and Totals'!$B$8*'Inputs and Totals'!$B$9*0.001,IF('Inputs and Totals'!C39 =3,'Solar Profiles'!$K$5*'Inputs and Totals'!$B$8*'Inputs and Totals'!$B$9*0.001,\"Error\")))","v":199.98000000000002},{"$f":"IF('Inputs and Totals'!C39 = 1,'Solar Profiles'!$L$3*'Inputs and Totals'!$B$9*'Inputs and Totals'!$B$8*0.001, IF('Inputs and Totals'!C39 =2,'Solar Profiles'!$L$4*'Inputs and Totals'!$B$8*'Inputs and Totals'!$B$9*0.001,IF('Inputs and Totals'!C39 =3,'Solar Profiles'!$L$5*'Inputs and Totals'!$B$8*'Inputs and Totals'!$B$9*0.001,\"Error\")))","v":399.96000000000004},{"$f":"IF('Inputs and Totals'!C39 = 1,'Solar Profiles'!$M$3*'Inputs and Totals'!$B$9*'Inputs and Totals'!$B$8*0.001, IF('Inputs and Totals'!C39 =2,'Solar Profiles'!$M$4*'Inputs and Totals'!$B$8*'Inputs and Totals'!$B$9*0.001,IF('Inputs and Totals'!C39 =3,'Solar Profiles'!$M$5*'Inputs and Totals'!$B$8*'Inputs and Totals'!$B$9*0.001,\"Error\")))","v":599.94000000000005},{"$f":"IF('Inputs and Totals'!C39 = 1,'Solar Profiles'!$N$3*'Inputs and Totals'!$B$9*'Inputs and Totals'!$B$8*0.001, IF('Inputs and Totals'!C39 =2,'Solar Profiles'!$N$4*'Inputs and Totals'!$B$8*'Inputs and Totals'!$B$9*0.001,IF('Inputs and Totals'!C39 =3,'Solar Profiles'!$N$5*'Inputs and Totals'!$B$8*'Inputs and Totals'!$B$9*0.001,\"Error\")))","v":999.9},{"$f":"IF('Inputs and Totals'!C39 = 1,'Solar Profiles'!$O$3*'Inputs and Totals'!$B$9*'Inputs and Totals'!$B$8*0.001, IF('Inputs and Totals'!C39 =2,'Solar Profiles'!$O$4*'Inputs and Totals'!$B$8*'Inputs and Totals'!$B$9*0.001,IF('Inputs and Totals'!C39 =3,'Solar Profiles'!$O$5*'Inputs and Totals'!$B$8*'Inputs and Totals'!$B$9*0.001,\"Error\")))","v":1799.82},{"$f":"IF('Inputs and Totals'!C39 = 1,'Solar Profiles'!$P$3*'Inputs and Totals'!$B$9*'Inputs and Totals'!$B$8*0.001, IF('Inputs and Totals'!C39 =2,'Solar Profiles'!$P$4*'Inputs and Totals'!$B$8*'Inputs and Totals'!$B$9*0.001,IF('Inputs and Totals'!C39 =3,'Solar Profiles'!$P$5*'Inputs and Totals'!$B$8*'Inputs and Totals'!$B$9*0.001,\"Error\")))","v":1999.8},{"$f":"IF('Inputs and Totals'!C39 = 1,'Solar Profiles'!$Q$3*'Inputs and Totals'!$B$9*'Inputs and Totals'!$B$8*0.001, IF('Inputs and Totals'!C39 =2,'Solar Profiles'!$Q$4*'Inputs and Totals'!$B$8*'Inputs and Totals'!$B$9*0.001,IF('Inputs and Totals'!C39 =3,'Solar Profiles'!$Q$5*'Inputs and Totals'!$B$8*'Inputs and Totals'!$B$9*0.001,\"Error\")))","v":1199.8800000000001},{"$f":"IF('Inputs and Totals'!C39 = 1,'Solar Profiles'!$R$3*'Inputs and Totals'!$B$9*'Inputs and Totals'!$B$8*0.001, IF('Inputs and Totals'!C39 =2,'Solar Profiles'!$R$4*'Inputs and Totals'!$B$8*'Inputs and Totals'!$B$9*0.001,IF('Inputs and Totals'!C39 =3,'Solar Profiles'!$R$5*'Inputs and Totals'!$B$8*'Inputs and Totals'!$B$9*0.001,\"Error\")))","v":999.9},{"$f":"IF('Inputs and Totals'!C39 = 1,'Solar Profiles'!$S$3*'Inputs and Totals'!$B$9*'Inputs and Totals'!$B$8*0.001, IF('Inputs and Totals'!C39 =2,'Solar Profiles'!$S$4*'Inputs and Totals'!$B$8*'Inputs and Totals'!$B$9*0.001,IF('Inputs and Totals'!C39 =3,'Solar Profiles'!$S$5*'Inputs and Totals'!$B$8*'Inputs and Totals'!$B$9*0.001,\"Error\")))","v":599.94000000000005},{"$f":"IF('Inputs and Totals'!C39 = 1,'Solar Profiles'!$T$3*'Inputs and Totals'!$B$9*'Inputs and Totals'!$B$8*0.001, IF('Inputs and Totals'!C39 =2,'Solar Profiles'!$T$4*'Inputs and Totals'!$B$8*'Inputs and Totals'!$B$9*0.001,IF('Inputs and Totals'!C39 =3,'Solar Profiles'!$T$5*'Inputs and Totals'!$B$8*'Inputs and Totals'!$B$9*0.001,\"Error\")))","v":199.98000000000002},{"$f":"IF('Inputs and Totals'!C39 = 1,'Solar Profiles'!$U$3*'Inputs and Totals'!$B$9*'Inputs and Totals'!$B$8*0.001, IF('Inputs and Totals'!C39 =2,'Solar Profiles'!$U$4*'Inputs and Totals'!$B$8*'Inputs and Totals'!$B$9*0.001,IF('Inputs and Totals'!C39 =3,'Solar Profiles'!$U$5*'Inputs and Totals'!$B$8*'Inputs and Totals'!$B$9*0.001,\"Error\")))","v":0},{"$f":"IF('Inputs and Totals'!C39 = 1,'Solar Profiles'!$V$3*'Inputs and Totals'!$B$9*'Inputs and Totals'!$B$8*0.001, IF('Inputs and Totals'!C39 =2,'Solar Profiles'!$V$4*'Inputs and Totals'!$B$8*'Inputs and Totals'!$B$9*0.001,IF('Inputs and Totals'!C39 =3,'Solar Profiles'!$V$5*'Inputs and Totals'!$B$8*'Inputs and Totals'!$B$9*0.001,\"Error\")))","v":0},{"$f":"IF('Inputs and Totals'!C39 = 1,'Solar Profiles'!$W$3*'Inputs and Totals'!$B$9*'Inputs and Totals'!$B$8*0.001, IF('Inputs and Totals'!C39 =2,'Solar Profiles'!$W$4*'Inputs and Totals'!$B$8*'Inputs and Totals'!$B$9*0.001,IF('Inputs and Totals'!C39 =3,'Solar Profiles'!$W$5*'Inputs and Totals'!$B$8*'Inputs and Totals'!$B$9*0.001,\"Error\")))","v":0},{"$f":"IF('Inputs and Totals'!C39 = 1,'Solar Profiles'!$X$3*'Inputs and Totals'!$B$9*'Inputs and Totals'!$B$8*0.001, IF('Inputs and Totals'!C39 =2,'Solar Profiles'!$X$4*'Inputs and Totals'!$B$8*'Inputs and Totals'!$B$9*0.001,IF('Inputs and Totals'!C39 =3,'Solar Profiles'!$X$5*'Inputs and Totals'!$B$8*'Inputs and Totals'!$B$9*0.001,\"Error\")))","v":0},{"$f":"IF('Inputs and Totals'!C39 = 1,'Solar Profiles'!$Y$3*'Inputs and Totals'!$B$9*'Inputs and Totals'!$B$8*0.001, IF('Inputs and Totals'!C39 =2,'Solar Profiles'!$Y$4*'Inputs and Totals'!$B$8*'Inputs and Totals'!$B$9*0.001,IF('Inputs and Totals'!C39 =3,'Solar Profiles'!$Y$5*'Inputs and Totals'!$B$8*'Inputs and Totals'!$B$9*0.001,\"Error\")))","v":0},{"$f":"IF('Inputs and Totals'!C39 = 1,'Solar Profiles'!$Z$3*'Inputs and Totals'!$B$9*'Inputs and Totals'!$B$8*0.001, IF('Inputs and Totals'!C39 =2,'Solar Profiles'!$Z$4*'Inputs and Totals'!$B$8*'Inputs and Totals'!$B$9*0.001,IF('Inputs and Totals'!C39 =3,'Solar Profiles'!$Z$5*'Inputs and Totals'!$B$8*'Inputs and Totals'!$B$9*0.001,\"Error\")))","v":0},9199.08]
["Day 21",{"$f":"IF('Inputs and Totals'!C40 = 1,'Solar Profiles'!$C$3*'Inputs and Totals'!$B$9*'Inputs and Totals'!$B$8*0.001, IF('Inputs and Totals'!C40 =2,'Solar Profiles'!$C$4*'Inputs and Totals'!$B$8*'Inputs and Totals'!$B$9*0.001,IF('Inputs and Totals'!C40 =3,'Solar Profiles'!$C$5*'Inputs and Totals'!$B$8*'Inputs and Totals'!$B$9*0.001,\"Error\")))","v":0},{"$f":"IF('Inputs and Totals'!C40 = 1,'Solar Profiles'!$D$3*'Inputs and Totals'!$B$9*'Inputs and Totals'!$B$8*0.001, IF('Inputs and Totals'!C40 =2,'Solar Profiles'!$D$4*'Inputs and Totals'!$B$8*'Inputs and Totals'!$B$9*0.001,IF('Inputs and Totals'!C40 =3,'Solar Profiles'!$D$5*'Inputs and Totals'!$B$8*'Inputs and Totals'!$B$9*0.001,\"Error\")))","v":0},{"$f":"IF('Inputs and Totals'!C40 = 1,'Solar Profiles'!$E$3*'Inputs and Totals'!$B$9*'Inputs and Totals'!$B$8*0.001, IF('Inputs and Totals'!C40 =2,'Solar Profiles'!$E$4*'Inputs and Totals'!$B$8*'Inputs and Totals'!$B$9*0.001,IF('Inputs and Totals'!C40 =3,'Solar Profiles'!$E$5*'Inputs and Totals'!$B$8*'Inputs and Totals'!$B$9*0.001,\"Error\")))","v":0},{"$f":"IF('Inputs and Totals'!C40 = 1,'Solar Profiles'!$F$3*'Inputs and Totals'!$B$9*'Inputs and Totals'!$B$8*0.001, IF('Inputs and Totals'!C40 =2,'Solar Profiles'!$F$4*'Inputs and Totals'!$B$8*'Inputs and Totals'!$B$9*0.001,IF('Inputs and Totals'!C40 =3,'Solar Profiles'!$F$5*'Inputs and Totals'!$B$8*'Inputs and Totals'!$B$9*0.001,\"Error\")))","v":0},{"$f":"IF('Inputs and Totals'!C40 = 1,'Solar Profiles'!$G$3*'Inputs and Totals'!$B$9*'Inputs and Totals'!$B$8*0.001, IF('Inputs and Totals'!C40 =2,'Solar Profiles'!$G$4*'Inputs and Totals'!$B$8*'Inputs and Totals'!$B$9*0.001,IF('Inputs and Totals'!C40 =3,'Solar Profiles'!$G$5*'Inputs and Totals'!$B$8*'Inputs and Totals'!$B$9*0.001,\"Error\")))","v":0},{"$f":"IF('Inputs and Totals'!C40 = 1,'Solar Profiles'!$H$3*'Inputs and Totals'!$B$9*'Inputs and Totals'!$B$8*0.001, IF('Inputs and Totals'!C40 =2,'Solar Profiles'!$H$4*'Inputs and Totals'!$B$8*'Inputs and Totals'!$B$9*0.001,IF('Inputs and Totals'!C40 =3,'Solar Profiles'!$H$5*'Inputs and Totals'!$B$8*'Inputs and Totals'!$B$9*0.001,\"Error\")))","v":0},{"$f":"IF('Inputs and Totals'!C40 = 1,'Solar Profiles'!$I$3*'Inputs and Totals'!$B$9*'Inputs and Totals'!$B$8*0.001, IF('Inputs and Totals'!C40 =2,'Solar Profiles'!$I$4*'Inputs and Totals'!$B$8*'Inputs and Totals'!$B$9*0.001,IF('Inputs and Totals'!C40 =3,'Solar Profiles'!$I$5*'Inputs and Totals'!$B$8*'Inputs and Totals'!$B$9*0.001,\"Error\")))","v":0},{"$f":"IF('Inputs and Totals'!C40 = 1,'Solar Profiles'!$J$3*'Inputs and Totals'!$B$9*'Inputs and Totals'!$B$8*0.001, IF('Inputs and Totals'!C40 =2,'Solar Profiles'!$J$4*'Inputs and Totals'!$B$8*'Inputs and Totals'!$B$9*0.001,IF('Inputs and Totals'!C40 =3,'Solar Profiles'!$J$5*'Inputs and Totals'!$B$8*'Inputs and Totals'!$B$9*0.001,\"Error\")))","v":199.98000000000002},{"$f":"IF('Inputs and Totals'!C40 = 1,'Solar Profiles'!$K$3*'Inputs and Totals'!$B$9*'Inputs and Totals'!$B$8*0.001, IF('Inputs and Totals'!C40 =2,'Solar Profiles'!$K$4*'Inputs and Totals'!$B$8*'Inputs and Totals'!$B$9*0.001,IF('Inputs and Totals'!C40 =3,'Solar Profiles'!$K$5*'Inputs and Totals'!$B$8*'Inputs and Totals'!$B$9*0.001,\"Error\")))","v":399.96000000000004},{"$f":"IF('Inputs and Totals'!C40 = 1,'Solar Profiles'!$L$3*'Inputs and Totals'!$B$9*'Inputs and Totals'!$B$8*0.001, IF('Inputs and Totals'!C40 =2,'Solar Profiles'!$L$4*'Inputs and Totals'!$B$8*'Inputs and Totals'!$B$9*0.001,IF('Inputs and Totals'!C40 =3,'Solar Profiles'!$L$5*'Inputs and Totals'!$B$8*'Inputs and Totals'!$B$9*0.001,\"Error\")))","v":599.94000000000005},{"$f":"IF('Inputs and Totals'!C40 = 1,'Solar Profiles'!$M$3*'Inputs and Totals'!$B$9*'Inputs and Totals'!$B$8*0.001, IF('Inputs and Totals'!C40 =2,'Solar Profiles'!$M$4*'Inputs and Totals'!$B$8*'Inputs and Totals'!$B$9*0.001,IF('Inputs and Totals'!C40 =3,'Solar Profiles'!$M$5*'Inputs and Totals'!$B$8*'Inputs and Totals'!$B$9*0.001,\"Error\")))","v":799.92000000000007},{"$f":"IF('Inputs and Totals'!C40 = 1,'Solar Profiles'!$N$3*'Inputs and Totals'!$B$9*'Inputs and Totals'!$B$8*0.001, IF('Inputs and Totals'!C40 =2,'Solar Profiles'!$N$4*'Inputs and Totals'!$B$8*'Inputs and Totals'!$B$9*0.001,IF('Inputs and Totals'!C40 =3,'Solar Profiles'!$N$5*'Inputs and Totals'!$B$8*'Inputs and Totals'!$B$9*0.001,\"Error\")))","v":1599.8400000000001},{"$f":"IF('Inputs and Totals'!C40 = 1,'Solar Profiles'!$O$3*'Inputs and Totals'!$B$9*'Inputs and Totals'!$B$8*0.001, IF('Inputs and Totals'!C40 =2,'Solar Profiles'!$O$4*'Inputs and Totals'!$B$8*'Inputs and Totals'!$B$9*0.001,IF('Inputs and Totals'!C40 =3,'Solar Profiles'!$O$5*'Inputs and Totals'!$B$8*'Inputs and Totals'!$B$9*0.001,\"Error\")))","v":1999.8},{"$f":"IF('Inputs and Totals'!C40 = 1,'Solar Profiles'!$P$3*'Inputs and Totals'!$B$9*'Inputs and Totals'!$B$8*0.001, IF('Inputs and Totals'!C40 =2,'Solar Profiles'!$P$4*'Inputs and Totals'!$B$8*'Inputs and Totals'!$B$9*0.001,IF('Inputs and Totals'!C40 =3,'Solar Profiles'!$P$5*'Inputs and Totals'!$B$8*'Inputs and Totals'!$B$9*0.001,\"Error\")))","v":1999.8},{"$f":"IF('Inputs and Totals'!C40 = 1,'Solar Profiles'!$Q$3*'Inputs and Totals'!$B$9*'Inputs and Totals'!$B$8*0.001, IF('Inputs and Totals'!C40 =2,'Solar Profiles'!$Q$4*'Inputs and Totals'!$B$8*'Inputs and Totals'!$B$9*0.001,IF('Inputs and Totals'!C40 =3,'Solar Profiles'!$Q$5*'Inputs and Totals'!$B$8*'Inputs and Totals'!$B$9*0.001,\"Error\")))","v":1399.86},{"$f":"IF('Inputs and Totals'!C40 = 1,'Solar Profiles'!$R$3*'Inputs and Totals'!$B$9*'Inputs and Totals'!$B$8*0.001, IF('Inputs and Totals'!C40 =2,'Solar Profiles'!$R$4*'Inputs and Totals'!$B$8*'Inputs and Totals'!$B$9*0.001,IF('Inputs and Totals'!C40 =3,'Solar Profiles'!$R$5*'Inputs and Totals'!$B$8*'Inputs and Totals'!$B$9*0.001,\"Error\")))","v":1199.8800000000001},{"$f":"IF('Inputs and Totals'!C40 = 1,'Solar Profiles'!$S$3*'Inputs and Totals'!$B$9*'Inputs and Totals'!$B$8*0.001, IF('Inputs and Totals'!C40 =2,'Solar Profiles'!$S$4*'Inputs and Totals'!$B$8*'Inputs and Totals'!$B$9*0.001,IF('Inputs and Totals'!C40 =3,'Solar Profiles'!$S$5*'Inputs and Totals'!$B$8*'Inputs and Totals'!$B$9*0.001,\"Error\")))","v":999.9},{"$f":"IF('Inputs and Totals'!C40 = 1,'Solar Profiles'!$T$3*'Inputs and Totals'!$B$9*'Inputs and Totals'!$B$8*0.001, IF('Inputs and Totals'!C40 =2,'Solar Profiles'!$T$4*'Inputs and Totals'!$B$8*'Inputs and Totals'!$B$9*0.001,IF('Inputs and Totals'!C40 =3,'Solar Profiles'!$T$5*'Inputs and Totals'!$B$8*'Inputs and Totals'!$B$9*0.001,\"Error\")))","v":399.96000000000004},{"$f":"IF('Inputs and Totals'!C40 = 1,'Solar Profiles'!$U$3*'Inputs and Totals'!$B$9*'Inputs and Totals'!$B$8*0.001, IF('Inputs and Totals'!C40 =2,'Solar Profiles'!$U$4*'Inputs and Totals'!$B$8*'Inputs and Totals'!$B$9*0.001,IF('Inputs and Totals'!C40 =3,'Solar Profiles'!$U$5*'Inputs and Totals'!$B$8*'Inputs and Totals'!$B$9*0.001,\"Error\")))","v":0},{"$f":"IF('Inputs and Totals'!C40 = 1,'Solar Profiles'!$V$3*'Inputs and Totals'!$B$9*'Inputs and Totals'!$B$8*0.001, IF('Inputs and Totals'!C40 =2,'Solar Profiles'!$V$4*'Inputs and Totals'!$B$8*'Inputs and Totals'!$B$9*0.001,IF('Inputs and Totals'!C40 =3,'Solar Profiles'!$V$5*'Inputs and Totals'!$B$8*'Inputs and Totals'!$B$9*0.001,\"Error\")))","v":0},{"$f":"IF('Inputs and Totals'!C40 = 1,'Solar Profiles'!$W$3*'Inputs and Totals'!$B$9*'Inputs and Totals'!$B$8*0.001, IF('Inputs and Totals'!C40 =2,'Solar Profiles'!$W$4*'Inputs and Totals'!$B$8*'Inputs and Totals'!$B$9*0.001,IF('Inputs and Totals'!C40 =3,'Solar Profiles'!$W$5*'Inputs and Totals'!$B$8*'Inputs and Totals'!$B$9*0.001,\"Error\")))","v":0},{"$f":"IF('Inputs and Totals'!C40 = 1,'Solar Profiles'!$X$3*'Inputs and Totals'!$B$9*'Inputs and Totals'!$B$8*0.001, IF('Inputs and Totals'!C40 =2,'Solar Profiles'!$X$4*'Inputs and Totals'!$B$8*'Inputs and Totals'!$B$9*0.001,IF('Inputs and Totals'!C40 =3,'Solar Profiles'!$X$5*'Inputs and Totals'!$B$8*'Inputs and Totals'!$B$9*0.001,\"Error\")))","v":0},{"$f":"IF('Inputs and Totals'!C40 = 1,'Solar Profiles'!$Y$3*'Inputs and Totals'!$B$9*'Inputs and Totals'!$B$8*0.001, IF('Inputs and Totals'!C40 =2,'Solar Profiles'!$Y$4*'Inputs and Totals'!$B$8*'Inputs and Totals'!$B$9*0.001,IF('Inputs and Totals'!C40 =3,'Solar Profiles'!$Y$5*'Inputs and Totals'!$B$8*'Inputs and Totals'!$B$9*0.001,\"Error\")))","v":0},{"$f":"IF('Inputs and Totals'!C40 = 1,'Solar Profiles'!$Z$3*'Inputs and Totals'!$B$9*'Inputs and Totals'!$B$8*0.001, IF('Inputs and Totals'!C40 =2,'Solar Profiles'!$Z$4*'Inputs and Totals'!$B$8*'Inputs and Totals'!$B$9*0.001,IF('Inputs and Totals'!C40 =3,'Solar Profiles'!$Z$5*'Inputs and Totals'!$B$8*'Inputs and Totals'!$B$9*0.001,\"Error\")))","v":0},11598.84]
["Day 22",{"$f":"IF('Inputs and Totals'!C41 = 1,'Solar Profiles'!$C$3*'Inputs and Totals'!$B$9*'Inputs and Totals'!$B$8*0.001, IF('Inputs and Totals'!C41 =2,'Solar Profiles'!$C$4*'Inputs and Totals'!$B$8*'Inputs and Totals'!$B$9*0.001,IF('Inputs and Totals'!C41 =3,'Solar Profiles'!$C$5*'Inputs and Totals'!$B$8*'Inputs and Totals'!$B$9*0.001,\"Error\")))","v":0},{"$f":"IF('Inputs and Totals'!C41 = 1,'Solar Profiles'!$D$3*'Inputs and Totals'!$B$9*'Inputs and Totals'!$B$8*0.001, IF('Inputs and Totals'!C41 =2,'Solar Profiles'!$D$4*'Inputs and Totals'!$B$8*'Inputs and Totals'!$B$9*0.001,IF('Inputs and Totals'!C41 =3,'Solar Profiles'!$D$5*'Inputs and Totals'!$B$8*'Inputs and Totals'!$B$9*0.001,\"Error\")))","v":0},{"$f":"IF('Inputs and Totals'!C41 = 1,'Solar Profiles'!$E$3*'Inputs and Totals'!$B$9*'Inputs and Totals'!$B$8*0.001, IF('Inputs and Totals'!C41 =2,'Solar Profiles'!$E$4*'Inputs and Totals'!$B$8*'Inputs and Totals'!$B$9*0.001,IF('Inputs and Totals'!C41 =3,'Solar Profiles'!$E$5*'Inputs and Totals'!$B$8*'Inputs and Totals'!$B$9*0.001,\"Error\")))","v":0},{"$f":"IF('Inputs and Totals'!C41 = 1,'Solar Profiles'!$F$3*'Inputs and Totals'!$B$9*'Inputs and Totals'!$B$8*0.001, IF('Inputs and Totals'!C41 =2,'Solar Profiles'!$F$4*'Inputs and Totals'!$B$8*'Inputs and Totals'!$B$9*0.001,IF('Inputs and Totals'!C41 =3,'Solar Profiles'!$F$5*'Inputs and Totals'!$B$8*'Inputs and Totals'!$B$9*0.001,\"Error\")))","v":0},{"$f":"IF('Inputs and Totals'!C41 = 1,'Solar Profiles'!$G$3*'Inputs and Totals'!$B$9*'Inputs and Totals'!$B$8*0.001, IF('Inputs and Totals'!C41 =2,'Solar Profiles'!$G$4*'Inputs and Totals'!$B$8*'Inputs and Totals'!$B$9*0.001,IF('Inputs and Totals'!C41 =3,'Solar Profiles'!$G$5*'Inputs and Totals'!$B$8*'Inputs and Totals'!$B$9*0.001,\"Error\")))","v":0},{"$f":"IF('Inputs and Totals'!C41 = 1,'Solar Profiles'!$H$3*'Inputs and Totals'!$B$9*'Inputs and Totals'!$B$8*0.001, IF('Inputs and Totals'!C41 =2,'Solar Profiles'!$H$4*'Inputs and Totals'!$B$8*'Inputs and Totals'!$B$9*0.001,IF('Inputs and Totals'!C41 =3,'Solar Profiles'!$H$5*'Inputs and Totals'!$B$8*'Inputs and Totals'!$B$9*0.001,\"Error\")))","v":0},{"$f":"IF('Inputs and Totals'!C41 = 1,'Solar Profiles'!$I$3*'Inputs and Totals'!$B$9*'Inputs and Totals'!$B$8*0.001, IF('Inputs and Totals'!C41 =2,'Solar Profiles'!$I$4*'Inputs and Totals'!$B$8*'Inputs and Totals'!$B$9*0.001,IF('Inputs and Totals'!C41 =3,'Solar Profiles'!$I$5*'Inputs and Totals'!$B$8*'Inputs and Totals'!$B$9*0.001,\"Error\")))","v":0},{"$f":"IF('Inputs and Totals'!C41 = 1,'Solar Profiles'!$J$3*'Inputs and Totals'!$B$9*'Inputs and Totals'!$B$8*0.001, IF('Inputs and Totals'!C41 =2,'Solar Profiles'!$J$4*'Inputs and Totals'!$B$8*'Inputs and Totals'!$B$9*0.001,IF('Inputs and Totals'!C41 =3,'Solar Profiles'!$J$5*'Inputs and Totals'!$B$8*'Inputs and Totals'!$B$9*0.001,\"Error\")))","v":199.98000000000002},{"$f":"IF('Inputs and Totals'!C41 = 1,'Solar Profiles'!$K$3*'Inputs and Totals'!$B$9*'Inputs and Totals'!$B$8*0.001, IF('Inputs and Totals'!C41 =2,'Solar Profiles'!$K$4*'Inputs and Totals'!$B$8*'Inputs and Totals'!$B$9*0.001,IF('Inputs and Totals'!C41 =3,'Solar Profiles'!$K$5*'Inputs and Totals'!$B$8*'Inputs and Totals'!$B$9*0.001,\"Error\")))","v":199.98000000000002},{"$f":"IF('Inputs and Totals'!C41 = 1,'Solar Profiles'!$L$3*'Inputs and Totals'!$B$9*'Inputs and Totals'!$B$8*0.001, IF('Inputs and Totals'!C41 =2,'Solar Profiles'!$L$4*'Inputs and Totals'!$B$8*'Inputs and Totals'!$B$9*0.001,IF('Inputs and Totals'!C41 =3,'Solar Profiles'!$L$5*'Inputs and Totals'!$B$8*'Inputs and Totals'!$B$9*0.001,\"Error\")))","v":399.96000000000004},{"$f":"IF('Inputs and Totals'!C41 = 1,'Solar Profiles'!$M$3*'Inputs and Totals'!$B$9*'Inputs and Totals'!$B$8*0.001, IF('Inputs and Totals'!C41 =2,'Solar Profiles'!$M$4*'Inputs and Totals'!$B$8*'Inputs and Totals'!$B$9*0.001,IF('Inputs and Totals'!C41 =3,'Solar Profiles'!$M$5*'Inputs and Totals'!$B$8*'Inputs and Totals'!$B$9*0.001,\"Error\")))","v":599.94000000000005},{"$f":"IF('Inputs and Totals'!C41 = 1,'Solar Profiles'!$N$3*'Inputs and Totals'!$B$9*'Inputs and Totals'!$B$8*0.001, IF('Inputs and Totals'!C41 =2,'Solar Profiles'!$N$4*'Inputs and Totals'!$B$8*'Inputs and Totals'!$B$9*0.001,IF('Inputs and Totals'!C41 =3,'Solar Profiles'!$N$5*'Inputs and Totals'!$B$8*'Inputs and Totals'!$B$9*0.001,\"Error\")))","v":999.9},{"$f":"IF('Inputs and Totals'!C41 = 1,'Solar Profiles'!$O$3*'Inputs and Totals'!$B$9*'Inputs and Totals'!$B$8*0.001, IF('Inputs and Totals'!C41 =2,'Solar Profiles'!$O$4*'Inputs and Totals'!$B$8*'Inputs and Totals'!$B$9*0.001,IF('Inputs and Totals'!C41 =3,'Solar Profiles'!$O$5*'Inputs and Totals'!$B$8*'Inputs and Totals'!$B$9*0.001,\"Error\")))","v":1799.82},{"$f":"IF('Inputs and Totals'!C41 = 1,'Solar Profiles'!$P$3*'Inputs and Totals'!$B$9*'Inputs and Totals'!$B$8*0.001, IF('Inputs and Totals'!C41 =2,'Solar Profiles'!$P$4*'Inputs and Totals'!$B$8*'Inputs and Totals'!$B$9*0.001,IF('Inputs and Totals'!C41 =3,'Solar Profiles'!$P$5*'Inputs and Totals'!$B$8*'Inputs and Totals'!$B$9*0.001,\"Error\")))","v":1999.8},{"$f":"IF('Inputs and Totals'!C41 = 1,'Solar Profiles'!$Q$3*'Inputs and Totals'!$B$9*'Inputs and Totals'!$B$8*0.001, IF('Inputs and Totals'!C41 =2,'Solar Profiles'!$Q$4*'Inputs and Totals'!$B$8*'Inputs and Totals'!$B$9*0.001,IF('Inputs and Totals'!C41 =3,'Solar Profiles'!$Q$5*'Inputs and Totals'!$B$8*'Inputs and Totals'!$B$9*0.001,\"Error\")))","v":1199.8800000000001},{"$f":"IF('Inputs and Totals'!C41 = 1,'Solar Profiles'!$R$3*'Inputs and Totals'!$B$9*'Inputs and Totals'!$B$8*0.001, IF('Inputs and Totals'!C41 =2,'Solar Profiles'!$R$4*'Inputs and Totals'!$B$8*'Inputs and Totals'!$B$9*0.001,IF('Inputs and Totals'!C41 =3,'Solar Profiles'!$R$5*'Inputs and Totals'!$B$8*'Inputs and Totals'!$B$9*0.001,\"Error\")))","v":999.9},{"$f":"IF('Inputs and Totals'!C41 = 1,'Solar Profiles'!$S$3*'Inputs and Totals'!$B$9*'Inputs and Totals'!$B$8*0.001, IF('Inputs and Totals'!C41 =2,'Solar Profiles'!$S$4*'Inputs and Totals'!$B$8*'Inputs and Totals'!$B$9*0.001,IF('Inputs and Totals'!C41 =3,'Solar Profiles'!$S$5*'Inputs and Totals'!$B$8*'Inputs and Totals'!$B$9*0.001,\"Error\")))","v":599.94000000000005},{"$f":"IF('Inputs and Totals'!C41 = 1,'Solar Profiles'!$T$3*'Inputs and Totals'!$B$9*'Inputs and Totals'!$B$8*0.001, IF('Inputs and Totals'!C41 =2,'Solar Profiles'!$T$4*'Inputs and Totals'!$B$8*'Inputs and Totals'!$B$9*0.001,IF('Inputs and Totals'!C41 =3,'Solar Profiles'!$T$5*'Inputs and Totals'!$B$8*'Inputs and Totals'!$B$9*0.001,\"Error\")))","v":199.98000000000002},{"$f":"IF('Inputs and Totals'!C41 = 1,'Solar Profiles'!$U$3*'Inputs and Totals'!$B$9*'Inputs and Totals'!$B$8*0.001, IF('Inputs and Totals'!C41 =2,'Solar Profiles'!$U$4*'Inputs and Totals'!$B$8*'Inputs and Totals'!$B$9*0.001,IF('Inputs and Totals'!C41 =3,'Solar Profiles'!$U$5*'Inputs and Totals'!$B$8*'Inputs and Totals'!$B$9*0.001,\"Error\")))","v":0},{"$f":"IF('Inputs and Totals'!C41 = 1,'Solar Profiles'!$V$3*'Inputs and Totals'!$B$9*'Inputs and Totals'!$B$8*0.001, IF('Inputs and Totals'!C41 =2,'Solar Profiles'!$V$4*'Inputs and Totals'!$B$8*'Inputs and Totals'!$B$9*0.001,IF('Inputs and Totals'!C41 =3,'Solar Profiles'!$V$5*'Inputs and Totals'!$B$8*'Inputs and Totals'!$B$9*0.001,\"Error\")))","v":0},{"$f":"IF('Inputs and Totals'!C41 = 1,'Solar Profiles'!$W$3*'Inputs and Totals'!$B$9*'Inputs and Totals'!$B$8*0.001, IF('Inputs and Totals'!C41 =2,'Solar Profiles'!$W$4*'Inputs and Totals'!$B$8*'Inputs and Totals'!$B$9*0.001,IF('Inputs and Totals'!C41 =3,'Solar Profiles'!$W$5*'Inputs and Totals'!$B$8*'Inputs and Totals'!$B$9*0.001,\"Error\")))","v":0},{"$f":"IF('Inputs and Totals'!C41 = 1,'Solar Profiles'!$X$3*'Inputs and Totals'!$B$9*'Inputs and Totals'!$B$8*0.001, IF('Inputs and Totals'!C41 =2,'Solar Profiles'!$X$4*'Inputs and Totals'!$B$8*'Inputs and Totals'!$B$9*0.001,IF('Inputs and Totals'!C41 =3,'Solar Profiles'!$X$5*'Inputs and Totals'!$B$8*'Inputs and Totals'!$B$9*0.001,\"Error\")))","v":0},{"$f":"IF('Inputs and Totals'!C41 = 1,'Solar Profiles'!$Y$3*'Inputs and Totals'!$B$9*'Inputs and Totals'!$B$8*0.001, IF('Inputs and Totals'!C41 =2,'Solar Profiles'!$Y$4*'Inputs and Totals'!$B$8*'Inputs and Totals'!$B$9*0.001,IF('Inputs and Totals'!C41 =3,'Solar Profiles'!$Y$5*'Inputs and Totals'!$B$8*'Inputs and Totals'!$B$9*0.001,\"Error\")))","v":0},{"$f":"IF('Inputs and Totals'!C41 = 1,'Solar Profiles'!$Z$3*'Inputs and Totals'!$B$9*'Inputs and Totals'!$B$8*0.001, IF('Inputs and Totals'!C41 =2,'Solar Profiles'!$Z$4*'Inputs and Totals'!$B$8*'Inputs and Totals'!$B$9*0.001,IF('Inputs and Totals'!C41 =3,'Solar Profiles'!$Z$5*'Inputs and Totals'!$B$8*'Inputs and Totals'!$B$9*0.001,\"Error\")))","v":0},9199.08]
["Day 23",{"$f":"IF('Inputs and Totals'!C42 = 1,'Solar Profiles'!$C$3*'Inputs and Totals'!$B$9*'Inputs and Totals'!$B$8*0.001, IF('Inputs and Totals'!C42 =2,'Solar Profiles'!$C$4*'Inputs and Totals'!$B$8*'Inputs and Totals'!$B$9*0.001,IF('Inputs and Totals'!C42 =3,'Solar Profiles'!$C$5*'Inputs and Totals'!$B$8*'Inputs and Totals'!$B$9*0.001,\"Error\")))","v":0},{"$f":"IF('Inputs and Totals'!C42 = 1,'Solar Profiles'!$D$3*'Inputs and Totals'!$B$9*'Inputs and Totals'!$B$8*0.001, IF('Inputs and Totals'!C42 =2,'Solar Profiles'!$D$4*'Inputs and Totals'!$B$8*'Inputs and Totals'!$B$9*0.001,IF('Inputs and Totals'!C42 =3,'Solar Profiles'!$D$5*'Inputs and Totals'!$B$8*'Inputs and Totals'!$B$9*0.001,\"Error\")))","v":0},{"$f":"IF('Inputs and Totals'!C42 = 1,'Solar Profiles'!$E$3*'Inputs and Totals'!$B$9*'Inputs and Totals'!$B$8*0.001, IF('Inputs and Totals'!C42 =2,'Solar Profiles'!$E$4*'Inputs and Totals'!$B$8*'Inputs and Totals'!$B$9*0.001,IF('Inputs and Totals'!C42 =3,'Solar Profiles'!$E$5*'Inputs and Totals'!$B$8*'Inputs and Totals'!$B$9*0.001,\"Error\")))","v":0},{"$f":"IF('Inputs and Totals'!C42 = 1,'Solar Profiles'!$F$3*'Inputs and Totals'!$B$9*'Inputs and Totals'!$B$8*0.001, IF('Inputs and Totals'!C42 =2,'Solar Profiles'!$F$4*'Inputs and Totals'!$B$8*'Inputs and Totals'!$B$9*0.001,IF('Inputs and Totals'!C42 =3,'Solar Profiles'!$F$5*'Inputs and Totals'!$B$8*'Inputs and Totals'!$B$9*0.001,\"Error\")))","v":0},{"$f":"IF('Inputs and Totals'!C42 = 1,'Solar Profiles'!$G$3*'Inputs and Totals'!$B$9*'Inputs and Totals'!$B$8*0.001, IF('Inputs and Totals'!C42 =2,'Solar Profiles'!$G$4*'Inputs and Totals'!$B$8*'Inputs and Totals'!$B$9*0.001,IF('Inputs and Totals'!C42 =3,'Solar Profiles'!$G$5*'Inputs and Totals'!$B$8*'Inputs and Totals'!$B$9*0.001,\"Error\")))","v":0},{"$f":"IF('Inputs and Totals'!C42 = 1,'Solar Profiles'!$H$3*'Inputs and Totals'!$B$9*'Inputs and Totals'!$B$8*0.001, IF('Inputs and Totals'!C42 =2,'Solar Profiles'!$H$4*'Inputs and Totals'!$B$8*'Inputs and Totals'!$B$9*0.001,IF('Inputs and Totals'!C42 =3,'Solar Profiles'!$H$5*'Inputs and Totals'!$B$8*'Inputs and Totals'!$B$9*0.001,\"Error\")))","v":0},{"$f":"IF('Inputs and Totals'!C42 = 1,'Solar Profiles'!$I$3*'Inputs and Totals'!$B$9*'Inputs and Totals'!$B$8*0.001, IF('Inputs and Totals'!C42 =2,'Solar Profiles'!$I$4*'Inputs and Totals'!$B$8*'Inputs and Totals'!$B$9*0.001,IF('Inputs and Totals'!C42 =3,'Solar Profiles'!$I$5*'Inputs and Totals'!$B$8*'Inputs and Totals'!$B$9*0.001,\"Error\")))","v":0},{"$f":"IF('Inputs and Totals'!C42 = 1,'Solar Profiles'!$J$3*'Inputs and Totals'!$B$9*'Inputs and Totals'!$B$8*0.001, IF('Inputs and Totals'!C42 =2,'Solar Profiles'!$J$4*'Inputs and Totals'!$B$8*'Inputs and Totals'!$B$9*0.001,IF('Inputs and Totals'!C42 =3,'Solar Profiles'!$J$5*'Inputs and Totals'!$B$8*'Inputs and Totals'!$B$9*0.001,\"Error\")))","v":99.990000000000009},{"$f":"IF('Inputs and Totals'!C42 = 1,'Solar Profiles'!$K$3*'Inputs and Totals'!$B$9*'Inputs and Totals'!$B$8*0.001, IF('Inputs and Totals'!C42 =2,'Solar Profiles'!$K$4*'Inputs and Totals'!$B$8*'Inputs and Totals'!$B$9*0.001,IF('Inputs and Totals'!C42 =3,'Solar Profiles'!$K$5*'Inputs and Totals'!$B$8*'Inputs and Totals'!$B$9*0.001,\"Error\")))","v":199.98000000000002},{"$f":"IF('Inputs and Totals'!C42 = 1,'Solar Profiles'!$L$3*'Inputs and Totals'!$B$9*'Inputs and Totals'!$B$8*0.001, IF('Inputs and Totals'!C42 =2,'Solar Profiles'!$L$4*'Inputs and Totals'!$B$8*'Inputs and Totals'!$B$9*0.001,IF('Inputs and Totals'!C42 =3,'Solar Profiles'!$L$5*'Inputs and Totals'!$B$8*'Inputs and Totals'!$B$9*0.001,\"Error\")))","v":299.97000000000003},{"$f":"IF('Inputs and Totals'!C42 = 1,'Solar Profiles'!$M$3*'Inputs and Totals'!$B$9*'Inputs and Totals'!$B$8*0.001, IF('Inputs and Totals'!C42 =2,'Solar Profiles'!$M$4*'Inputs and Totals'!$B$8*'Inputs and Totals'!$B$9*0.001,IF('Inputs and Totals'!C42 =3,'Solar Profiles'!$M$5*'Inputs and Totals'!$B$8*'Inputs and Totals'!$B$9*0.001,\"Error\")))","v":399.96000000000004},{"$f":"IF('Inputs and Totals'!C42 = 1,'Solar Profiles'!$N$3*'Inputs and Totals'!$B$9*'Inputs and Totals'!$B$8*0.001, IF('Inputs and Totals'!C42 =2,'Solar Profiles'!$N$4*'Inputs and Totals'!$B$8*'Inputs and Totals'!$B$9*0.001,IF('Inputs and Totals'!C42 =3,'Solar Profiles'!$N$5*'Inputs and Totals'!$B$8*'Inputs and Totals'!$B$9*0.001,\"Error\")))","v":799.92000000000007},{"$f":"IF('Inputs and Totals'!C42 = 1,'Solar Profiles'!$O$3*'Inputs and Totals'!$B$9*'Inputs and Totals'!$B$8*0.001, IF('Inputs and Totals'!C42 =2,'Solar Profiles'!$O$4*'Inputs and Totals'!$B$8*'Inputs and Totals'!$B$9*0.001,IF('Inputs and Totals'!C42 =3,'Solar Profiles'!$O$5*'Inputs and Totals'!$B$8*'Inputs and Totals'!$B$9*0.001,\"Error\")))","v":999.9},{"$f":"IF('Inputs and Totals'!C42 = 1,'Solar Profiles'!$P$3*'Inputs and Totals'!$B$9*'Inputs and Totals'!$B$8*0.001, IF('Inputs and Totals'!C42 =2,'Solar Profiles'!$P$4*'Inputs and Totals'!$B$8*'Inputs and Totals'!$B$9*0.001,IF('Inputs and Totals'!C42 =3,'Solar Profiles'!$P$5*'Inputs and Totals'!$B$8*'Inputs and Totals'!$B$9*0.001,\"Error\")))","v":999.9},{"$f":"IF('Inputs and Totals'!C42 = 1,'Solar Profiles'!$Q$3*'Inputs and Totals'!$B$9*'Inputs and Totals'!$B$8*0.001, IF('Inputs and Totals'!C42 =2,'Solar Profiles'!$Q$4*'Inputs and Totals'!$B$8*'Inputs and Totals'!$B$9*0.001,IF('Inputs and Totals'!C42 =3,'Solar Profiles'!$Q$5*'Inputs and Totals'!$B$8*'Inputs and Totals'!$B$9*0.001,\"Error\")))","v":799.92000000000007},{"$f":"IF('Inputs and Totals'!C42 = 1,'Solar Profiles'!$R$3*'Inputs and Totals'!$B$9*'Inputs and Totals'!$B$8*0.001, IF('Inputs and Totals'!C42 =2,'Solar Profiles'!$R$4*'Inputs and Totals'!$B$8*'Inputs and Totals'!$B$9*0.001,IF('Inputs and Totals'!C42 =3,'Solar Profiles'!$R$5*'Inputs and Totals'!$B$8*'Inputs and Totals'!$B$9*0.001,\"Error\")))","v":599.94000000000005},{"$f":"IF('Inputs and Totals'!C42 = 1,'Solar Profiles'!$S$3*'Inputs and Totals'!$B$9*'Inputs and Totals'!$B$8*0.001, IF('Inputs and Totals'!C42 =2,'Solar Profiles'!$S$4*'Inputs and Totals'!$B$8*'Inputs and Totals'!$B$9*0.001,IF('Inputs and Totals'!C42 =3,'Solar Profiles'!$S$5*'Inputs and Totals'!$B$8*'Inputs and Totals'!$B$9*0.001,\"Error\")))","v":399.96000000000004},{"$f":"IF('Inputs and Totals'!C42 = 1,'Solar Profiles'!$T$3*'Inputs and Totals'!$B$9*'Inputs and Totals'!$B$8*0.001, IF('Inputs and Totals'!C42 =2,'Solar Profiles'!$T$4*'Inputs and Totals'!$B$8*'Inputs and Totals'!$B$9*0.001,IF('Inputs and Totals'!C42 =3,'Solar Profiles'!$T$5*'Inputs and Totals'!$B$8*'Inputs and Totals'!$B$9*0.001,\"Error\")))","v":199.98000000000002},{"$f":"IF('Inputs and Totals'!C42 = 1,'Solar Profiles'!$U$3*'Inputs and Totals'!$B$9*'Inputs and Totals'!$B$8*0.001, IF('Inputs and Totals'!C42 =2,'Solar Profiles'!$U$4*'Inputs and Totals'!$B$8*'Inputs and Totals'!$B$9*0.001,IF('Inputs and Totals'!C42 =3,'Solar Profiles'!$U$5*'Inputs and Totals'!$B$8*'Inputs and Totals'!$B$9*0.001,\"Error\")))","v":0},{"$f":"IF('Inputs and Totals'!C42 = 1,'Solar Profiles'!$V$3*'Inputs and Totals'!$B$9*'Inputs and Totals'!$B$8*0.001, IF('Inputs and Totals'!C42 =2,'Solar Profiles'!$V$4*'Inputs and Totals'!$B$8*'Inputs and Totals'!$B$9*0.001,IF('Inputs and Totals'!C42 =3,'Solar Profiles'!$V$5*'Inputs and Totals'!$B$8*'Inputs and Totals'!$B$9*0.001,\"Error\")))","v":0},{"$f":"IF('Inputs and Totals'!C42 = 1,'Solar Profiles'!$W$3*'Inputs and Totals'!$B$9*'Inputs and Totals'!$B$8*0.001, IF('Inputs and Totals'!C42 =2,'Solar Profiles'!$W$4*'Inputs and Totals'!$B$8*'Inputs and Totals'!$B$9*0.001,IF('Inputs and Totals'!C42 =3,'Solar Profiles'!$W$5*'Inputs and Totals'!$B$8*'Inputs and Totals'!$B$9*0.001,\"Error\")))","v":0},{"$f":"IF('Inputs and Totals'!C42 = 1,'Solar Profiles'!$X$3*'Inputs and Totals'!$B$9*'Inputs and Totals'!$B$8*0.001, IF('Inputs and Totals'!C42 =2,'Solar Profiles'!$X$4*'Inputs and Totals'!$B$8*'Inputs and Totals'!$B$9*0.001,IF('Inputs and Totals'!C42 =3,'Solar Profiles'!$X$5*'Inputs and Totals'!$B$8*'Inputs and Totals'!$B$9*0.001,\"Error\")))","v":0},{"$f":"IF('Inputs and Totals'!C42 = 1,'Solar Profiles'!$Y$3*'Inputs and Totals'!$B$9*'Inputs and Totals'!$B$8*0.001, IF('Inputs and Totals'!C42 =2,'Solar Profiles'!$Y$4*'Inputs and Totals'!$B$8*'Inputs and Totals'!$B$9*0.001,IF('Inputs and Totals'!C42 =3,'Solar Profiles'!$Y$5*'Inputs and Totals'!$B$8*'Inputs and Totals'!$B$9*0.001,\"Error\")))","v":0},{"$f":"IF('Inputs and Totals'!C42 = 1,'Solar Profiles'!$Z$3*'Inputs and Totals'!$B$9*'Inputs and Totals'!$B$8*0.001, IF('Inputs and Totals'!C42 =2,'Solar Profiles'!$Z$4*'Inputs and Totals'!$B$8*'Inputs and Totals'!$B$9*0.001,IF('Inputs and Totals'!C42 =3,'Solar Profiles'!$Z$5*'Inputs and Totals'!$B$8*'Inputs and Totals'!$B$9*0.001,\"Error\")))","v":0},5799.4200000000019]
["Day 24",{"$f":"IF('Inputs and Totals'!C43 = 1,'Solar Profiles'!$C$3*'Inputs and Totals'!$B$9*'Inputs and Totals'!$B$8*0.001, IF('Inputs and Totals'!C43 =2,'Solar Profiles'!$C$4*'Inputs and Totals'!$B$8*'Inputs and Totals'!$B$9*0.001,IF('Inputs and Totals'!C43 =3,'Solar Profiles'!$C$5*'Inputs and Totals'!$B$8*'Inputs and Totals'!$B$9*0.001,\"Error\")))","v":0},{"$f":"IF('Inputs and Totals'!C43 = 1,'Solar Profiles'!$D$3*'Inputs and Totals'!$B$9*'Inputs and Totals'!$B$8*0.001, IF('Inputs and Totals'!C43 =2,'Solar Profiles'!$D$4*'Inputs and Totals'!$B$8*'Inputs and Totals'!$B$9*0.001,IF('Inputs and Totals'!C43 =3,'Solar Profiles'!$D$5*'Inputs and Totals'!$B$8*'Inputs and Totals'!$B$9*0.001,\"Error\")))","v":0},{"$f":"IF('Inputs and Totals'!C43 = 1,'Solar Profiles'!$E$3*'Inputs and Totals'!$B$9*'Inputs and Totals'!$B$8*0.001, IF('Inputs and Totals'!C43 =2,'Solar Profiles'!$E$4*'Inputs and Totals'!$B$8*'Inputs and Totals'!$B$9*0.001,IF('Inputs and Totals'!C43 =3,'Solar Profiles'!$E$5*'Inputs and Totals'!$B$8*'Inputs and Totals'!$B$9*0.001,\"Error\")))","v":0},{"$f":"IF('Inputs and Totals'!C43 = 1,'Solar Profiles'!$F$3*'Inputs and Totals'!$B$9*'Inputs and Totals'!$B$8*0.001, IF('Inputs and Totals'!C43 =2,'Solar Profiles'!$F$4*'Inputs and Totals'!$B$8*'Inputs and Totals'!$B$9*0.001,IF('Inputs and Totals'!C43 =3,'Solar Profiles'!$F$5*'Inputs and Totals'!$B$8*'Inputs and Totals'!$B$9*0.001,\"Error\")))","v":0},{"$f":"IF('Inputs and Totals'!C43 = 1,'Solar Profiles'!$G$3*'Inputs and Totals'!$B$9*'Inputs and Totals'!$B$8*0.001, IF('Inputs and Totals'!C43 =2,'Solar Profiles'!$G$4*'Inputs and Totals'!$B$8*'Inputs and Totals'!$B$9*0.001,IF('Inputs and Totals'!C43 =3,'Solar Profiles'!$G$5*'Inputs and Totals'!$B$8*'Inputs and Totals'!$B$9*0.001,\"Error\")))","v":0},{"$f":"IF('Inputs and Totals'!C43 = 1,'Solar Profiles'!$H$3*'Inputs and Totals'!$B$9*'Inputs and Totals'!$B$8*0.001, IF('Inputs and Totals'!C43 =2,'Solar Profiles'!$H$4*'Inputs and Totals'!$B$8*'Inputs and Totals'!$B$9*0.001,IF('Inputs and Totals'!C43 =3,'Solar Profiles'!$H$5*'Inputs and Totals'!$B$8*'Inputs and Totals'!$B$9*0.001,\"Error\")))","v":0},{"$f":"IF('Inputs and Totals'!C43 = 1,'Solar Profiles'!$I$3*'Inputs and Totals'!$B$9*'Inputs and Totals'!$B$8*0.001, IF('Inputs and Totals'!C43 =2,'Solar Profiles'!$I$4*'Inputs and Totals'!$B$8*'Inputs and Totals'!$B$9*0.001,IF('Inputs and Totals'!C43 =3,'Solar Profiles'!$I$5*'Inputs and Totals'!$B$8*'Inputs and Totals'!$B$9*0.001,\"Error\")))","v":0},{"$f":"IF('Inputs and Totals'!C43 = 1,'Solar Profiles'!$J$3*'Inputs and Totals'!$B$9*'Inputs and Totals'!$B$8*0.001, IF('Inputs and Totals'!C43 =2,'Solar Profiles'!$J$4*'Inputs and Totals'!$B$8*'Inputs and Totals'!$B$9*0.001,IF('Inputs and Totals'!C43 =3,'Solar Profiles'!$J$5*'Inputs and Totals'!$B$8*'Inputs and Totals'!$B$9*0.001,\"Error\")))","v":199.98000000000002},{"$f":"IF('Inputs and Totals'!C43 = 1,'Solar Profiles'!$K$3*'Inputs and Totals'!$B$9*'Inputs and Totals'!$B$8*0.001, IF('Inputs and Totals'!C43 =2,'Solar Profiles'!$K$4*'Inputs and Totals'!$B$8*'Inputs and Totals'!$B$9*0.001,IF('Inputs and Totals'!C43 =3,'Solar Profiles'!$K$5*'Inputs and Totals'!$B$8*'Inputs and Totals'!$B$9*0.001,\"Error\")))","v":399.96000000000004},{"$f":"IF('Inputs and Totals'!C43 = 1,'Solar Profiles'!$L$3*'Inputs and Totals'!$B$9*'Inputs and Totals'!$B$8*0.001, IF('Inputs and Totals'!C43 =2,'Solar Profiles'!$L$4*'Inputs and Totals'!$B$8*'Inputs and Totals'!$B$9*0.001,IF('Inputs and Totals'!C43 =3,'Solar Profiles'!$L$5*'Inputs and Totals'!$B$8*'Inputs and Totals'!$B$9*0.001,\"Error\")))","v":599.94000000000005},{"$f":"IF('Inputs and Totals'!C43 = 1,'Solar Profiles'!$M$3*'Inputs and Totals'!$B$9*'Inputs and Totals'!$B$8*0.001, IF('Inputs and Totals'!C43 =2,'Solar Profiles'!$M$4*'Inputs and Totals'!$B$8*'Inputs and Totals'!$B$9*0.001,IF('Inputs and Totals'!C43 =3,'Solar Profiles'!$M$5*'Inputs and Totals'!$B$8*'Inputs and Totals'!$B$9*0.001,\"Error\")))","v":799.92000000000007},{"$f":"IF('Inputs and Totals'!C43 = 1,'Solar Profiles'!$N$3*'Inputs and Totals'!$B$9*'Inputs and Totals'!$B$8*0.001, IF('Inputs and Totals'!C43 =2,'Solar Profiles'!$N$4*'Inputs and Totals'!$B$8*'Inputs and Totals'!$B$9*0.001,IF('Inputs and Totals'!C43 =3,'Solar Profiles'!$N$5*'Inputs and Totals'!$B$8*'Inputs and Totals'!$B$9*0.001,\"Error\")))","v":1599.8400000000001},{"$f":"IF('Inputs and Totals'!C43 = 1,'Solar Profiles'!$O$3*'Inputs and Totals'!$B$9*'Inputs and Totals'!$B$8*0.001, IF('Inputs and Totals'!C43 =2,'Solar Profiles'!$O$4*'Inputs and Totals'!$B$8*'Inputs and Totals'!$B$9*0.001,IF('Inputs and Totals'!C43 =3,'Solar Profiles'!$O$5*'Inputs and Totals'!$B$8*'Inputs and Totals'!$B$9*0.001,\"Error\")))","v":1999.8},{"$f":"IF('Inputs and Totals'!C43 = 1,'Solar Profiles'!$P$3*'Inputs and Totals'!$B$9*'Inputs and Totals'!$B$8*0.001, IF('Inputs and Totals'!C43 =2,'Solar Profiles'!$P$4*'Inputs and Totals'!$B$8*'Inputs and Totals'!$B$9*0.001,IF('Inputs and Totals'!C43 =3,'Solar Profiles'!$P$5*'Inputs and Totals'!$B$8*'Inputs and Totals'!$B$9*0.001,\"Error\")))","v":1999.8},{"$f":"IF('Inputs and Totals'!C43 = 1,'Solar Profiles'!$Q$3*'Inputs and Totals'!$B$9*'Inputs and Totals'!$B$8*0.001, IF('Inputs and Totals'!C43 =2,'Solar Profiles'!$Q$4*'Inputs and Totals'!$B$8*'Inputs and Totals'!$B$9*0.001,IF('Inputs and Totals'!C43 =3,'Solar Profiles'!$Q$5*'Inputs and Totals'!$B$8*'Inputs and Totals'!$B$9*0.001,\"Error\")))","v":1399.86},{"$f":"IF('Inputs and Totals'!C43 = 1,'Solar Profiles'!$R$3*'Inputs and Totals'!$B$9*'Inputs and Totals'!$B$8*0.001, IF('Inputs and Totals'!C43 =2,'Solar Profiles'!$R$4*'Inputs and Totals'!$B$8*'Inputs and Totals'!$B$9*0.001,IF('Inputs and Totals'!C43 =3,'Solar Profiles'!$R$5*'Inputs and Totals'!$B$8*'Inputs and Totals'!$B$9*0.001,\"Error\")))","v":1199.8800000000001},{"$f":"IF('Inputs and Totals'!C43 = 1,'Solar Profiles'!$S$3*'Inputs and Totals'!$B$9*'Inputs and Totals'!$B$8*0.001, IF('Inputs and Totals'!C43 =2,'Solar Profiles'!$S$4*'Inputs and Totals'!$B$8*'Inputs and Totals'!$B$9*0.001,IF('Inputs and Totals'!C43 =3,'Solar Profiles'!$S$5*'Inputs and Totals'!$B$8*'Inputs and Totals'!$B$9*0.001,\"Error\")))","v":999.9},{"$f":"IF('Inputs and Totals'!C43 = 1,'Solar Profiles'!$T$3*'Inputs and Totals'!$B$9*'Inputs and Totals'!$B$8*0.001, IF('Inputs and Totals'!C43 =2,'Solar Profiles'!$T$4*'Inputs and Totals'!$B$8*'Inputs and Totals'!$B$9*0.001,IF('Inputs and Totals'!C43 =3,'Solar Profiles'!$T$5*'Inputs and Totals'!$B$8*'Inputs and Totals'!$B$9*0.001,\"Error\")))","v":399.96000000000004},{"$f":"IF('Inputs and Totals'!C43 = 1,'Solar Profiles'!$U$3*'Inputs and Totals'!$B$9*'Inputs and Totals'!$B$8*0.001, IF('Inputs and Totals'!C43 =2,'Solar Profiles'!$U$4*'Inputs and Totals'!$B$8*'Inputs and Totals'!$B$9*0.001,IF('Inputs and Totals'!C43 =3,'Solar Profiles'!$U$5*'Inputs and Totals'!$B$8*'Inputs and Totals'!$B$9*0.001,\"Error\")))","v":0},{"$f":"IF('Inputs and Totals'!C43 = 1,'Solar Profiles'!$V$3*'Inputs and Totals'!$B$9*'Inputs and Totals'!$B$8*0.001, IF('Inputs and Totals'!C43 =2,'Solar Profiles'!$V$4*'Inputs and Totals'!$B$8*'Inputs and Totals'!$B$9*0.001,IF('Inputs and Totals'!C43 =3,'Solar Profiles'!$V$5*'Inputs and Totals'!$B$8*'Inputs and Totals'!$B$9*0.001,\"Error\")))","v":0},{"$f":"IF('Inputs and Totals'!C43 = 1,'Solar Profiles'!$W$3*'Inputs and Totals'!$B$9*'Inputs and Totals'!$B$8*0.001, IF('Inputs and Totals'!C43 =2,'Solar Profiles'!$W$4*'Inputs and Totals'!$B$8*'Inputs and Totals'!$B$9*0.001,IF('Inputs and Totals'!C43 =3,'Solar Profiles'!$W$5*'Inputs and Totals'!$B$8*'Inputs and Totals'!$B$9*0.001,\"Error\")))","v":0},{"$f":"IF('Inputs and Totals'!C43 = 1,'Solar Profiles'!$X$3*'Inputs and Totals'!$B$9*'Inputs and Totals'!$B$8*0.001, IF('Inputs and Totals'!C43 =2,'Solar Profiles'!$X$4*'Inputs and Totals'!$B$8*'Inputs and Totals'!$B$9*0.001,IF('Inputs and Totals'!C43 =3,'Solar Profiles'!$X$5*'Inputs and Totals'!$B$8*'Inputs and Totals'!$B$9*0.001,\"Error\")))","v":0},{"$f":"IF('Inputs and Totals'!C43 = 1,'Solar Profiles'!$Y$3*'Inputs and Totals'!$B$9*'Inputs and Totals'!$B$8*0.001, IF('Inputs and Totals'!C43 =2,'Solar Profiles'!$Y$4*'Inputs and Totals'!$B$8*'Inputs and Totals'!$B$9*0.001,IF('Inputs and Totals'!C43 =3,'Solar Profiles'!$Y$5*'Inputs and Totals'!$B$8*'Inputs and Totals'!$B$9*0.001,\"Error\")))","v":0},{"$f":"IF('Inputs and Totals'!C43 = 1,'Solar Profiles'!$Z$3*'Inputs and Totals'!$B$9*'Inputs and Totals'!$B$8*0.001, IF('Inputs and Totals'!C43 =2,'Solar Profiles'!$Z$4*'Inputs and Totals'!$B$8*'Inputs and Totals'!$B$9*0.001,IF('Inputs and Totals'!C43 =3,'Solar Profiles'!$Z$5*'Inputs and Totals'!$B$8*'Inputs and Totals'!$B$9*0.001,\"Error\")))","v":0},11598.84]
["Day 25",{"$f":"IF('Inputs and Totals'!C44 = 1,'Solar Profiles'!$C$3*'Inputs and Totals'!$B$9*'Inputs and Totals'!$B$8*0.001, IF('Inputs and Totals'!C44 =2,'Solar Profiles'!$C$4*'Inputs and Totals'!$B$8*'Inputs and Totals'!$B$9*0.001,IF('Inputs and Totals'!C44 =3,'Solar Profiles'!$C$5*'Inputs and Totals'!$B$8*'Inputs and Totals'!$B$9*0.001,\"Error\")))","v":0},{"$f":"IF('Inputs and Totals'!C44 = 1,'Solar Profiles'!$D$3*'Inputs and Totals'!$B$9*'Inputs and Totals'!$B$8*0.001, IF('Inputs and Totals'!C44 =2,'Solar Profiles'!$D$4*'Inputs and Totals'!$B$8*'Inputs and Totals'!$B$9*0.001,IF('Inputs and Totals'!C44 =3,'Solar Profiles'!$D$5*'Inputs and Totals'!$B$8*'Inputs and Totals'!$B$9*0.001,\"Error\")))","v":0},{"$f":"IF('Inputs and Totals'!C44 = 1,'Solar Profiles'!$E$3*'Inputs and Totals'!$B$9*'Inputs and Totals'!$B$8*0.001, IF('Inputs and Totals'!C44 =2,'Solar Profiles'!$E$4*'Inputs and Totals'!$B$8*'Inputs and Totals'!$B$9*0.001,IF('Inputs and Totals'!C44 =3,'Solar Profiles'!$E$5*'Inputs and Totals'!$B$8*'Inputs and Totals'!$B$9*0.001,\"Error\")))","v":0},{"$f":"IF('Inputs and Totals'!C44 = 1,'Solar Profiles'!$F$3*'Inputs and Totals'!$B$9*'Inputs and Totals'!$B$8*0.001, IF('Inputs and Totals'!C44 =2,'Solar Profiles'!$F$4*'Inputs and Totals'!$B$8*'Inputs and Totals'!$B$9*0.001,IF('Inputs and Totals'!C44 =3,'Solar Profiles'!$F$5*'Inputs and Totals'!$B$8*'Inputs and Totals'!$B$9*0.001,\"Error\")))","v":0},{"$f":"IF('Inputs and Totals'!C44 = 1,'Solar Profiles'!$G$3*'Inputs and Totals'!$B$9*'Inputs and Totals'!$B$8*0.001, IF('Inputs and Totals'!C44 =2,'Solar Profiles'!$G$4*'Inputs and Totals'!$B$8*'Inputs and Totals'!$B$9*0.001,IF('Inputs and Totals'!C44 =3,'Solar Profiles'!$G$5*'Inputs and Totals'!$B$8*'Inputs and Totals'!$B$9*0.001,\"Error\")))","v":0},{"$f":"IF('Inputs and Totals'!C44 = 1,'Solar Profiles'!$H$3*'Inputs and Totals'!$B$9*'Inputs and Totals'!$B$8*0.001, IF('Inputs and Totals'!C44 =2,'Solar Profiles'!$H$4*'Inputs and Totals'!$B$8*'Inputs and Totals'!$B$9*0.001,IF('Inputs and Totals'!C44 =3,'Solar Profiles'!$H$5*'Inputs and Totals'!$B$8*'Inputs and Totals'!$B$9*0.001,\"Error\")))","v":0},{"$f":"IF('Inputs and Totals'!C44 = 1,'Solar Profiles'!$I$3*'Inputs and Totals'!$B$9*'Inputs and Totals'!$B$8*0.001, IF('Inputs and Totals'!C44 =2,'Solar Profiles'!$I$4*'Inputs and Totals'!$B$8*'Inputs and Totals'!$B$9*0.001,IF('Inputs and Totals'!C44 =3,'Solar Profiles'!$I$5*'Inputs and Totals'!$B$8*'Inputs and Totals'!$B$9*0.001,\"Error\")))","v":0},{"$f":"IF('Inputs and Totals'!C44 = 1,'Solar Profiles'!$J$3*'Inputs and Totals'!$B$9*'Inputs and Totals'!$B$8*0.001, IF('Inputs and Totals'!C44 =2,'Solar Profiles'!$J$4*'Inputs and Totals'!$B$8*'Inputs and Totals'!$B$9*0.001,IF('Inputs and Totals'!C44 =3,'Solar Profiles'!$J$5*'Inputs and Totals'!$B$8*'Inputs and Totals'!$B$9*0.001,\"Error\")))","v":199.98000000000002},{"$f":"IF('Inputs and Totals'!C44 = 1,'Solar Profiles'!$K$3*'Inputs and Totals'!$B$9*'Inputs and Totals'!$B$8*0.001, IF('Inputs and Totals'!C44 =2,'Solar Profiles'!$K$4*'Inputs and Totals'!$B$8*'Inputs and Totals'!$B$9*0.001,IF('Inputs and Totals'!C44 =3,'Solar Profiles'!$K$5*'Inputs and Totals'!$B$8*'Inputs and Totals'!$B$9*0.001,\"Error\")))","v":199.98000000000002},{"$f":"IF('Inputs and Totals'!C44 = 1,'Solar Profiles'!$L$3*'Inputs and Totals'!$B$9*'Inputs and Totals'!$B$8*0.001, IF('Inputs and Totals'!C44 =2,'Solar Profiles'!$L$4*'Inputs and Totals'!$B$8*'Inputs and Totals'!$B$9*0.001,IF('Inputs and Totals'!C44 =3,'Solar Profiles'!$L$5*'Inputs and Totals'!$B$8*'Inputs and Totals'!$B$9*0.001,\"Error\")))","v":399.96000000000004},{"$f":"IF('Inputs and Totals'!C44 = 1,'Solar Profiles'!$M$3*'Inputs and Totals'!$B$9*'Inputs and Totals'!$B$8*0.001, IF('Inputs and Totals'!C44 =2,'Solar Profiles'!$M$4*'Inputs and Totals'!$B$8*'Inputs and Totals'!$B$9*0.001,IF('Inputs and Totals'!C44 =3,'Solar Profiles'!$M$5*'Inputs and Totals'!$B$8*'Inputs and Totals'!$B$9*0.001,\"Error\")))","v":599.94000000000005},{"$f":"IF('Inputs and Totals'!C44 = 1,'Solar Profiles'!$N$3*'Inputs and Totals'!$B$9*'Inputs and Totals'!$B$8*0.001, IF('Inputs and Totals'!C44 =2,'Solar Profiles'!$N$4*'Inputs and Totals'!$B$8*'Inputs and Totals'!$B$9*0.001,IF('Inputs and Totals'!C44 =3,'Solar Profiles'!$N$5*'Inputs and Totals'!$B$8*'Inputs and Totals'!$B$9*0.001,\"Error\")))","v":999.9},{"$f":"IF('Inputs and Totals'!C44 = 1,'Solar Profiles'!$O$3*'Inputs and Totals'!$B$9*'Inputs and Totals'!$B$8*0.001, IF('Inputs and Totals'!C44 =2,'Solar Profiles'!$O$4*'Inputs and Totals'!$B$8*'Inputs and Totals'!$B$9*0.001,IF('Inputs and Totals'!C44 =3,'Solar Profiles'!$O$5*'Inputs and Totals'!$B$8*'Inputs and Totals'!$B$9*0.001,\"Error\")))","v":1799.82},{"$f":"IF('Inputs and Totals'!C44 = 1,'Solar Profiles'!$P$3*'Inputs and Totals'!$B$9*'Inputs and Totals'!$B$8*0.001, IF('Inputs and Totals'!C44 =2,'Solar Profiles'!$P$4*'Inputs and Totals'!$B$8*'Inputs and Totals'!$B$9*0.001,IF('Inputs and Totals'!C44 =3,'Solar Profiles'!$P$5*'Inputs and Totals'!$B$8*'Inputs and Totals'!$B$9*0.001,\"Error\")))","v":1999.8},{"$f":"IF('Inputs and Totals'!C44 = 1,'Solar Profiles'!$Q$3*'Inputs and Totals'!$B$9*'Inputs and Totals'!$B$8*0.001, IF('Inputs and Totals'!C44 =2,'Solar Profiles'!$Q$4*'Inputs and Totals'!$B$8*'Inputs and Totals'!$B$9*0.001,IF('Inputs and Totals'!C44 =3,'Solar Profiles'!$Q$5*'Inputs and Totals'!$B$8*'Inputs and Totals'!$B$9*0.001,\"Error\")))","v":1199.8800000000001},{"$f":"IF('Inputs and Totals'!C44 = 1,'Solar Profiles'!$R$3*'Inputs and Totals'!$B$9*'Inputs and Totals'!$B$8*0.001, IF('Inputs and Totals'!C44 =2,'Solar Profiles'!$R$4*'Inputs and Totals'!$B$8*'Inputs and Totals'!$B$9*0.001,IF('Inputs and Totals'!C44 =3,'Solar Profiles'!$R$5*'Inputs and Totals'!$B$8*'Inputs and Totals'!$B$9*0.001,\"Error\")))","v":999.9},{"$f":"IF('Inputs and Totals'!C44 = 1,'Solar Profiles'!$S$3*'Inputs and Totals'!$B$9*'Inputs and Totals'!$B$8*0.001, IF('Inputs and Totals'!C44 =2,'Solar Profiles'!$S$4*'Inputs and Totals'!$B$8*'Inputs and Totals'!$B$9*0.001,IF('Inputs and Totals'!C44 =3,'Solar Profiles'!$S$5*'Inputs and Totals'!$B$8*'Inputs and Totals'!$B$9*0.001,\"Error\")))","v":599.94000000000005},{"$f":"IF('Inputs and Totals'!C44 = 1,'Solar Profiles'!$T$3*'Inputs and Totals'!$B$9*'Inputs and Totals'!$B$8*0.001, IF('Inputs and Totals'!C44 =2,'Solar Profiles'!$T$4*'Inputs and Totals'!$B$8*'Inputs and Totals'!$B$9*0.001,IF('Inputs and Totals'!C44 =3,'Solar Profiles'!$T$5*'Inputs and Totals'!$B$8*'Inputs and Totals'!$B$9*0.001,\"Error\")))","v":199.98000000000002},{"$f":"IF('Inputs and Totals'!C44 = 1,'Solar Profiles'!$U$3*'Inputs and Totals'!$B$9*'Inputs and Totals'!$B$8*0.001, IF('Inputs and Totals'!C44 =2,'Solar Profiles'!$U$4*'Inputs and Totals'!$B$8*'Inputs and Totals'!$B$9*0.001,IF('Inputs and Totals'!C44 =3,'Solar Profiles'!$U$5*'Inputs and Totals'!$B$8*'Inputs and Totals'!$B$9*0.001,\"Error\")))","v":0},{"$f":"IF('Inputs and Totals'!C44 = 1,'Solar Profiles'!$V$3*'Inputs and Totals'!$B$9*'Inputs and Totals'!$B$8*0.001, IF('Inputs and Totals'!C44 =2,'Solar Profiles'!$V$4*'Inputs and Totals'!$B$8*'Inputs and Totals'!$B$9*0.001,IF('Inputs and Totals'!C44 =3,'Solar Profiles'!$V$5*'Inputs and Totals'!$B$8*'Inputs and Totals'!$B$9*0.001,\"Error\")))","v":0},{"$f":"IF('Inputs and Totals'!C44 = 1,'Solar Profiles'!$W$3*'Inputs and Totals'!$B$9*'Inputs and Totals'!$B$8*0.001, IF('Inputs and Totals'!C44 =2,'Solar Profiles'!$W$4*'Inputs and Totals'!$B$8*'Inputs and Totals'!$B$9*0.001,IF('Inputs and Totals'!C44 =3,'Solar Profiles'!$W$5*'Inputs and Totals'!$B$8*'Inputs and Totals'!$B$9*0.001,\"Error\")))","v":0},{"$f":"IF('Inputs and Totals'!C44 = 1,'Solar Profiles'!$X$3*'Inputs and Totals'!$B$9*'Inputs and Totals'!$B$8*0.001, IF('Inputs and Totals'!C44 =2,'Solar Profiles'!$X$4*'Inputs and Totals'!$B$8*'Inputs and Totals'!$B$9*0.001,IF('Inputs and Totals'!C44 =3,'Solar Profiles'!$X$5*'Inputs and Totals'!$B$8*'Inputs and Totals'!$B$9*0.001,\"Error\")))","v":0},{"$f":"IF('Inputs and Totals'!C44 = 1,'Solar Profiles'!$Y$3*'Inputs and Totals'!$B$9*'Inputs and Totals'!$B$8*0.001, IF('Inputs and Totals'!C44 =2,'Solar Profiles'!$Y$4*'Inputs and Totals'!$B$8*'Inputs and Totals'!$B$9*0.001,IF('Inputs and Totals'!C44 =3,'Solar Profiles'!$Y$5*'Inputs and Totals'!$B$8*'Inputs and Totals'!$B$9*0.001,\"Error\")))","v":0},{"$f":"IF('Inputs and Totals'!C44 = 1,'Solar Profiles'!$Z$3*'Inputs and Totals'!$B$9*'Inputs and Totals'!$B$8*0.001, IF('Inputs and Totals'!C44 =2,'Solar Profiles'!$Z$4*'Inputs and Totals'!$B$8*'Inputs and Totals'!$B$9*0.001,IF('Inputs and Totals'!C44 =3,'Solar Profiles'!$Z$5*'Inputs and Totals'!$B$8*'Inputs and Totals'!$B$9*0.001,\"Error\")))","v":0},9199.08]
["Day 26",{"$f":"IF('Inputs and Totals'!C45 = 1,'Solar Profiles'!$C$3*'Inputs and Totals'!$B$9*'Inputs and Totals'!$B$8*0.001, IF('Inputs and Totals'!C45 =2,'Solar Profiles'!$C$4*'Inputs and Totals'!$B$8*'Inputs and Totals'!$B$9*0.001,IF('Inputs and Totals'!C45 =3,'Solar Profiles'!$C$5*'Inputs and Totals'!$B$8*'Inputs and Totals'!$B$9*0.001,\"Error\")))","v":0},{"$f":"IF('Inputs and Totals'!C45 = 1,'Solar Profiles'!$D$3*'Inputs and Totals'!$B$9*'Inputs and Totals'!$B$8*0.001, IF('Inputs and Totals'!C45 =2,'Solar Profiles'!$D$4*'Inputs and Totals'!$B$8*'Inputs and Totals'!$B$9*0.001,IF('Inputs and Totals'!C45 =3,'Solar Profiles'!$D$5*'Inputs and Totals'!$B$8*'Inputs and Totals'!$B$9*0.001,\"Error\")))","v":0},{"$f":"IF('Inputs and Totals'!C45 = 1,'Solar Profiles'!$E$3*'Inputs and Totals'!$B$9*'Inputs and Totals'!$B$8*0.001, IF('Inputs and Totals'!C45 =2,'Solar Profiles'!$E$4*'Inputs and Totals'!$B$8*'Inputs and Totals'!$B$9*0.001,IF('Inputs and Totals'!C45 =3,'Solar Profiles'!$E$5*'Inputs and Totals'!$B$8*'Inputs and Totals'!$B$9*0.001,\"Error\")))","v":0},{"$f":"IF('Inputs and Totals'!C45 = 1,'Solar Profiles'!$F$3*'Inputs and Totals'!$B$9*'Inputs and Totals'!$B$8*0.001, IF('Inputs and Totals'!C45 =2,'Solar Profiles'!$F$4*'Inputs and Totals'!$B$8*'Inputs and Totals'!$B$9*0.001,IF('Inputs and Totals'!C45 =3,'Solar Profiles'!$F$5*'Inputs and Totals'!$B$8*'Inputs and Totals'!$B$9*0.001,\"Error\")))","v":0},{"$f":"IF('Inputs and Totals'!C45 = 1,'Solar Profiles'!$G$3*'Inputs and Totals'!$B$9*'Inputs and Totals'!$B$8*0.001, IF('Inputs and Totals'!C45 =2,'Solar Profiles'!$G$4*'Inputs and Totals'!$B$8*'Inputs and Totals'!$B$9*0.001,IF('Inputs and Totals'!C45 =3,'Solar Profiles'!$G$5*'Inputs and Totals'!$B$8*'Inputs and Totals'!$B$9*0.001,\"Error\")))","v":0},{"$f":"IF('Inputs and Totals'!C45 = 1,'Solar Profiles'!$H$3*'Inputs and Totals'!$B$9*'Inputs and Totals'!$B$8*0.001, IF('Inputs and Totals'!C45 =2,'Solar Profiles'!$H$4*'Inputs and Totals'!$B$8*'Inputs and Totals'!$B$9*0.001,IF('Inputs and Totals'!C45 =3,'Solar Profiles'!$H$5*'Inputs and Totals'!$B$8*'Inputs and Totals'!$B$9*0.001,\"Error\")))","v":0},{"$f":"IF('Inputs and Totals'!C45 = 1,'Solar Profiles'!$I$3*'Inputs and Totals'!$B$9*'Inputs and Totals'!$B$8*0.001, IF('Inputs and Totals'!C45 =2,'Solar Profiles'!$I$4*'Inputs and Totals'!$B$8*'Inputs and Totals'!$B$9*0.001,IF('Inputs and Totals'!C45 =3,'Solar Profiles'!$I$5*'Inputs and Totals'!$B$8*'Inputs and Totals'!$B$9*0.001,\"Error\")))","v":0},{"$f":"IF('Inputs and Totals'!C45 = 1,'Solar Profiles'!$J$3*'Inputs and Totals'!$B$9*'Inputs and Totals'!$B$8*0.001, IF('Inputs and Totals'!C45 =2,'Solar Profiles'!$J$4*'Inputs and Totals'!$B$8*'Inputs and Totals'!$B$9*0.001,IF('Inputs and Totals'!C45 =3,'Solar Profiles'!$J$5*'Inputs and Totals'!$B$8*'Inputs and Totals'!$B$9*0.001,\"Error\")))","v":99.990000000000009},{"$f":"IF('Inputs and Totals'!C45 = 1,'Solar Profiles'!$K$3*'Inputs and Totals'!$B$9*'Inputs and Totals'!$B$8*0.001, IF('Inputs and Totals'!C45 =2,'Solar Profiles'!$K$4*'Inputs and Totals'!$B$8*'Inputs and Totals'!$B$9*0.001,IF('Inputs and Totals'!C45 =3,'Solar Profiles'!$K$5*'Inputs and Totals'!$B$8*'Inputs and Totals'!$B$9*0.001,\"Error\")))","v":199.98000000000002},{"$f":"IF('Inputs and Totals'!C45 = 1,'Solar Profiles'!$L$3*'Inputs and Totals'!$B$9*'Inputs and Totals'!$B$8*0.001, IF('Inputs and Totals'!C45 =2,'Solar Profiles'!$L$4*'Inputs and Totals'!$B$8*'Inputs and Totals'!$B$9*0.001,IF('Inputs and Totals'!C45 =3,'Solar Profiles'!$L$5*'Inputs and Totals'!$B$8*'Inputs and Totals'!$B$9*0.001,\"Error\")))","v":299.97000000000003},{"$f":"IF('Inputs and Totals'!C45 = 1,'Solar Profiles'!$M$3*'Inputs and Totals'!$B$9*'Inputs and Totals'!$B$8*0.001, IF('Inputs and Totals'!C45 =2,'Solar Profiles'!$M$4*'Inputs and Totals'!$B$8*'Inputs and Totals'!$B$9*0.001,IF('Inputs and Totals'!C45 =3,'Solar Profiles'!$M$5*'Inputs and Totals'!$B$8*'Inputs and Totals'!$B$9*0.001,\"Error\")))","v":399.96000000000004},{"$f":"IF('Inputs and Totals'!C45 = 1,'Solar Profiles'!$N$3*'Inputs and Totals'!$B$9*'Inputs and Totals'!$B$8*0.001, IF('Inputs and Totals'!C45 =2,'Solar Profiles'!$N$4*'Inputs and Totals'!$B$8*'Inputs and Totals'!$B$9*0.001,IF('Inputs and Totals'!C45 =3,'Solar Profiles'!$N$5*'Inputs and Totals'!$B$8*'Inputs and Totals'!$B$9*0.001,\"Error\")))","v":799.92000000000007},{"$f":"IF('Inputs and Totals'!C45 = 1,'Solar Profiles'!$O$3*'Inputs and Totals'!$B$9*'Inputs and Totals'!$B$8*0.001, IF('Inputs and Totals'!C45 =2,'Solar Profiles'!$O$4*'Inputs and Totals'!$B$8*'Inputs and Totals'!$B$9*0.001,IF('Inputs and Totals'!C45 =3,'Solar Profiles'!$O$5*'Inputs and Totals'!$B$8*'Inputs and Totals'!$B$9*0.001,\"Error\")))","v":999.9},{"$f":"IF('Inputs and Totals'!C45 = 1,'Solar Profiles'!$P$3*'Inputs and Totals'!$B$9*'Inputs and Totals'!$B$8*0.001, IF('Inputs and Totals'!C45 =2,'Solar Profiles'!$P$4*'Inputs and Totals'!$B$8*'Inputs and Totals'!$B$9*0.001,IF('Inputs and Totals'!C45 =3,'Solar Profiles'!$P$5*'Inputs and Totals'!$B$8*'Inputs and Totals'!$B$9*0.001,\"Error\")))","v":999.9},{"$f":"IF('Inputs and Totals'!C45 = 1,'Solar Profiles'!$Q$3*'Inputs and Totals'!$B$9*'Inputs and Totals'!$B$8*0.001, IF('Inputs and Totals'!C45 =2,'Solar Profiles'!$Q$4*'Inputs and Totals'!$B$8*'Inputs and Totals'!$B$9*0.001,IF('Inputs and Totals'!C45 =3,'Solar Profiles'!$Q$5*'Inputs and Totals'!$B$8*'Inputs and Totals'!$B$9*0.001,\"Error\")))","v":799.92000000000007},{"$f":"IF('Inputs and Totals'!C45 = 1,'Solar Profiles'!$R$3*'Inputs and Totals'!$B$9*'Inputs and Totals'!$B$8*0.001, IF('Inputs and Totals'!C45 =2,'Solar Profiles'!$R$4*'Inputs and Totals'!$B$8*'Inputs and Totals'!$B$9*0.001,IF('Inputs and Totals'!C45 =3,'Solar Profiles'!$R$5*'Inputs and Totals'!$B$8*'Inputs and Totals'!$B$9*0.001,\"Error\")))","v":599.94000000000005},{"$f":"IF('Inputs and Totals'!C45 = 1,'Solar Profiles'!$S$3*'Inputs and Totals'!$B$9*'Inputs and Totals'!$B$8*0.001, IF('Inputs and Totals'!C45 =2,'Solar Profiles'!$S$4*'Inputs and Totals'!$B$8*'Inputs and Totals'!$B$9*0.001,IF('Inputs and Totals'!C45 =3,'Solar Profiles'!$S$5*'Inputs and Totals'!$B$8*'Inputs and Totals'!$B$9*0.001,\"Error\")))","v":399.96000000000004},{"$f":"IF('Inputs and Totals'!C45 = 1,'Solar Profiles'!$T$3*'Inputs and Totals'!$B$9*'Inputs and Totals'!$B$8*0.001, IF('Inputs and Totals'!C45 =2,'Solar Profiles'!$T$4*'Inputs and Totals'!$B$8*'Inputs and Totals'!$B$9*0.001,IF('Inputs and Totals'!C45 =3,'Solar Profiles'!$T$5*'Inputs and Totals'!$B$8*'Inputs and Totals'!$B$9*0.001,\"Error\")))","v":199.98000000000002},{"$f":"IF('Inputs and Totals'!C45 = 1,'Solar Profiles'!$U$3*'Inputs and Totals'!$B$9*'Inputs and Totals'!$B$8*0.001, IF('Inputs and Totals'!C45 =2,'Solar Profiles'!$U$4*'Inputs and Totals'!$B$8*'Inputs and Totals'!$B$9*0.001,IF('Inputs and Totals'!C45 =3,'Solar Profiles'!$U$5*'Inputs and Totals'!$B$8*'Inputs and Totals'!$B$9*0.001,\"Error\")))","v":0},{"$f":"IF('Inputs and Totals'!C45 = 1,'Solar Profiles'!$V$3*'Inputs and Totals'!$B$9*'Inputs and Totals'!$B$8*0.001, IF('Inputs and Totals'!C45 =2,'Solar Profiles'!$V$4*'Inputs and Totals'!$B$8*'Inputs and Totals'!$B$9*0.001,IF('Inputs and Totals'!C45 =3,'Solar Profiles'!$V$5*'Inputs and Totals'!$B$8*'Inputs and Totals'!$B$9*0.001,\"Error\")))","v":0},{"$f":"IF('Inputs and Totals'!C45 = 1,'Solar Profiles'!$W$3*'Inputs and Totals'!$B$9*'Inputs and Totals'!$B$8*0.001, IF('Inputs and Totals'!C45 =2,'Solar Profiles'!$W$4*'Inputs and Totals'!$B$8*'Inputs and Totals'!$B$9*0.001,IF('Inputs and Totals'!C45 =3,'Solar Profiles'!$W$5*'Inputs and Totals'!$B$8*'Inputs and Totals'!$B$9*0.001,\"Error\")))","v":0},{"$f":"IF('Inputs and Totals'!C45 = 1,'Solar Profiles'!$X$3*'Inputs and Totals'!$B$9*'Inputs and Totals'!$B$8*0.001, IF('Inputs and Totals'!C45 =2,'Solar Profiles'!$X$4*'Inputs and Totals'!$B$8*'Inputs and Totals'!$B$9*0.001,IF('Inputs and Totals'!C45 =3,'Solar Profiles'!$X$5*'Inputs and Totals'!$B$8*'Inputs and Totals'!$B$9*0.001,\"Error\")))","v":0},{"$f":"IF('Inputs and Totals'!C45 = 1,'Solar Profiles'!$Y$3*'Inputs and Totals'!$B$9*'Inputs and Totals'!$B$8*0.001, IF('Inputs and Totals'!C45 =2,'Solar Profiles'!$Y$4*'Inputs and Totals'!$B$8*'Inputs and Totals'!$B$9*0.001,IF('Inputs and Totals'!C45 =3,'Solar Profiles'!$Y$5*'Inputs and Totals'!$B$8*'Inputs and Totals'!$B$9*0.001,\"Error\")))","v":0},{"$f":"IF('Inputs and Totals'!C45 = 1,'Solar Profiles'!$Z$3*'Inputs and Totals'!$B$9*'Inputs and Totals'!$B$8*0.001, IF('Inputs and Totals'!C45 =2,'Solar Profiles'!$Z$4*'Inputs and Totals'!$B$8*'Inputs and Totals'!$B$9*0.001,IF('Inputs and Totals'!C45 =3,'Solar Profiles'!$Z$5*'Inputs and Totals'!$B$8*'Inputs and Totals'!$B$9*0.001,\"Error\")))","v":0},5799.4200000000019]
["Day 27",{"$f":"IF('Inputs and Totals'!C46 = 1,'Solar Profiles'!$C$3*'Inputs and Totals'!$B$9*'Inputs and Totals'!$B$8*0.001, IF('Inputs and Totals'!C46 =2,'Solar Profiles'!$C$4*'Inputs and Totals'!$B$8*'Inputs and Totals'!$B$9*0.001,IF('Inputs and Totals'!C46 =3,'Solar Profiles'!$C$5*'Inputs and Totals'!$B$8*'Inputs and Totals'!$B$9*0.001,\"Error\")))","v":0},{"$f":"IF('Inputs and Totals'!C46 = 1,'Solar Profiles'!$D$3*'Inputs and Totals'!$B$9*'Inputs and Totals'!$B$8*0.001, IF('Inputs and Totals'!C46 =2,'Solar Profiles'!$D$4*'Inputs and Totals'!$B$8*'Inputs and Totals'!$B$9*0.001,IF('Inputs and Totals'!C46 =3,'Solar Profiles'!$D$5*'Inputs and Totals'!$B$8*'Inputs and Totals'!$B$9*0.001,\"Error\")))","v":0},{"$f":"IF('Inputs and Totals'!C46 = 1,'Solar Profiles'!$E$3*'Inputs and Totals'!$B$9*'Inputs and Totals'!$B$8*0.001, IF('Inputs and Totals'!C46 =2,'Solar Profiles'!$E$4*'Inputs and Totals'!$B$8*'Inputs and Totals'!$B$9*0.001,IF('Inputs and Totals'!C46 =3,'Solar Profiles'!$E$5*'Inputs and Totals'!$B$8*'Inputs and Totals'!$B$9*0.001,\"Error\")))","v":0},{"$f":"IF('Inputs and Totals'!C46 = 1,'Solar Profiles'!$F$3*'Inputs and Totals'!$B$9*'Inputs and Totals'!$B$8*0.001, IF('Inputs and Totals'!C46 =2,'Solar Profiles'!$F$4*'Inputs and Totals'!$B$8*'Inputs and Totals'!$B$9*0.001,IF('Inputs and Totals'!C46 =3,'Solar Profiles'!$F$5*'Inputs and Totals'!$B$8*'Inputs and Totals'!$B$9*0.001,\"Error\")))","v":0},{"$f":"IF('Inputs and Totals'!C46 = 1,'Solar Profiles'!$G$3*'Inputs and Totals'!$B$9*'Inputs and Totals'!$B$8*0.001, IF('Inputs and Totals'!C46 =2,'Solar Profiles'!$G$4*'Inputs and Totals'!$B$8*'Inputs and Totals'!$B$9*0.001,IF('Inputs and Totals'!C46 =3,'Solar Profiles'!$G$5*'Inputs and Totals'!$B$8*'Inputs and Totals'!$B$9*0.001,\"Error\")))","v":0},{"$f":"IF('Inputs and Totals'!C46 = 1,'Solar Profiles'!$H$3*'Inputs and Totals'!$B$9*'Inputs and Totals'!$B$8*0.001, IF('Inputs and Totals'!C46 =2,'Solar Profiles'!$H$4*'Inputs and Totals'!$B$8*'Inputs and Totals'!$B$9*0.001,IF('Inputs and Totals'!C46 =3,'Solar Profiles'!$H$5*'Inputs and Totals'!$B$8*'Inputs and Totals'!$B$9*0.001,\"Error\")))","v":0},{"$f":"IF('Inputs and Totals'!C46 = 1,'Solar Profiles'!$I$3*'Inputs and Totals'!$B$9*'Inputs and Totals'!$B$8*0.001, IF('Inputs and Totals'!C46 =2,'Solar Profiles'!$I$4*'Inputs and Totals'!$B$8*'Inputs and Totals'!$B$9*0.001,IF('Inputs and Totals'!C46 =3,'Solar Profiles'!$I$5*'Inputs and Totals'!$B$8*'Inputs and Totals'!$B$9*0.001,\"Error\")))","v":0},{"$f":"IF('Inputs and Totals'!C46 = 1,'Solar Profiles'!$J$3*'Inputs and Totals'!$B$9*'Inputs and Totals'!$B$8*0.001, IF('Inputs and Totals'!C46 =2,'Solar Profiles'!$J$4*'Inputs and Totals'!$B$8*'Inputs and Totals'!$B$9*0.001,IF('Inputs and Totals'!C46 =3,'Solar Profiles'!$J$5*'Inputs and Totals'!$B$8*'Inputs and Totals'!$B$9*0.001,\"Error\")))","v":99.990000000000009},{"$f":"IF('Inputs and Totals'!C46 = 1,'Solar Profiles'!$K$3*'Inputs and Totals'!$B$9*'Inputs and Totals'!$B$8*0.001, IF('Inputs and Totals'!C46 =2,'Solar Profiles'!$K$4*'Inputs and Totals'!$B$8*'Inputs and Totals'!$B$9*0.001,IF('Inputs and Totals'!C46 =3,'Solar Profiles'!$K$5*'Inputs and Totals'!$B$8*'Inputs and Totals'!$B$9*0.001,\"Error\")))","v":199.98000000000002},{"$f":"IF('Inputs and Totals'!C46 = 1,'Solar Profiles'!$L$3*'Inputs and Totals'!$B$9*'Inputs and Totals'!$B$8*0.001, IF('Inputs and Totals'!C46 =2,'Solar Profiles'!$L$4*'Inputs and Totals'!$B$8*'Inputs and Totals'!$B$9*0.001,IF('Inputs and Totals'!C46 =3,'Solar Profiles'!$L$5*'Inputs and Totals'!$B$8*'Inputs and Totals'!$B$9*0.001,\"Error\")))","v":299.97000000000003},{"$f":"IF('Inputs and Totals'!C46 = 1,'Solar Profiles'!$M$3*'Inputs and Totals'!$B$9*'Inputs and Totals'!$B$8*0.001, IF('Inputs and Totals'!C46 =2,'Solar Profiles'!$M$4*'Inputs and Totals'!$B$8*'Inputs and Totals'!$B$9*0.001,IF('Inputs and Totals'!C46 =3,'Solar Profiles'!$M$5*'Inputs and Totals'!$B$8*'Inputs and Totals'!$B$9*0.001,\"Error\")))","v":399.96000000000004},{"$f":"IF('Inputs and Totals'!C46 = 1,'Solar Profiles'!$N$3*'Inputs and Totals'!$B$9*'Inputs and Totals'!$B$8*0.001, IF('Inputs and Totals'!C46 =2,'Solar Profiles'!$N$4*'Inputs and Totals'!$B$8*'Inputs and Totals'!$B$9*0.001,IF('Inputs and Totals'!C46 =3,'Solar Profiles'!$N$5*'Inputs and Totals'!$B$8*'Inputs and Totals'!$B$9*0.001,\"Error\")))","v":799.92000000000007},{"$f":"IF('Inputs and Totals'!C46 = 1,'Solar Profiles'!$O$3*'Inputs and Totals'!$B$9*'Inputs and Totals'!$B$8*0.001, IF('Inputs and Totals'!C46 =2,'Solar Profiles'!$O$4*'Inputs and Totals'!$B$8*'Inputs and Totals'!$B$9*0.001,IF('Inputs and Totals'!C46 =3,'Solar Profiles'!$O$5*'Inputs and Totals'!$B$8*'Inputs and Totals'!$B$9*0.001,\"Error\")))","v":999.9},{"$f":"IF('Inputs and Totals'!C46 = 1,'Solar Profiles'!$P$3*'Inputs and Totals'!$B$9*'Inputs and Totals'!$B$8*0.001, IF('Inputs and Totals'!C46 =2,'Solar Profiles'!$P$4*'Inputs and Totals'!$B$8*'Inputs and Totals'!$B$9*0.001,IF('Inputs and Totals'!C46 =3,'Solar Profiles'!$P$5*'Inputs and Totals'!$B$8*'Inputs and Totals'!$B$9*0.001,\"Error\")))","v":999.9},{"$f":"IF('Inputs and Totals'!C46 = 1,'Solar Profiles'!$Q$3*'Inputs and Totals'!$B$9*'Inputs and Totals'!$B$8*0.001, IF('Inputs and Totals'!C46 =2,'Solar Profiles'!$Q$4*'Inputs and Totals'!$B$8*'Inputs and Totals'!$B$9*0.001,IF('Inputs and Totals'!C46 =3,'Solar Profiles'!$Q$5*'Inputs and Totals'!$B$8*'Inputs and Totals'!$B$9*0.001,\"Error\")))","v":799.92000000000007},{"$f":"IF('Inputs and Totals'!C46 = 1,'Solar Profiles'!$R$3*'Inputs and Totals'!$B$9*'Inputs and Totals'!$B$8*0.001, IF('Inputs and Totals'!C46 =2,'Solar Profiles'!$R$4*'Inputs and Totals'!$B$8*'Inputs and Totals'!$B$9*0.001,IF('Inputs and Totals'!C46 =3,'Solar Profiles'!$R$5*'Inputs and Totals'!$B$8*'Inputs and Totals'!$B$9*0.001,\"Error\")))","v":599.94000000000005},{"$f":"IF('Inputs and Totals'!C46 = 1,'Solar Profiles'!$S$3*'Inputs and Totals'!$B$9*'Inputs and Totals'!$B$8*0.001, IF('Inputs and Totals'!C46 =2,'Solar Profiles'!$S$4*'Inputs and Totals'!$B$8*'Inputs and Totals'!$B$9*0.001,IF('Inputs and Totals'!C46 =3,'Solar Profiles'!$S$5*'Inputs and Totals'!$B$8*'Inputs and Totals'!$B$9*0.001,\"Error\")))","v":399.96000000000004},{"$f":"IF('Inputs and Totals'!C46 = 1,'Solar Profiles'!$T$3*'Inputs and Totals'!$B$9*'Inputs and Totals'!$B$8*0.001, IF('Inputs and Totals'!C46 =2,'Solar Profiles'!$T$4*'Inputs and Totals'!$B$8*'Inputs and Totals'!$B$9*0.001,IF('Inputs and Totals'!C46 =3,'Solar Profiles'!$T$5*'Inputs and Totals'!$B$8*'Inputs and Totals'!$B$9*0.001,\"Error\")))","v":199.98000000000002},{"$f":"IF('Inputs and Totals'!C46 = 1,'Solar Profiles'!$U$3*'Inputs and Totals'!$B$9*'Inputs and Totals'!$B$8*0.001, IF('Inputs and Totals'!C46 =2,'Solar Profiles'!$U$4*'Inputs and Totals'!$B$8*'Inputs and Totals'!$B$9*0.001,IF('Inputs and Totals'!C46 =3,'Solar Profiles'!$U$5*'Inputs and Totals'!$B$8*'Inputs and Totals'!$B$9*0.001,\"Error\")))","v":0},{"$f":"IF('Inputs and Totals'!C46 = 1,'Solar Profiles'!$V$3*'Inputs and Totals'!$B$9*'Inputs and Totals'!$B$8*0.001, IF('Inputs and Totals'!C46 =2,'Solar Profiles'!$V$4*'Inputs and Totals'!$B$8*'Inputs and Totals'!$B$9*0.001,IF('Inputs and Totals'!C46 =3,'Solar Profiles'!$V$5*'Inputs and Totals'!$B$8*'Inputs and Totals'!$B$9*0.001,\"Error\")))","v":0},{"$f":"IF('Inputs and Totals'!C46 = 1,'Solar Profiles'!$W$3*'Inputs and Totals'!$B$9*'Inputs and Totals'!$B$8*0.001, IF('Inputs and Totals'!C46 =2,'Solar Profiles'!$W$4*'Inputs and Totals'!$B$8*'Inputs and Totals'!$B$9*0.001,IF('Inputs and Totals'!C46 =3,'Solar Profiles'!$W$5*'Inputs and Totals'!$B$8*'Inputs and Totals'!$B$9*0.001,\"Error\")))","v":0},{"$f":"IF('Inputs and Totals'!C46 = 1,'Solar Profiles'!$X$3*'Inputs and Totals'!$B$9*'Inputs and Totals'!$B$8*0.001, IF('Inputs and Totals'!C46 =2,'Solar Profiles'!$X$4*'Inputs and Totals'!$B$8*'Inputs and Totals'!$B$9*0.001,IF('Inputs and Totals'!C46 =3,'Solar Profiles'!$X$5*'Inputs and Totals'!$B$8*'Inputs and Totals'!$B$9*0.001,\"Error\")))","v":0},{"$f":"IF('Inputs and Totals'!C46 = 1,'Solar Profiles'!$Y$3*'Inputs and Totals'!$B$9*'Inputs and Totals'!$B$8*0.001, IF('Inputs and Totals'!C46 =2,'Solar Profiles'!$Y$4*'Inputs and Totals'!$B$8*'Inputs and Totals'!$B$9*0.001,IF('Inputs and Totals'!C46 =3,'Solar Profiles'!$Y$5*'Inputs and Totals'!$B$8*'Inputs and Totals'!$B$9*0.001,\"Error\")))","v":0},{"$f":"IF('Inputs and Totals'!C46 = 1,'Solar Profiles'!$Z$3*'Inputs and Totals'!$B$9*'Inputs and Totals'!$B$8*0.001, IF('Inputs and Totals'!C46 =2,'Solar Profiles'!$Z$4*'Inputs and Totals'!$B$8*'Inputs and Totals'!$B$9*0.001,IF('Inputs and Totals'!C46 =3,'Solar Profiles'!$Z$5*'Inputs and Totals'!$B$8*'Inputs and Totals'!$B$9*0.001,\"Error\")))","v":0},5799.4200000000019]
["Day 28",{"$f":"IF('Inputs and Totals'!C47 = 1,'Solar Profiles'!$C$3*'Inputs and Totals'!$B$9*'Inputs and Totals'!$B$8*0.001, IF('Inputs and Totals'!C47 =2,'Solar Profiles'!$C$4*'Inputs and Totals'!$B$8*'Inputs and Totals'!$B$9*0.001,IF('Inputs and Totals'!C47 =3,'Solar Profiles'!$C$5*'Inputs and Totals'!$B$8*'Inputs and Totals'!$B$9*0.001,\"Error\")))","v":0},{"$f":"IF('Inputs and Totals'!C47 = 1,'Solar Profiles'!$D$3*'Inputs and Totals'!$B$9*'Inputs and Totals'!$B$8*0.001, IF('Inputs and Totals'!C47 =2,'Solar Profiles'!$D$4*'Inputs and Totals'!$B$8*'Inputs and Totals'!$B$9*0.001,IF('Inputs and Totals'!C47 =3,'Solar Profiles'!$D$5*'Inputs and Totals'!$B$8*'Inputs and Totals'!$B$9*0.001,\"Error\")))","v":0},{"$f":"IF('Inputs and Totals'!C47 = 1,'Solar Profiles'!$E$3*'Inputs and Totals'!$B$9*'Inputs and Totals'!$B$8*0.001, IF('Inputs and Totals'!C47 =2,'Solar Profiles'!$E$4*'Inputs and Totals'!$B$8*'Inputs and Totals'!$B$9*0.001,IF('Inputs and Totals'!C47 =3,'Solar Profiles'!$E$5*'Inputs and Totals'!$B$8*'Inputs and Totals'!$B$9*0.001,\"Error\")))","v":0},{"$f":"IF('Inputs and Totals'!C47 = 1,'Solar Profiles'!$F$3*'Inputs and Totals'!$B$9*'Inputs and Totals'!$B$8*0.001, IF('Inputs and Totals'!C47 =2,'Solar Profiles'!$F$4*'Inputs and Totals'!$B$8*'Inputs and Totals'!$B$9*0.001,IF('Inputs and Totals'!C47 =3,'Solar Profiles'!$F$5*'Inputs and Totals'!$B$8*'Inputs and Totals'!$B$9*0.001,\"Error\")))","v":0},{"$f":"IF('Inputs and Totals'!C47 = 1,'Solar Profiles'!$G$3*'Inputs and Totals'!$B$9*'Inputs and Totals'!$B$8*0.001, IF('Inputs and Totals'!C47 =2,'Solar Profiles'!$G$4*'Inputs and Totals'!$B$8*'Inputs and Totals'!$B$9*0.001,IF('Inputs and Totals'!C47 =3,'Solar Profiles'!$G$5*'Inputs and Totals'!$B$8*'Inputs and Totals'!$B$9*0.001,\"Error\")))","v":0},{"$f":"IF('Inputs and Totals'!C47 = 1,'Solar Profiles'!$H$3*'Inputs and Totals'!$B$9*'Inputs and Totals'!$B$8*0.001, IF('Inputs and Totals'!C47 =2,'Solar Profiles'!$H$4*'Inputs and Totals'!$B$8*'Inputs and Totals'!$B$9*0.001,IF('Inputs and Totals'!C47 =3,'Solar Profiles'!$H$5*'Inputs and Totals'!$B$8*'Inputs and Totals'!$B$9*0.001,\"Error\")))","v":0},{"$f":"IF('Inputs and Totals'!C47 = 1,'Solar Profiles'!$I$3*'Inputs and Totals'!$B$9*'Inputs and Totals'!$B$8*0.001, IF('Inputs and Totals'!C47 =2,'Solar Profiles'!$I$4*'Inputs and Totals'!$B$8*'Inputs and Totals'!$B$9*0.001,IF('Inputs and Totals'!C47 =3,'Solar Profiles'!$I$5*'Inputs and Totals'!$B$8*'Inputs and Totals'!$B$9*0.001,\"Error\")))","v":0},{"$f":"IF('Inputs and Totals'!C47 = 1,'Solar Profiles'!$J$3*'Inputs and Totals'!$B$9*'Inputs and Totals'!$B$8*0.001, IF('Inputs and Totals'!C47 =2,'Solar Profiles'!$J$4*'Inputs and Totals'!$B$8*'Inputs and Totals'!$B$9*0.001,IF('Inputs and Totals'!C47 =3,'Solar Profiles'!$J$5*'Inputs and Totals'!$B$8*'Inputs and Totals'!$B$9*0.001,\"Error\")))","v":199.98000000000002},{"$f":"IF('Inputs and Totals'!C47 = 1,'Solar Profiles'!$K$3*'Inputs and Totals'!$B$9*'Inputs and Totals'!$B$8*0.001, IF('Inputs and Totals'!C47 =2,'Solar Profiles'!$K$4*'Inputs and Totals'!$B$8*'Inputs and Totals'!$B$9*0.001,IF('Inputs and Totals'!C47 =3,'Solar Profiles'!$K$5*'Inputs and Totals'!$B$8*'Inputs and Totals'!$B$9*0.001,\"Error\")))","v":199.98000000000002},{"$f":"IF('Inputs and Totals'!C47 = 1,'Solar Profiles'!$L$3*'Inputs and Totals'!$B$9*'Inputs and Totals'!$B$8*0.001, IF('Inputs and Totals'!C47 =2,'Solar Profiles'!$L$4*'Inputs and Totals'!$B$8*'Inputs and Totals'!$B$9*0.001,IF('Inputs and Totals'!C47 =3,'Solar Profiles'!$L$5*'Inputs and Totals'!$B$8*'Inputs and Totals'!$B$9*0.001,\"Error\")))","v":399.96000000000004},{"$f":"IF('Inputs and Totals'!C47 = 1,'Solar Profiles'!$M$3*'Inputs and Totals'!$B$9*'Inputs and Totals'!$B$8*0.001, IF('Inputs and Totals'!C47 =2,'Solar Profiles'!$M$4*'Inputs and Totals'!$B$8*'Inputs and Totals'!$B$9*0.001,IF('Inputs and Totals'!C47 =3,'Solar Profiles'!$M$5*'Inputs and Totals'!$B$8*'Inputs and Totals'!$B$9*0.001,\"Error\")))","v":599.94000000000005},{"$f":"IF('Inputs and Totals'!C47 = 1,'Solar Profiles'!$N$3*'Inputs and Totals'!$B$9*'Inputs and Totals'!$B$8*0.001, IF('Inputs and Totals'!C47 =2,'Solar Profiles'!$N$4*'Inputs and Totals'!$B$8*'Inputs and Totals'!$B$9*0.001,IF('Inputs and Totals'!C47 =3,'Solar Profiles'!$N$5*'Inputs and Totals'!$B$8*'Inputs and Totals'!$B$9*0.001,\"Error\")))","v":999.9},{"$f":"IF('Inputs and Totals'!C47 = 1,'Solar Profiles'!$O$3*'Inputs and Totals'!$B$9*'Inputs and Totals'!$B$8*0.001, IF('Inputs and Totals'!C47 =2,'Solar Profiles'!$O$4*'Inputs and Totals'!$B$8*'Inputs and Totals'!$B$9*0.001,IF('Inputs and Totals'!C47 =3,'Solar Profiles'!$O$5*'Inputs and Totals'!$B$8*'Inputs and Totals'!$B$9*0.001,\"Error\")))","v":1799.82},{"$f":"IF('Inputs and Totals'!C47 = 1,'Solar Profiles'!$P$3*'Inputs and Totals'!$B$9*'Inputs and Totals'!$B$8*0.001, IF('Inputs and Totals'!C47 =2,'Solar Profiles'!$P$4*'Inputs and Totals'!$B$8*'Inputs and Totals'!$B$9*0.001,IF('Inputs and Totals'!C47 =3,'Solar Profiles'!$P$5*'Inputs and Totals'!$B$8*'Inputs and Totals'!$B$9*0.001,\"Error\")))","v":1999.8},{"$f":"IF('Inputs and Totals'!C47 = 1,'Solar Profiles'!$Q$3*'Inputs and Totals'!$B$9*'Inputs and Totals'!$B$8*0.001, IF('Inputs and Totals'!C47 =2,'Solar Profiles'!$Q$4*'Inputs and Totals'!$B$8*'Inputs and Totals'!$B$9*0.001,IF('Inputs and Totals'!C47 =3,'Solar Profiles'!$Q$5*'Inputs and Totals'!$B$8*'Inputs and Totals'!$B$9*0.001,\"Error\")))","v":1199.8800000000001},{"$f":"IF('Inputs and Totals'!C47 = 1,'Solar Profiles'!$R$3*'Inputs and Totals'!$B$9*'Inputs and Totals'!$B$8*0.001, IF('Inputs and Totals'!C47 =2,'Solar Profiles'!$R$4*'Inputs and Totals'!$B$8*'Inputs and Totals'!$B$9*0.001,IF('Inputs and Totals'!C47 =3,'Solar Profiles'!$R$5*'Inputs and Totals'!$B$8*'Inputs and Totals'!$B$9*0.001,\"Error\")))","v":999.9},{"$f":"IF('Inputs and Totals'!C47 = 1,'Solar Profiles'!$S$3*'Inputs and Totals'!$B$9*'Inputs and Totals'!$B$8*0.001, IF('Inputs and Totals'!C47 =2,'Solar Profiles'!$S$4*'Inputs and Totals'!$B$8*'Inputs and Totals'!$B$9*0.001,IF('Inputs and Totals'!C47 =3,'Solar Profiles'!$S$5*'Inputs and Totals'!$B$8*'Inputs and Totals'!$B$9*0.001,\"Error\")))","v":599.94000000000005},{"$f":"IF('Inputs and Totals'!C47 = 1,'Solar Profiles'!$T$3*'Inputs and Totals'!$B$9*'Inputs and Totals'!$B$8*0.001, IF('Inputs and Totals'!C47 =2,'Solar Profiles'!$T$4*'Inputs and Totals'!$B$8*'Inputs and Totals'!$B$9*0.001,IF('Inputs and Totals'!C47 =3,'Solar Profiles'!$T$5*'Inputs and Totals'!$B$8*'Inputs and Totals'!$B$9*0.001,\"Error\")))","v":199.98000000000002},{"$f":"IF('Inputs and Totals'!C47 = 1,'Solar Profiles'!$U$3*'Inputs and Totals'!$B$9*'Inputs and Totals'!$B$8*0.001, IF('Inputs and Totals'!C47 =2,'Solar Profiles'!$U$4*'Inputs and Totals'!$B$8*'Inputs and Totals'!$B$9*0.001,IF('Inputs and Totals'!C47 =3,'Solar Profiles'!$U$5*'Inputs and Totals'!$B$8*'Inputs and Totals'!$B$9*0.001,\"Error\")))","v":0},{"$f":"IF('Inputs and Totals'!C47 = 1,'Solar Profiles'!$V$3*'Inputs and Totals'!$B$9*'Inputs and Totals'!$B$8*0.001, IF('Inputs and Totals'!C47 =2,'Solar Profiles'!$V$4*'Inputs and Totals'!$B$8*'Inputs and Totals'!$B$9*0.001,IF('Inputs and Totals'!C47 =3,'Solar Profiles'!$V$5*'Inputs and Totals'!$B$8*'Inputs and Totals'!$B$9*0.001,\"Error\")))","v":0},{"$f":"IF('Inputs and Totals'!C47 = 1,'Solar Profiles'!$W$3*'Inputs and Totals'!$B$9*'Inputs and Totals'!$B$8*0.001, IF('Inputs and Totals'!C47 =2,'Solar Profiles'!$W$4*'Inputs and Totals'!$B$8*'Inputs and Totals'!$B$9*0.001,IF('Inputs and Totals'!C47 =3,'Solar Profiles'!$W$5*'Inputs and Totals'!$B$8*'Inputs and Totals'!$B$9*0.001,\"Error\")))","v":0},{"$f":"IF('Inputs and Totals'!C47 = 1,'Solar Profiles'!$X$3*'Inputs and Totals'!$B$9*'Inputs and Totals'!$B$8*0.001, IF('Inputs and Totals'!C47 =2,'Solar Profiles'!$X$4*'Inputs and Totals'!$B$8*'Inputs and Totals'!$B$9*0.001,IF('Inputs and Totals'!C47 =3,'Solar Profiles'!$X$5*'Inputs and Totals'!$B$8*'Inputs and Totals'!$B$9*0.001,\"Error\")))","v":0},{"$f":"IF('Inputs and Totals'!C47 = 1,'Solar Profiles'!$Y$3*'Inputs and Totals'!$B$9*'Inputs and Totals'!$B$8*0.001, IF('Inputs and Totals'!C47 =2,'Solar Profiles'!$Y$4*'Inputs and Totals'!$B$8*'Inputs and Totals'!$B$9*0.001,IF('Inputs and Totals'!C47 =3,'Solar Profiles'!$Y$5*'Inputs and Totals'!$B$8*'Inputs and Totals'!$B$9*0.001,\"Error\")))","v":0},{"$f":"IF('Inputs and Totals'!C47 = 1,'Solar Profiles'!$Z$3*'Inputs and Totals'!$B$9*'Inputs and Totals'!$B$8*0.001, IF('Inputs and Totals'!C47 =2,'Solar Profiles'!$Z$4*'Inputs and Totals'!$B$8*'Inputs and Totals'!$B$9*0.001,IF('Inputs and Totals'!C47 =3,'Solar Profiles'!$Z$5*'Inputs and Totals'!$B$8*'Inputs and Totals'!$B$9*0.001,\"Error\")))","v":0},9199.08]
["Day 29",{"$f":"IF('Inputs and Totals'!C48 = 1,'Solar Profiles'!$C$3*'Inputs and Totals'!$B$9*'Inputs and Totals'!$B$8*0.001, IF('Inputs and Totals'!C48 =2,'Solar Profiles'!$C$4*'Inputs and Totals'!$B$8*'Inputs and Totals'!$B$9*0.001,IF('Inputs and Totals'!C48 =3,'Solar Profiles'!$C$5*'Inputs and Totals'!$B$8*'Inputs and Totals'!$B$9*0.001,\"Error\")))","v":0},{"$f":"IF('Inputs and Totals'!C48 = 1,'Solar Profiles'!$D$3*'Inputs and Totals'!$B$9*'Inputs and Totals'!$B$8*0.001, IF('Inputs and Totals'!C48 =2,'Solar Profiles'!$D$4*'Inputs and Totals'!$B$8*'Inputs and Totals'!$B$9*0.001,IF('Inputs and Totals'!C48 =3,'Solar Profiles'!$D$5*'Inputs and Totals'!$B$8*'Inputs and Totals'!$B$9*0.001,\"Error\")))","v":0},{"$f":"IF('Inputs and Totals'!C48 = 1,'Solar Profiles'!$E$3*'Inputs and Totals'!$B$9*'Inputs and Totals'!$B$8*0.001, IF('Inputs and Totals'!C48 =2,'Solar Profiles'!$E$4*'Inputs and Totals'!$B$8*'Inputs and Totals'!$B$9*0.001,IF('Inputs and Totals'!C48 =3,'Solar Profiles'!$E$5*'Inputs and Totals'!$B$8*'Inputs and Totals'!$B$9*0.001,\"Error\")))","v":0},{"$f":"IF('Inputs and Totals'!C48 = 1,'Solar Profiles'!$F$3*'Inputs and Totals'!$B$9*'Inputs and Totals'!$B$8*0.001, IF('Inputs and Totals'!C48 =2,'Solar Profiles'!$F$4*'Inputs and Totals'!$B$8*'Inputs and Totals'!$B$9*0.001,IF('Inputs and Totals'!C48 =3,'Solar Profiles'!$F$5*'Inputs and Totals'!$B$8*'Inputs and Totals'!$B$9*0.001,\"Error\")))","v":0},{"$f":"IF('Inputs and Totals'!C48 = 1,'Solar Profiles'!$G$3*'Inputs and Totals'!$B$9*'Inputs and Totals'!$B$8*0.001, IF('Inputs and Totals'!C48 =2,'Solar Profiles'!$G$4*'Inputs and Totals'!$B$8*'Inputs and Totals'!$B$9*0.001,IF('Inputs and Totals'!C48 =3,'Solar Profiles'!$G$5*'Inputs and Totals'!$B$8*'Inputs and Totals'!$B$9*0.001,\"Error\")))","v":0},{"$f":"IF('Inputs and Totals'!C48 = 1,'Solar Profiles'!$H$3*'Inputs and Totals'!$B$9*'Inputs and Totals'!$B$8*0.001, IF('Inputs and Totals'!C48 =2,'Solar Profiles'!$H$4*'Inputs and Totals'!$B$8*'Inputs and Totals'!$B$9*0.001,IF('Inputs and Totals'!C48 =3,'Solar Profiles'!$H$5*'Inputs and Totals'!$B$8*'Inputs and Totals'!$B$9*0.001,\"Error\")))","v":0},{"$f":"IF('Inputs and Totals'!C48 = 1,'Solar Profiles'!$I$3*'Inputs and Totals'!$B$9*'Inputs and Totals'!$B$8*0.001, IF('Inputs and Totals'!C48 =2,'Solar Profiles'!$I$4*'Inputs and Totals'!$B$8*'Inputs and Totals'!$B$9*0.001,IF('Inputs and Totals'!C48 =3,'Solar Profiles'!$I$5*'Inputs and Totals'!$B$8*'Inputs and Totals'!$B$9*0.001,\"Error\")))","v":0},{"$f":"IF('Inputs and Totals'!C48 = 1,'Solar Profiles'!$J$3*'Inputs and Totals'!$B$9*'Inputs and Totals'!$B$8*0.001, IF('Inputs and Totals'!C48 =2,'Solar Profiles'!$J$4*'Inputs and Totals'!$B$8*'Inputs and Totals'!$B$9*0.001,IF('Inputs and Totals'!C48 =3,'Solar Profiles'!$J$5*'Inputs and Totals'!$B$8*'Inputs and Totals'!$B$9*0.001,\"Error\")))","v":199.98000000000002},{"$f":"IF('Inputs and Totals'!C48 = 1,'Solar Profiles'!$K$3*'Inputs and Totals'!$B$9*'Inputs and Totals'!$B$8*0.001, IF('Inputs and Totals'!C48 =2,'Solar Profiles'!$K$4*'Inputs and Totals'!$B$8*'Inputs and Totals'!$B$9*0.001,IF('Inputs and Totals'!C48 =3,'Solar Profiles'!$K$5*'Inputs and Totals'!$B$8*'Inputs and Totals'!$B$9*0.001,\"Error\")))","v":399.96000000000004},{"$f":"IF('Inputs and Totals'!C48 = 1,'Solar Profiles'!$L$3*'Inputs and Totals'!$B$9*'Inputs and Totals'!$B$8*0.001, IF('Inputs and Totals'!C48 =2,'Solar Profiles'!$L$4*'Inputs and Totals'!$B$8*'Inputs and Totals'!$B$9*0.001,IF('Inputs and Totals'!C48 =3,'Solar Profiles'!$L$5*'Inputs and Totals'!$B$8*'Inputs and Totals'!$B$9*0.001,\"Error\")))","v":599.94000000000005},{"$f":"IF('Inputs and Totals'!C48 = 1,'Solar Profiles'!$M$3*'Inputs and Totals'!$B$9*'Inputs and Totals'!$B$8*0.001, IF('Inputs and Totals'!C48 =2,'Solar Profiles'!$M$4*'Inputs and Totals'!$B$8*'Inputs and Totals'!$B$9*0.001,IF('Inputs and Totals'!C48 =3,'Solar Profiles'!$M$5*'Inputs and Totals'!$B$8*'Inputs and Totals'!$B$9*0.001,\"Error\")))","v":799.92000000000007},{"$f":"IF('Inputs and Totals'!C48 = 1,'Solar Profiles'!$N$3*'Inputs and Totals'!$B$9*'Inputs and Totals'!$B$8*0.001, IF('Inputs and Totals'!C48 =2,'Solar Profiles'!$N$4*'Inputs and Totals'!$B$8*'Inputs and Totals'!$B$9*0.001,IF('Inputs and Totals'!C48 =3,'Solar Profiles'!$N$5*'Inputs and Totals'!$B$8*'Inputs and Totals'!$B$9*0.001,\"Error\")))","v":1599.8400000000001},{"$f":"IF('Inputs and Totals'!C48 = 1,'Solar Profiles'!$O$3*'Inputs and Totals'!$B$9*'Inputs and Totals'!$B$8*0.001, IF('Inputs and Totals'!C48 =2,'Solar Profiles'!$O$4*'Inputs and Totals'!$B$8*'Inputs and Totals'!$B$9*0.001,IF('Inputs and Totals'!C48 =3,'Solar Profiles'!$O$5*'Inputs and Totals'!$B$8*'Inputs and Totals'!$B$9*0.001,\"Error\")))","v":1999.8},{"$f":"IF('Inputs and Totals'!C48 = 1,'Solar Profiles'!$P$3*'Inputs and Totals'!$B$9*'Inputs and Totals'!$B$8*0.001, IF('Inputs and Totals'!C48 =2,'Solar Profiles'!$P$4*'Inputs and Totals'!$B$8*'Inputs and Totals'!$B$9*0.001,IF('Inputs and Totals'!C48 =3,'Solar Profiles'!$P$5*'Inputs and Totals'!$B$8*'Inputs and Totals'!$B$9*0.001,\"Error\")))","v":1999.8},{"$f":"IF('Inputs and Totals'!C48 = 1,'Solar Profiles'!$Q$3*'Inputs and Totals'!$B$9*'Inputs and Totals'!$B$8*0.001, IF('Inputs and Totals'!C48 =2,'Solar Profiles'!$Q$4*'Inputs and Totals'!$B$8*'Inputs and Totals'!$B$9*0.001,IF('Inputs and Totals'!C48 =3,'Solar Profiles'!$Q$5*'Inputs and Totals'!$B$8*'Inputs and Totals'!$B$9*0.001,\"Error\")))","v":1399.86},{"$f":"IF('Inputs and Totals'!C48 = 1,'Solar Profiles'!$R$3*'Inputs and Totals'!$B$9*'Inputs and Totals'!$B$8*0.001, IF('Inputs and Totals'!C48 =2,'Solar Profiles'!$R$4*'Inputs and Totals'!$B$8*'Inputs and Totals'!$B$9*0.001,IF('Inputs and Totals'!C48 =3,'Solar Profiles'!$R$5*'Inputs and Totals'!$B$8*'Inputs and Totals'!$B$9*0.001,\"Error\")))","v":1199.8800000000001},{"$f":"IF('Inputs and Totals'!C48 = 1,'Solar Profiles'!$S$3*'Inputs and Totals'!$B$9*'Inputs and Totals'!$B$8*0.001, IF('Inputs and Totals'!C48 =2,'Solar Profiles'!$S$4*'Inputs and Totals'!$B$8*'Inputs and Totals'!$B$9*0.001,IF('Inputs and Totals'!C48 =3,'Solar Profiles'!$S$5*'Inputs and Totals'!$B$8*'Inputs and Totals'!$B$9*0.001,\"Error\")))","v":999.9},{"$f":"IF('Inputs and Totals'!C48 = 1,'Solar Profiles'!$T$3*'Inputs and Totals'!$B$9*'Inputs and Totals'!$B$8*0.001, IF('Inputs and Totals'!C48 =2,'Solar Profiles'!$T$4*'Inputs and Totals'!$B$8*'Inputs and Totals'!$B$9*0.001,IF('Inputs and Totals'!C48 =3,'Solar Profiles'!$T$5*'Inputs and Totals'!$B$8*'Inputs and Totals'!$B$9*0.001,\"Error\")))","v":399.96000000000004},{"$f":"IF('Inputs and Totals'!C48 = 1,'Solar Profiles'!$U$3*'Inputs and Totals'!$B$9*'Inputs and Totals'!$B$8*0.001, IF('Inputs and Totals'!C48 =2,'Solar Profiles'!$U$4*'Inputs and Totals'!$B$8*'Inputs and Totals'!$B$9*0.001,IF('Inputs and Totals'!C48 =3,'Solar Profiles'!$U$5*'Inputs and Totals'!$B$8*'Inputs and Totals'!$B$9*0.001,\"Error\")))","v":0},{"$f":"IF('Inputs and Totals'!C48 = 1,'Solar Profiles'!$V$3*'Inputs and Totals'!$B$9*'Inputs and Totals'!$B$8*0.001, IF('Inputs and Totals'!C48 =2,'Solar Profiles'!$V$4*'Inputs and Totals'!$B$8*'Inputs and Totals'!$B$9*0.001,IF('Inputs and Totals'!C48 =3,'Solar Profiles'!$V$5*'Inputs and Totals'!$B$8*'Inputs and Totals'!$B$9*0.001,\"Error\")))","v":0},{"$f":"IF('Inputs and Totals'!C48 = 1,'Solar Profiles'!$W$3*'Inputs and Totals'!$B$9*'Inputs and Totals'!$B$8*0.001, IF('Inputs and Totals'!C48 =2,'Solar Profiles'!$W$4*'Inputs and Totals'!$B$8*'Inputs and Totals'!$B$9*0.001,IF('Inputs and Totals'!C48 =3,'Solar Profiles'!$W$5*'Inputs and Totals'!$B$8*'Inputs and Totals'!$B$9*0.001,\"Error\")))","v":0},{"$f":"IF('Inputs and Totals'!C48 = 1,'Solar Profiles'!$X$3*'Inputs and Totals'!$B$9*'Inputs and Totals'!$B$8*0.001, IF('Inputs and Totals'!C48 =2,'Solar Profiles'!$X$4*'Inputs and Totals'!$B$8*'Inputs and Totals'!$B$9*0.001,IF('Inputs and Totals'!C48 =3,'Solar Profiles'!$X$5*'Inputs and Totals'!$B$8*'Inputs and Totals'!$B$9*0.001,\"Error\")))","v":0},{"$f":"IF('Inputs and Totals'!C48 = 1,'Solar Profiles'!$Y$3*'Inputs and Totals'!$B$9*'Inputs and Totals'!$B$8*0.001, IF('Inputs and Totals'!C48 =2,'Solar Profiles'!$Y$4*'Inputs and Totals'!$B$8*'Inputs and Totals'!$B$9*0.001,IF('Inputs and Totals'!C48 =3,'Solar Profiles'!$Y$5*'Inputs and Totals'!$B$8*'Inputs and Totals'!$B$9*0.001,\"Error\")))","v":0},{"$f":"IF('Inputs and Totals'!C48 = 1,'Solar Profiles'!$Z$3*'Inputs and Totals'!$B$9*'Inputs and Totals'!$B$8*0.001, IF('Inputs and Totals'!C48 =2,'Solar Profiles'!$Z$4*'Inputs and Totals'!$B$8*'Inputs and Totals'!$B$9*0.001,IF('Inputs and Totals'!C48 =3,'Solar Profiles'!$Z$5*'Inputs and Totals'!$B$8*'Inputs and Totals'!$B$9*0.001,\"Error\")))","v":0},11598.84]
["Day 30",{"$f":"IF('Inputs and Totals'!C49 = 1,'Solar Profiles'!$C$3*'Inputs and Totals'!$B$9*'Inputs and Totals'!$B$8*0.001, IF('Inputs and Totals'!C49 =2,'Solar Profiles'!$C$4*'Inputs and Totals'!$B$8*'Inputs and Totals'!$B$9*0.001,IF('Inputs and Totals'!C49 =3,'Solar Profiles'!$C$5*'Inputs and Totals'!$B$8*'Inputs and Totals'!$B$9*0.001,\"Error\")))","v":0},{"$f":"IF('Inputs and Totals'!C49 = 1,'Solar Profiles'!$D$3*'Inputs and Totals'!$B$9*'Inputs and Totals'!$B$8*0.001, IF('Inputs and Totals'!C49 =2,'Solar Profiles'!$D$4*'Inputs and Totals'!$B$8*'Inputs and Totals'!$B$9*0.001,IF('Inputs and Totals'!C49 =3,'Solar Profiles'!$D$5*'Inputs and Totals'!$B$8*'Inputs and Totals'!$B$9*0.001,\"Error\")))","v":0},{"$f":"IF('Inputs and Totals'!C49 = 1,'Solar Profiles'!$E$3*'Inputs and Totals'!$B$9*'Inputs and Totals'!$B$8*0.001, IF('Inputs and Totals'!C49 =2,'Solar Profiles'!$E$4*'Inputs and Totals'!$B$8*'Inputs and Totals'!$B$9*0.001,IF('Inputs and Totals'!C49 =3,'Solar Profiles'!$E$5*'Inputs and Totals'!$B$8*'Inputs and Totals'!$B$9*0.001,\"Error\")))","v":0},{"$f":"IF('Inputs and Totals'!C49 = 1,'Solar Profiles'!$F$3*'Inputs and Totals'!$B$9*'Inputs and Totals'!$B$8*0.001, IF('Inputs and Totals'!C49 =2,'Solar Profiles'!$F$4*'Inputs and Totals'!$B$8*'Inputs and Totals'!$B$9*0.001,IF('Inputs and Totals'!C49 =3,'Solar Profiles'!$F$5*'Inputs and Totals'!$B$8*'Inputs and Totals'!$B$9*0.001,\"Error\")))","v":0},{"$f":"IF('Inputs and Totals'!C49 = 1,'Solar Profiles'!$G$3*'Inputs and Totals'!$B$9*'Inputs and Totals'!$B$8*0.001, IF('Inputs and Totals'!C49 =2,'Solar Profiles'!$G$4*'Inputs and Totals'!$B$8*'Inputs and Totals'!$B$9*0.001,IF('Inputs and Totals'!C49 =3,'Solar Profiles'!$G$5*'Inputs and Totals'!$B$8*'Inputs and Totals'!$B$9*0.001,\"Error\")))","v":0},{"$f":"IF('Inputs and Totals'!C49 = 1,'Solar Profiles'!$H$3*'Inputs and Totals'!$B$9*'Inputs and Totals'!$B$8*0.001, IF('Inputs and Totals'!C49 =2,'Solar Profiles'!$H$4*'Inputs and Totals'!$B$8*'Inputs and Totals'!$B$9*0.001,IF('Inputs and Totals'!C49 =3,'Solar Profiles'!$H$5*'Inputs and Totals'!$B$8*'Inputs and Totals'!$B$9*0.001,\"Error\")))","v":0},{"$f":"IF('Inputs and Totals'!C49 = 1,'Solar Profiles'!$I$3*'Inputs and Totals'!$B$9*'Inputs and Totals'!$B$8*0.001, IF('Inputs and Totals'!C49 =2,'Solar Profiles'!$I$4*'Inputs and Totals'!$B$8*'Inputs and Totals'!$B$9*0.001,IF('Inputs and Totals'!C49 =3,'Solar Profiles'!$I$5*'Inputs and Totals'!$B$8*'Inputs and Totals'!$B$9*0.001,\"Error\")))","v":0},{"$f":"IF('Inputs and Totals'!C49 = 1,'Solar Profiles'!$J$3*'Inputs and Totals'!$B$9*'Inputs and Totals'!$B$8*0.001, IF('Inputs and Totals'!C49 =2,'Solar Profiles'!$J$4*'Inputs and Totals'!$B$8*'Inputs and Totals'!$B$9*0.001,IF('Inputs and Totals'!C49 =3,'Solar Profiles'!$J$5*'Inputs and Totals'!$B$8*'Inputs and Totals'!$B$9*0.001,\"Error\")))","v":199.98000000000002},{"$f":"IF('Inputs and Totals'!C49 = 1,'Solar Profiles'!$K$3*'Inputs and Totals'!$B$9*'Inputs and Totals'!$B$8*0.001, IF('Inputs and Totals'!C49 =2,'Solar Profiles'!$K$4*'Inputs and Totals'!$B$8*'Inputs and Totals'!$B$9*0.001,IF('Inputs and Totals'!C49 =3,'Solar Profiles'!$K$5*'Inputs and Totals'!$B$8*'Inputs and Totals'!$B$9*0.001,\"Error\")))","v":399.96000000000004},{"$f":"IF('Inputs and Totals'!C49 = 1,'Solar Profiles'!$L$3*'Inputs and Totals'!$B$9*'Inputs and Totals'!$B$8*0.001, IF('Inputs and Totals'!C49 =2,'Solar Profiles'!$L$4*'Inputs and Totals'!$B$8*'Inputs and Totals'!$B$9*0.001,IF('Inputs and Totals'!C49 =3,'Solar Profiles'!$L$5*'Inputs and Totals'!$B$8*'Inputs and Totals'!$B$9*0.001,\"Error\")))","v":599.94000000000005},{"$f":"IF('Inputs and Totals'!C49 = 1,'Solar Profiles'!$M$3*'Inputs and Totals'!$B$9*'Inputs and Totals'!$B$8*0.001, IF('Inputs and Totals'!C49 =2,'Solar Profiles'!$M$4*'Inputs and Totals'!$B$8*'Inputs and Totals'!$B$9*0.001,IF('Inputs and Totals'!C49 =3,'Solar Profiles'!$M$5*'Inputs and Totals'!$B$8*'Inputs and Totals'!$B$9*0.001,\"Error\")))","v":799.92000000000007},{"$f":"IF('Inputs and Totals'!C49 = 1,'Solar Profiles'!$N$3*'Inputs and Totals'!$B$9*'Inputs and Totals'!$B$8*0.001, IF('Inputs and Totals'!C49 =2,'Solar Profiles'!$N$4*'Inputs and Totals'!$B$8*'Inputs and Totals'!$B$9*0.001,IF('Inputs and Totals'!C49 =3,'Solar Profiles'!$N$5*'Inputs and Totals'!$B$8*'Inputs and Totals'!$B$9*0.001,\"Error\")))","v":1599.8400000000001},{"$f":"IF('Inputs and Totals'!C49 = 1,'Solar Profiles'!$O$3*'Inputs and Totals'!$B$9*'Inputs and Totals'!$B$8*0.001, IF('Inputs and Totals'!C49 =2,'Solar Profiles'!$O$4*'Inputs and Totals'!$B$8*'Inputs and Totals'!$B$9*0.001,IF('Inputs and Totals'!C49 =3,'Solar Profiles'!$O$5*'Inputs and Totals'!$B$8*'Inputs and Totals'!$B$9*0.001,\"Error\")))","v":1999.8},{"$f":"IF('Inputs and Totals'!C49 = 1,'Solar Profiles'!$P$3*'Inputs and Totals'!$B$9*'Inputs and Totals'!$B$8*0.001, IF('Inputs and Totals'!C49 =2,'Solar Profiles'!$P$4*'Inputs and Totals'!$B$8*'Inputs and Totals'!$B$9*0.001,IF('Inputs and Totals'!C49 =3,'Solar Profiles'!$P$5*'Inputs and Totals'!$B$8*'Inputs and Totals'!$B$9*0.001,\"Error\")))","v":1999.8},{"$f":"IF('Inputs and Totals'!C49 = 1,'Solar Profiles'!$Q$3*'Inputs and Totals'!$B$9*'Inputs and Totals'!$B$8*0.001, IF('Inputs and Totals'!C49 =2,'Solar Profiles'!$Q$4*'Inputs and Totals'!$B$8*'Inputs and Totals'!$B$9*0.001,IF('Inputs and Totals'!C49 =3,'Solar Profiles'!$Q$5*'Inputs and Totals'!$B$8*'Inputs and Totals'!$B$9*0.001,\"Error\")))","v":1399.86},{"$f":"IF('Inputs and Totals'!C49 = 1,'Solar Profiles'!$R$3*'Inputs and Totals'!$B$9*'Inputs and Totals'!$B$8*0.001, IF('Inputs and Totals'!C49 =2,'Solar Profiles'!$R$4*'Inputs and Totals'!$B$8*'Inputs and Totals'!$B$9*0.001,IF('Inputs and Totals'!C49 =3,'Solar Profiles'!$R$5*'Inputs and Totals'!$B$8*'Inputs and Totals'!$B$9*0.001,\"Error\")))","v":1199.8800000000001},{"$f":"IF('Inputs and Totals'!C49 = 1,'Solar Profiles'!$S$3*'Inputs and Totals'!$B$9*'Inputs and Totals'!$B$8*0.001, IF('Inputs and Totals'!C49 =2,'Solar Profiles'!$S$4*'Inputs and Totals'!$B$8*'Inputs and Totals'!$B$9*0.001,IF('Inputs and Totals'!C49 =3,'Solar Profiles'!$S$5*'Inputs and Totals'!$B$8*'Inputs and Totals'!$B$9*0.001,\"Error\")))","v":999.9},{"$f":"IF('Inputs and Totals'!C49 = 1,'Solar Profiles'!$T$3*'Inputs and Totals'!$B$9*'Inputs and Totals'!$B$8*0.001, IF('Inputs and Totals'!C49 =2,'Solar Profiles'!$T$4*'Inputs and Totals'!$B$8*'Inputs and Totals'!$B$9*0.001,IF('Inputs and Totals'!C49 =3,'Solar Profiles'!$T$5*'Inputs and Totals'!$B$8*'Inputs and Totals'!$B$9*0.001,\"Error\")))","v":399.96000000000004},{"$f":"IF('Inputs and Totals'!C49 = 1,'Solar Profiles'!$U$3*'Inputs and Totals'!$B$9*'Inputs and Totals'!$B$8*0.001, IF('Inputs and Totals'!C49 =2,'Solar Profiles'!$U$4*'Inputs and Totals'!$B$8*'Inputs and Totals'!$B$9*0.001,IF('Inputs and Totals'!C49 =3,'Solar Profiles'!$U$5*'Inputs and Totals'!$B$8*'Inputs and Totals'!$B$9*0.001,\"Error\")))","v":0},{"$f":"IF('Inputs and Totals'!C49 = 1,'Solar Profiles'!$V$3*'Inputs and Totals'!$B$9*'Inputs and Totals'!$B$8*0.001, IF('Inputs and Totals'!C49 =2,'Solar Profiles'!$V$4*'Inputs and Totals'!$B$8*'Inputs and Totals'!$B$9*0.001,IF('Inputs and Totals'!C49 =3,'Solar Profiles'!$V$5*'Inputs and Totals'!$B$8*'Inputs and Totals'!$B$9*0.001,\"Error\")))","v":0},{"$f":"IF('Inputs and Totals'!C49 = 1,'Solar Profiles'!$W$3*'Inputs and Totals'!$B$9*'Inputs and Totals'!$B$8*0.001, IF('Inputs and Totals'!C49 =2,'Solar Profiles'!$W$4*'Inputs and Totals'!$B$8*'Inputs and Totals'!$B$9*0.001,IF('Inputs and Totals'!C49 =3,'Solar Profiles'!$W$5*'Inputs and Totals'!$B$8*'Inputs and Totals'!$B$9*0.001,\"Error\")))","v":0},{"$f":"IF('Inputs and Totals'!C49 = 1,'Solar Profiles'!$X$3*'Inputs and Totals'!$B$9*'Inputs and Totals'!$B$8*0.001, IF('Inputs and Totals'!C49 =2,'Solar Profiles'!$X$4*'Inputs and Totals'!$B$8*'Inputs and Totals'!$B$9*0.001,IF('Inputs and Totals'!C49 =3,'Solar Profiles'!$X$5*'Inputs and Totals'!$B$8*'Inputs and Totals'!$B$9*0.001,\"Error\")))","v":0},{"$f":"IF('Inputs and Totals'!C49 = 1,'Solar Profiles'!$Y$3*'Inputs and Totals'!$B$9*'Inputs and Totals'!$B$8*0.001, IF('Inputs and Totals'!C49 =2,'Solar Profiles'!$Y$4*'Inputs and Totals'!$B$8*'Inputs and Totals'!$B$9*0.001,IF('Inputs and Totals'!C49 =3,'Solar Profiles'!$Y$5*'Inputs and Totals'!$B$8*'Inputs and Totals'!$B$9*0.001,\"Error\")))","v":0},{"$f":"IF('Inputs and Totals'!C49 = 1,'Solar Profiles'!$Z$3*'Inputs and Totals'!$B$9*'Inputs and Totals'!$B$8*0.001, IF('Inputs and Totals'!C49 =2,'Solar Profiles'!$Z$4*'Inputs and Totals'!$B$8*'Inputs and Totals'!$B$9*0.001,IF('Inputs and Totals'!C49 =3,'Solar Profiles'!$Z$5*'Inputs and Totals'!$B$8*'Inputs and Totals'!$B$9*0.001,\"Error\")))","v":0},11598.84]
["Day 31",{"$f":"IF('Inputs and Totals'!C50 = 1,'Solar Profiles'!$C$3*'Inputs and Totals'!$B$9*'Inputs and Totals'!$B$8*0.001, IF('Inputs and Totals'!C50 =2,'Solar Profiles'!$C$4*'Inputs and Totals'!$B$8*'Inputs and Totals'!$B$9*0.001,IF('Inputs and Totals'!C50 =3,'Solar Profiles'!$C$5*'Inputs and Totals'!$B$8*'Inputs and Totals'!$B$9*0.001,\"Error\")))","v":0},{"$f":"IF('Inputs and Totals'!C50 = 1,'Solar Profiles'!$D$3*'Inputs and Totals'!$B$9*'Inputs and Totals'!$B$8*0.001, IF('Inputs and Totals'!C50 =2,'Solar Profiles'!$D$4*'Inputs and Totals'!$B$8*'Inputs and Totals'!$B$9*0.001,IF('Inputs and Totals'!C50 =3,'Solar Profiles'!$D$5*'Inputs and Totals'!$B$8*'Inputs and Totals'!$B$9*0.001,\"Error\")))","v":0},{"$f":"IF('Inputs and Totals'!C50 = 1,'Solar Profiles'!$E$3*'Inputs and Totals'!$B$9*'Inputs and Totals'!$B$8*0.001, IF('Inputs and Totals'!C50 =2,'Solar Profiles'!$E$4*'Inputs and Totals'!$B$8*'Inputs and Totals'!$B$9*0.001,IF('Inputs and Totals'!C50 =3,'Solar Profiles'!$E$5*'Inputs and Totals'!$B$8*'Inputs and Totals'!$B$9*0.001,\"Error\")))","v":0},{"$f":"IF('Inputs and Totals'!C50 = 1,'Solar Profiles'!$F$3*'Inputs and Totals'!$B$9*'Inputs and Totals'!$B$8*0.001, IF('Inputs and Totals'!C50 =2,'Solar Profiles'!$F$4*'Inputs and Totals'!$B$8*'Inputs and Totals'!$B$9*0.001,IF('Inputs and Totals'!C50 =3,'Solar Profiles'!$F$5*'Inputs and Totals'!$B$8*'Inputs and Totals'!$B$9*0.001,\"Error\")))","v":0},{"$f":"IF('Inputs and Totals'!C50 = 1,'Solar Profiles'!$G$3*'Inputs and Totals'!$B$9*'Inputs and Totals'!$B$8*0.001, IF('Inputs and Totals'!C50 =2,'Solar Profiles'!$G$4*'Inputs and Totals'!$B$8*'Inputs and Totals'!$B$9*0.001,IF('Inputs and Totals'!C50 =3,'Solar Profiles'!$G$5*'Inputs and Totals'!$B$8*'Inputs and Totals'!$B$9*0.001,\"Error\")))","v":0},{"$f":"IF('Inputs and Totals'!C50 = 1,'Solar Profiles'!$H$3*'Inputs and Totals'!$B$9*'Inputs and Totals'!$B$8*0.001, IF('Inputs and Totals'!C50 =2,'Solar Profiles'!$H$4*'Inputs and Totals'!$B$8*'Inputs and Totals'!$B$9*0.001,IF('Inputs and Totals'!C50 =3,'Solar Profiles'!$H$5*'Inputs and Totals'!$B$8*'Inputs and Totals'!$B$9*0.001,\"Error\")))","v":0},{"$f":"IF('Inputs and Totals'!C50 = 1,'Solar Profiles'!$I$3*'Inputs and Totals'!$B$9*'Inputs and Totals'!$B$8*0.001, IF('Inputs and Totals'!C50 =2,'Solar Profiles'!$I$4*'Inputs and Totals'!$B$8*'Inputs and Totals'!$B$9*0.001,IF('Inputs and Totals'!C50 =3,'Solar Profiles'!$I$5*'Inputs and Totals'!$B$8*'Inputs and Totals'!$B$9*0.001,\"Error\")))","v":0},{"$f":"IF('Inputs and Totals'!C50 = 1,'Solar Profiles'!$J$3*'Inputs and Totals'!$B$9*'Inputs and Totals'!$B$8*0.001, IF('Inputs and Totals'!C50 =2,'Solar Profiles'!$J$4*'Inputs and Totals'!$B$8*'Inputs and Totals'!$B$9*0.001,IF('Inputs and Totals'!C50 =3,'Solar Profiles'!$J$5*'Inputs and Totals'!$B$8*'Inputs and Totals'!$B$9*0.001,\"Error\")))","v":199.98000000000002},{"$f":"IF('Inputs and Totals'!C50 = 1,'Solar Profiles'!$K$3*'Inputs and Totals'!$B$9*'Inputs and Totals'!$B$8*0.001, IF('Inputs and Totals'!C50 =2,'Solar Profiles'!$K$4*'Inputs and Totals'!$B$8*'Inputs and Totals'!$B$9*0.001,IF('Inputs and Totals'!C50 =3,'Solar Profiles'!$K$5*'Inputs and Totals'!$B$8*'Inputs and Totals'!$B$9*0.001,\"Error\")))","v":199.98000000000002},{"$f":"IF('Inputs and Totals'!C50 = 1,'Solar Profiles'!$L$3*'Inputs and Totals'!$B$9*'Inputs and Totals'!$B$8*0.001, IF('Inputs and Totals'!C50 =2,'Solar Profiles'!$L$4*'Inputs and Totals'!$B$8*'Inputs and Totals'!$B$9*0.001,IF('Inputs and Totals'!C50 =3,'Solar Profiles'!$L$5*'Inputs and Totals'!$B$8*'Inputs and Totals'!$B$9*0.001,\"Error\")))","v":399.96000000000004},{"$f":"IF('Inputs and Totals'!C50 = 1,'Solar Profiles'!$M$3*'Inputs and Totals'!$B$9*'Inputs and Totals'!$B$8*0.001, IF('Inputs and Totals'!C50 =2,'Solar Profiles'!$M$4*'Inputs and Totals'!$B$8*'Inputs and Totals'!$B$9*0.001,IF('Inputs and Totals'!C50 =3,'Solar Profiles'!$M$5*'Inputs and Totals'!$B$8*'Inputs and Totals'!$B$9*0.001,\"Error\")))","v":599.94000000000005},{"$f":"IF('Inputs and Totals'!C50 = 1,'Solar Profiles'!$N$3*'Inputs and Totals'!$B$9*'Inputs and Totals'!$B$8*0.001, IF('Inputs and Totals'!C50 =2,'Solar Profiles'!$N$4*'Inputs and Totals'!$B$8*'Inputs and Totals'!$B$9*0.001,IF('Inputs and Totals'!C50 =3,'Solar Profiles'!$N$5*'Inputs and Totals'!$B$8*'Inputs and Totals'!$B$9*0.001,\"Error\")))","v":999.9},{"$f":"IF('Inputs and Totals'!C50 = 1,'Solar Profiles'!$O$3*'Inputs and Totals'!$B$9*'Inputs and Totals'!$B$8*0.001, IF('Inputs and Totals'!C50 =2,'Solar Profiles'!$O$4*'Inputs and Totals'!$B$8*'Inputs and Totals'!$B$9*0.001,IF('Inputs and Totals'!C50 =3,'Solar Profiles'!$O$5*'Inputs and Totals'!$B$8*'Inputs and Totals'!$B$9*0.001,\"Error\")))","v":1799.82},{"$f":"IF('Inputs and Totals'!C50 = 1,'Solar Profiles'!$P$3*'Inputs and Totals'!$B$9*'Inputs and Totals'!$B$8*0.001, IF('Inputs and Totals'!C50 =2,'Solar Profiles'!$P$4*'Inputs and Totals'!$B$8*'Inputs and Totals'!$B$9*0.001,IF('Inputs and Totals'!C50 =3,'Solar Profiles'!$P$5*'Inputs and Totals'!$B$8*'Inputs and Totals'!$B$9*0.001,\"Error\")))","v":1999.8},{"$f":"IF('Inputs and Totals'!C50 = 1,'Solar Profiles'!$Q$3*'Inputs and Totals'!$B$9*'Inputs and Totals'!$B$8*0.001, IF('Inputs and Totals'!C50 =2,'Solar Profiles'!$Q$4*'Inputs and Totals'!$B$8*'Inputs and Totals'!$B$9*0.001,IF('Inputs and Totals'!C50 =3,'Solar Profiles'!$Q$5*'Inputs and Totals'!$B$8*'Inputs and Totals'!$B$9*0.001,\"Error\")))","v":1199.8800000000001},{"$f":"IF('Inputs and Totals'!C50 = 1,'Solar Profiles'!$R$3*'Inputs and Totals'!$B$9*'Inputs and Totals'!$B$8*0.001, IF('Inputs and Totals'!C50 =2,'Solar Profiles'!$R$4*'Inputs and Totals'!$B$8*'Inputs and Totals'!$B$9*0.001,IF('Inputs and Totals'!C50 =3,'Solar Profiles'!$R$5*'Inputs and Totals'!$B$8*'Inputs and Totals'!$B$9*0.001,\"Error\")))","v":999.9},{"$f":"IF('Inputs and Totals'!C50 = 1,'Solar Profiles'!$S$3*'Inputs and Totals'!$B$9*'Inputs and Totals'!$B$8*0.001, IF('Inputs and Totals'!C50 =2,'Solar Profiles'!$S$4*'Inputs and Totals'!$B$8*'Inputs and Totals'!$B$9*0.001,IF('Inputs and Totals'!C50 =3,'Solar Profiles'!$S$5*'Inputs and Totals'!$B$8*'Inputs and Totals'!$B$9*0.001,\"Error\")))","v":599.94000000000005},{"$f":"IF('Inputs and Totals'!C50 = 1,'Solar Profiles'!$T$3*'Inputs and Totals'!$B$9*'Inputs and Totals'!$B$8*0.001, IF('Inputs and Totals'!C50 =2,'Solar Profiles'!$T$4*'Inputs and Totals'!$B$8*'Inputs and Totals'!$B$9*0.001,IF('Inputs and Totals'!C50 =3,'Solar Profiles'!$T$5*'Inputs and Totals'!$B$8*'Inputs and Totals'!$B$9*0.001,\"Error\")))","v":199.98000000000002},{"$f":"IF('Inputs and Totals'!C50 = 1,'Solar Profiles'!$U$3*'Inputs and Totals'!$B$9*'Inputs and Totals'!$B$8*0.001, IF('Inputs and Totals'!C50 =2,'Solar Profiles'!$U$4*'Inputs and Totals'!$B$8*'Inputs and Totals'!$B$9*0.001,IF('Inputs and Totals'!C50 =3,'Solar Profiles'!$U$5*'Inputs and Totals'!$B$8*'Inputs and Totals'!$B$9*0.001,\"Error\")))","v":0},{"$f":"IF('Inputs and Totals'!C50 = 1,'Solar Profiles'!$V$3*'Inputs and Totals'!$B$9*'Inputs and Totals'!$B$8*0.001, IF('Inputs and Totals'!C50 =2,'Solar Profiles'!$V$4*'Inputs and Totals'!$B$8*'Inputs and Totals'!$B$9*0.001,IF('Inputs and Totals'!C50 =3,'Solar Profiles'!$V$5*'Inputs and Totals'!$B$8*'Inputs and Totals'!$B$9*0.001,\"Error\")))","v":0},{"$f":"IF('Inputs and Totals'!C50 = 1,'Solar Profiles'!$W$3*'Inputs and Totals'!$B$9*'Inputs and Totals'!$B$8*0.001, IF('Inputs and Totals'!C50 =2,'Solar Profiles'!$W$4*'Inputs and Totals'!$B$8*'Inputs and Totals'!$B$9*0.001,IF('Inputs and Totals'!C50 =3,'Solar Profiles'!$W$5*'Inputs and Totals'!$B$8*'Inputs and Totals'!$B$9*0.001,\"Error\")))","v":0},{"$f":"IF('Inputs and Totals'!C50 = 1,'Solar Profiles'!$X$3*'Inputs and Totals'!$B$9*'Inputs and Totals'!$B$8*0.001, IF('Inputs and Totals'!C50 =2,'Solar Profiles'!$X$4*'Inputs and Totals'!$B$8*'Inputs and Totals'!$B$9*0.001,IF('Inputs and Totals'!C50 =3,'Solar Profiles'!$X$5*'Inputs and Totals'!$B$8*'Inputs and Totals'!$B$9*0.001,\"Error\")))","v":0},{"$f":"IF('Inputs and Totals'!C50 = 1,'Solar Profiles'!$Y$3*'Inputs and Totals'!$B$9*'Inputs and Totals'!$B$8*0.001, IF('Inputs and Totals'!C50 =2,'Solar Profiles'!$Y$4*'Inputs and Totals'!$B$8*'Inputs and Totals'!$B$9*0.001,IF('Inputs and Totals'!C50 =3,'Solar Profiles'!$Y$5*'Inputs and Totals'!$B$8*'Inputs and Totals'!$B$9*0.001,\"Error\")))","v":0},{"$f":"IF('Inputs and Totals'!C50 = 1,'Solar Profiles'!$Z$3*'Inputs and Totals'!$B$9*'Inputs and Totals'!$B$8*0.001, IF('Inputs and Totals'!C50 =2,'Solar Profiles'!$Z$4*'Inputs and Totals'!$B$8*'Inputs and Totals'!$B$9*0.001,IF('Inputs and Totals'!C50 =3,'Solar Profiles'!$Z$5*'Inputs and Totals'!$B$8*'Inputs and Totals'!$B$9*0.001,\"Error\")))","v":0},9199.08]
[]
["Battery Power Consumed (kWh)","Hour 0","Hour 1","Hour 2","Hour 3","Hour 4","Hour 5","Hour 6","Hour 7","Hour 8","Hour 9","Hour 10","Hour 11","Hour 12","Hour 13","Hour 14","Hour 15","Hour 16","Hour 17","Hour 18","Hour 19","Hour 20","Hour 21","Hour 22","Hour 23","TOTALS",null,"Initial Battery Charge Day 0",{"$f":"'Inputs and Totals'!B15","v":6000}]
["Day 1",{"$f":"IF(AC67-B2>0,B2,AC67)","v":282.1822638736918},{"$f":"IF(C2-C35>0,IF(B134>C2,C2,B134),0)","v":196.94521981428394},{"$f":"IF(D2-D35>0,IF(C134>D2,D2,C134),0)","v":194.56281796169179},196.15108586341992,201.18060088555885,232.15182496925672,315.00646717607242,389.39034724033826,342.27173282240472,0,0,0,0,0,0,0,0,404.74360362370987,424.06752976140172,419.03801473926274,412.42023181539565,387.27265670470086,332.74212541203616,210.44549697897276,{"$f":"SUM(B68:Y68)","v":4940.5720196421989}]
["Day 2",{"$f":"IF(Y134-B3>0,B3,Y134)","v":282.1822638736918},{"$f":"IF(C3-C36>0,IF(B135>C3,C3,B135),0)","v":196.94521981428394},194.56281796169179,196.15108586341992,201.18060088555885,232.15182496925672,315.00646717607242,389.39034724033826,342.27173282240472,327.44789907294256,0,0,0,0,0,0,0,404.74360362370987,424.06752976140172,419.03801473926274,412.42023181539565,387.27265670470086,332.74212541203616,210.44549697897276,{"$f":"SUM(B69:Y69)","v":5268.019918715142}]
["Day 3",{"$f":"IF(Y135-B4>0,B4,Y135)","v":263.37013003512754},{"$f":"IF(C4-C37>0,IF(B136>C4,C4,B136),0)","v":183.81555041851303},181.59197521183748,183.07435868295454,187.76857300815848,119.00008467596794,0,0,0,0,0,0,0,0,0,0,0,377.76072122299252,395.79638678824983,391.10217246304586,384.92557466672486,361.45450304070511,310.55933719902004,196.41580992300788,3536.6351773363053]
["Day 4",290.24463898426569,{"$f":"IF(C5-C38>0,IF(B137>C5,C5,B137),0)","v":202.5722433436151},200.12177265800685,201.7554197817457,206.92863567358529,238.78475458649251,324.00667954153488,400.51581983663687,0,0,0,0,0,0,0,0,0,416.30774203277883,436.18378203826796,431.01056614642835,424.20370313084987,398.33762367165178,342.24907242328516,216.45824389539516,4729.6806977445403]
["Day 5",282.1822638736918,{"$f":"IF(C6-C39>0,IF(B138>C6,C6,B138),0)","v":196.94521981428394},194.56281796169179,196.15108586341992,201.18060088555885,232.15182496925672,315.00646717607242,389.39034724033826,342.27173282240472,327.44789907294256,0,0,0,0,0,0,0,404.74360362370987,424.06752976140172,419.03801473926274,412.42023181539565,387.27265670470086,332.74212541203616,210.44549697897276,5268.019918715142]
["Day 6",244.55798017811156,{"$f":"IF(C7-C40>0,IF(B139>C7,C7,B139),0)","v":170.68586984288461},168.62112141736586,169.9976203677117,174.35653371047351,116.38047221283324,0,0,0,0,0,0,0,0,0,0,0,0,367.52521974234025,363.16630639957839,357.4308941064707,335.6363273926616,288.37653009745424,182.38611092082428,2939.1209863887098]
["Day 7",276.80736849124486,{"$f":"IF(C8-C41>0,IF(B140>C8,C8,B140),0)","v":193.19388570120654},190.85686289030485,192.41487809757265,197.34859292058732,227.7298894623093,309.00634944144593,381.973394981821,335.75227716620975,0,0,0,0,0,0,0,0,397.0342086520763,415.9900603405012,411.05634551748648,404.56461548720404,379.89604137213064,326.40418592260301,206.4370149629828,4846.465971407687]
["Day 8",279.4948161824683,{"$f":"IF(C9-C42>0,IF(B141>C9,C9,B141),0)","v":195.06955275774524},192.70984042599832,194.28298198049629,199.26459690307308,229.94085721578301,312.00640830875921,385.68187111107966,339.01200499430723,324.3293504856598,0,0,0,0,0,0,0,400.88890613789312,420.02879505095143,415.04718012837458,408.49242365129982,383.58434903841578,329.57315566731961,208.44125597097778,5217.8483460106027]
["Day 9",241.87051646843631,{"$f":"IF(C10-C43>0,IF(B142>C10,C10,B142),0)","v":168.81019160648839},166.76813283705508,168.12950535001062,172.44051830770317,198.98728231033644,120.39164571941606,0,0,0,0,0,0,0,0,0,0,0,363.48646095913227,359.17544800143963,353.50306253079151,331.94799774232871,285.20754146418807,180.38185796661057,3111.100161263937]
["Day 10",266.05757772635098,{"$f":"IF(C11-C44>0,IF(B143>C11,C11,B143),0)","v":185.69121747505173},183.44495274753095,184.94246256587817,189.68457699064425,218.88601844841446,297.00611397219296,367.13949046478643,322.71336585381971,0,0,0,0,0,0,0,0,381.61541870880927,399.83512149870012,395.09300707393396,388.85338283082069,365.14281070699025,313.72830694373658,198.42005093100286,4658.2538749386631]
["Day 11",263.37013003512754,{"$f":"IF(C12-C45>0,IF(B144>C12,C12,B144),0)","v":183.81555041851303},181.59197521183748,183.07435868295454,187.76857300815848,216.67505069494075,294.00605510487969,363.43101433552778,319.45363802572223,0,0,0,0,0,0,0,0,377.76072122299252,395.79638678824983,391.10217246304586,384.92557466672486,361.45450304070511,310.55933719902004,196.41580992300788,4611.2008508214076]
["Day 12",255.30777094300538,{"$f":"IF(C13-C46>0,IF(B145>C13,C13,B145),0)","v":178.18853806903942},176.03303156013976,177.47003589940621,182.02054964041659,210.04213425611229,285.00586062117861,352.30556384349057,309.67443511191925,0,0,0,0,0,0,0,0,366.19660578973287,383.68015858414134,379.1296448431309,373.14212676285405,350.38955805780199,301.0524090763206,190.40307495280419,4470.0414980114938]
["Day 13",295.61953436671263,{"$f":"IF(C14-C47>0,IF(B146>C14,C14,B146),0)","v":206.3235774566925},203.82772772939381,205.49162754759294,210.76064363855684,243.20669009343993,330.00679727616136,407.93277209515412,0,0,0,0,0,0,0,0,0,424.01713700441235,444.26125145916853,438.99223536820455,432.05931945904155,405.71423900422201,348.58701191271837,220.46672591138511,4817.2672903228558]
["Day 14",284.86971156491524,{"$f":"IF(C15-C48>0,IF(B147>C15,C15,B147),0)","v":198.82088687082265},196.41579549738529,198.01918974634353,203.09660486804464,234.36279272273043,318.00652604338569,393.09882336959691,345.5314606505022,0,0,0,0,0,0,0,0,408.59830110952663,428.106264471852,423.02884935015084,416.34803997949149,390.96096437098601,335.91109515675276,212.44973798696773,4987.6250437594545]
["Day 15",279.4948161824683,{"$f":"IF(C16-C49>0,IF(B148>C16,C16,B148),0)","v":195.06955275774524},192.70984042599832,194.28298198049629,199.26459690307308,229.94085721578301,312.00640830875921,385.68187111107966,0,0,0,0,0,0,0,0,0,400.88890613789312,420.02879505095143,415.04718012837458,408.49242365129982,383.58434903841578,329.57315566731961,208.44125597097778,4554.5069905306354]
["Day 16",263.37013003512754,{"$f":"IF(C17-C50>0,IF(B149>C17,C17,B149),0)","v":183.81555041851303},181.59197521183748,183.07435868295454,187.76857300815848,216.67505069494075,294.00605510487969,363.43101433552778,0,0,0,0,0,0,0,0,0,0,395.79638678824983,391.10217246304586,384.92557466672486,361.45450304070511,310.55933719902004,196.41580992300788,3913.9864915726935]
["Day 17",282.1822638736918,{"$f":"IF(C18-C51>0,IF(B150>C18,C18,B150),0)","v":196.94521981428394},194.56281796169179,196.15108586341992,201.18060088555885,232.15182496925672,315.00646717607242,389.39034724033826,342.27173282240472,327.44789907294256,0,0,0,0,0,0,0,404.74360362370987,424.06752976140172,419.03801473926274,412.42023181539565,387.27265670470086,332.74212541203616,210.44549697897276,5268.019918715142]
["Day 18",255.30777094300538,{"$f":"IF(C19-C52>0,IF(B151>C19,C19,B151),0)","v":178.18853806903942},176.03303156013976,177.47003589940621,182.02054964041659,210.04213425611229,285.00586062117861,205.0286259979863,0,0,0,0,0,0,0,0,0,0,383.68015858414134,379.1296448431309,373.14212676285405,350.38955805780199,301.0524090763206,190.40307495280419,3646.8935192643371]
["Day 19",260.6826823439041,{"$f":"IF(C20-C53>0,IF(B152>C20,C20,B152),0)","v":181.93988336197432},179.73899767614401,181.20625480003091,185.85256902567269,214.46408294146704,291.00599623756648,359.72253820626918,316.19391019762475,0,0,0,0,0,0,0,0,373.90602373717576,391.75765207779961,387.11133785215776,380.99776650262908,357.76619537442002,307.39036745430343,194.41156891501291,4564.1478267041521]
["Day 20",266.05757772635098,{"$f":"IF(C21-C54>0,IF(B153>C21,C21,B153),0)","v":185.69121747505173},183.44495274753095,184.94246256587817,189.68457699064425,218.88601844841446,297.00611397219296,367.13949046478643,322.71336585381971,0,0,0,0,0,0,0,0,381.61541870880927,399.83512149870012,395.09300707393396,388.85338283082069,365.14281070699025,313.72830694373658,198.42005093100286,4658.2538749386631]
["Day 21",292.93208667548919,{"$f":"IF(C22-C55>0,IF(B154>C22,C22,B154),0)","v":204.4479104001538},201.97475019370032,203.62352366466931,208.84463965607108,240.99572233996622,327.00673840884815,404.22429596589546,0,0,0,0,0,0,0,0,0,420.16243951859559,440.22251674871825,435.00140075731645,428.13151129494571,402.02593133793687,345.41804216800176,218.46248490339013,4773.4739940336976]
["Day 22",247.245427869335,{"$f":"IF(C23-C56>0,IF(B155>C23,C23,B155),0)","v":172.56153689942332},170.47409895305933,171.86572425063534,176.2725376929593,203.40923099569116,276.00568401923891,341.18013545571466,299.89525162762675,0,0,0,0,0,0,0,0,354.63251333228254,371.56395445279054,367.15714101046649,361.35870227056654,339.32463505894668,291.54549984217084,184.39035192881926,4328.8824256597263]
["Day 23",276.80736849124486,{"$f":"IF(C24-C57>0,IF(B156>C24,C24,B156),0)","v":193.19388570120654},190.85686289030485,192.41487809757265,197.34859292058732,227.7298894623093,309.00634944144593,381.973394981821,335.75227716620975,321.21080189837704,0,0,0,0,0,0,0,397.0342086520763,415.9900603405012,411.05634551748648,404.56461548720404,379.89604137213064,326.40418592260301,206.4370149629828,5167.6767733060642]
["Day 24",260.6826823439041,{"$f":"IF(C25-C58>0,IF(B157>C25,C25,B157),0)","v":181.93988336197432},179.73899767614401,181.20625480003091,185.85256902567269,214.46408294146704,291.00599623756648,83.346934358020803,0,0,0,0,0,0,0,0,0,0,391.75765207779961,387.11133785215776,380.99776650262908,357.76619537442002,307.39036745430343,194.41156891501291,3597.6722889211032]
["Day 25",247.245427869335,{"$f":"IF(C26-C59>0,IF(B158>C26,C26,B158),0)","v":172.56153689942332},170.47409895305933,171.86572425063534,176.2725376929593,203.40923099569116,276.00568401923891,341.18013545571466,299.89525162762675,0,0,0,0,0,0,0,0,354.63251333228254,371.56395445279054,367.15714101046649,361.35870227056654,339.32463505894668,291.54549984217084,184.39035192881926,4328.8824256597263]
["Day 26",249.93287556055847,{"$f":"IF(C27-C60>0,IF(B159>C27,C27,B159),0)","v":174.43720395596202},172.32707648875279,173.73382813355894,178.18854167544507,205.62019874916487,279.00574288655213,344.88861158497326,303.15497945572429,0,0,0,0,0,0,0,0,358.48721081809936,375.60268916324077,371.14797562135465,365.28651043466238,343.01294272523182,294.71446958688745,186.39459293681423,4375.9354497769837]
["Day 27",244.55798017811156,{"$f":"IF(C28-C61>0,IF(B160>C28,C28,B160),0)","v":170.68586984288461},168.62112141736586,169.9976203677117,174.35653371047351,201.19826324221745,273.00562515192564,337.47165932645601,296.63552379952927,0,0,0,0,0,0,0,0,350.77781584646578,367.52521974234025,363.16630639957839,357.4308941064707,335.6363273926616,288.37653009745424,182.38611092082428,4281.8294015424717]
["Day 28",266.05757772635098,{"$f":"IF(C29-C62>0,IF(B161>C29,C29,B161),0)","v":185.69121747505173},183.44495274753095,184.94246256587817,189.68457699064425,218.88601844841446,297.00611397219296,28.13405043026745,0,0,0,0,0,0,0,0,0,381.61541870880927,399.83512149870012,395.09300707393396,388.85338283082069,365.14281070699025,313.72830694373658,198.42005093100286,3996.5350690503255]
["Day 29",295.61953436671263,{"$f":"IF(C30-C63>0,IF(B162>C30,C30,B162),0)","v":206.3235774566925},203.82772772939381,205.49162754759294,210.76064363855684,243.20669009343993,330.00679727616136,407.93277209515412,0,0,0,0,0,0,0,0,0,424.01713700441235,444.26125145916853,438.99223536820455,432.05931945904155,405.71423900422201,348.58701191271837,220.46672591138511,4817.2672903228558]
["Day 30",271.43247310879792,{"$f":"IF(C31-C64>0,IF(B163>C31,C31,B163),0)","v":189.44255158812913},187.15090781891791,188.67867033172541,193.51658495561577,223.30795395536188,303.00623170681945,374.55644272330375,0,0,0,0,0,0,0,0,0,0,407.91259091960063,403.07467629571022,396.70899915901236,372.51942603956047,320.06624643316979,202.42853294699282,4033.8022879827176]
["Day 31",268.74502541757448,{"$f":"IF(C32-C65>0,IF(B164>C32,C32,B164),0)","v":187.56688453159043},185.29793028322445,186.81056644880178,191.60058097313001,221.09698620188817,300.00617283950618,370.84796659404509,325.97309368191725,0,0,0,0,0,0,0,0,385.47011619462603,403.8738562091504,399.08384168482212,392.78119099491653,368.83111837327533,316.89727668845319,200.42429193899784,4705.3068990559195]
[]
["Supp. Power Generated (kWh)","Hour 0","Hour 1","Hour 2","Hour 3","Hour 4","Hour 5","Hour 6","Hour 7","Hour 8","Hour 9","Hour 10","Hour 11","Hour 12","Hour 13","Hour 14","Hour 15","Hour 16","Hour 17","Hour 18","Hour 19","Hour 20","Hour 21","Hour 22","Hour 23","TOTALS",null,"Supp Gen Capacity",{"$f":"'Inputs and Totals'!B17","v":0}]
["Day 1",{"$f":"IF(B2-B35-B68>0,IF(B2-B35-B68<$AC$100,B2-B35-B68,$AC$100),0)","v":0},{"$f":"IF(C2-C35-C68>0,IF(C2-C35-C68<$AC$100,C2-C35-C68,$AC$100),0)","v":0},0,0,0,0,0,0,0,0,0,0,0,0,0,0,0,0,0,0,0,0,0,0,{"$f":"SUM(B101:Y101)","v":0}]
["Day 2",{"$f":"IF(B3-B36-B69>0,IF(B3-B36-B69<$AC$100,B3-B36-B69,$AC$100),0)","v":0},0,0,0,0,0,0,0,0,0,0,0,0,0,0,0,0,0,0,0,0,0,0,0,{"$f":"SUM(B102:Y102)","v":0}]
["Day 3",{"$f":"IF(B4-B37-B70>0,IF(B4-B37-B70<$AC$100,B4-B37-B70,$AC$100),0)","v":0},0,0,0,0,0,0,0,0,0,0,0,0,0,0,0,0,0,0,0,0,0,0,0,0]
["Day 4",{"$f":"IF(B5-B38-B71>0,IF(B5-B38-B71<$AC$100,B5-B38-B71,$AC$100),0)","v":0},0,0,0,0,0,0,0,0,0,0,0,0,0,0,0,0,0,0,0,0,0,0,0,0]
["Day 5",{"$f":"IF(B6-B39-B72>0,IF(B6-B39-B72<$AC$100,B6-B39-B72,$AC$100),0)","v":0},0,0,0,0,0,0,0,0,0,0,0,0,0,0,0,0,0,0,0,0,0,0,0,0]
["Day 6",{"$f":"IF(B7-B40-B73>0,IF(B7-B40-B73<$AC$100,B7-B40-B73,$AC$100),0)","v":0},0,0,0,0,0,0,0,0,0,0,0,0,0,0,0,0,0,0,0,0,0,0,0,0]
["Day 7",{"$f":"IF(B8-B41-B74>0,IF(B8-B41-B74<$AC$100,B8-B41-B74,$AC$100),0)","v":0},0,0,0,0,0,0,0,0,0,0,0,0,0,0,0,0,0,0,0,0,0,0,0,0]
["Day 8",{"$f":"IF(B9-B42-B75>0,IF(B9-B42-B75<$AC$100,B9-B42-B75,$AC$100),0)","v":0},0,0,0,0,0,0,0,0,0,0,0,0,0,0,0,0,0,0,0,0,0,0,0,0]
["Day 9",{"$f":"IF(B10-B43-B76>0,IF(B10-B43-B76<$AC$100,B10-B43-B76,$AC$100),0)","v":0},0,0,0,0,0,0,0,0,0,0,0,0,0,0,0,0,0,0,0,0,0,0,0,0]
["Day 10",{"$f":"IF(B11-B44-B77>0,IF(B11-B44-B77<$AC$100,B11-B44-B77,$AC$100),0)","v":0},0,0,0,0,0,0,0,0,0,0,0,0,0,0,0,0,0,0,0,0,0,0,0,0]
["Day 11",{"$f":"IF(B12-B45-B78>0,IF(B12-B45-B78<$AC$100,B12-B45-B78,$AC$100),0)","v":0},0,0,0,0,0,0,0,0,0,0,0,0,0,0,0,0,0,0,0,0,0,0,0,0]
["Day 12",{"$f":"IF(B13-B46-B79>0,IF(B13-B46-B79<$AC$100,B13-B46-B79,$AC$100),0)","v":0},0,0,0,0,0,0,0,0,0,0,0,0,0,0,0,0,0,0,0,0,0,0,0,0]
["Day 13",{"$f":"IF(B14-B47-B80>0,IF(B14-B47-B80<$AC$100,B14-B47-B80,$AC$100),0)","v":0},0,0,0,0,0,0,0,0,0,0,0,0,0,0,0,0,0,0,0,0,0,0,0,0]
["Day 14",{"$f":"IF(B15-B48-B81>0,IF(B15-B48-B81<$AC$100,B15-B48-B81,$AC$100),0)","v":0},0,0,0,0,0,0,0,0,0,0,0,0,0,0,0,0,0,0,0,0,0,0,0,0]
["Day 15",{"$f":"IF(B16-B49-B82>0,IF(B16-B49-B82<$AC$100,B16-B49-B82,$AC$100),0)","v":0},0,0,0,0,0,0,0,0,0,0,0,0,0,0,0,0,0,0,0,0,0,0,0,0]
["Day 16",{"$f":"IF(B17-B50-B83>0,IF(B17-B50-B83<$AC$100,B17-B50-B83,$AC$100),0)","v":0},0,0,0,0,0,0,0,0,0,0,0,0,0,0,0,0,0,0,0,0,0,0,0,0]
["Day 17",{"$f":"IF(B18-B51-B84>0,IF(B18-B51-B84<$AC$100,B18-B51-B84,$AC$100),0)","v":0},0,0,0,0,0,0,0,0,0,0,0,0,0,0,0,0,0,0,0,0,0,0,0,0]
["Day 18",{"$f":"IF(B19-B52-B85>0,IF(B19-B52-B85<$AC$100,B19-B52-B85,$AC$100),0)","v":0},0,0,0,0,0,0,0,0,0,0,0,0,0,0,0,0,0,0,0,0,0,0,0,0]
["Day 19",{"$f":"IF(B20-B53-B86>0,IF(B20-B53-B86<$AC$100,B20-B53-B86,$AC$100),0)","v":0},0,0,0,0,0,0,0,0,0,0,0,0,0,0,0,0,0,0,0,0,0,0,0,0]
["Day 20",{"$f":"IF(B21-B54-B87>0,IF(B21-B54-B87<$AC$100,B21-B54-B87,$AC$100),0)","v":0},0,0,0,0,0,0,0,0,0,0,0,0,0,0,0,0,0,0,0,0,0,0,0,0]
["Day 21",{"$f":"IF(B22-B55-B88>0,IF(B22-B55-B88<$AC$100,B22-B55-B88,$AC$100),0)","v":0},0,0,0,0,0,0,0,0,0,0,0,0,0,0,0,0,0,0,0,0,0,0,0,0]
["Day 22",{"$f":"IF(B23-B56-B89>0,IF(B23-B56-B89<$AC$100,B23-B56-B89,$AC$100),0)","v":0},0,0,0,0,0,0,0,0,0,0,0,0,0,0,0,0,0,0,0,0,0,0,0,0]
["Day 23",{"$f":"IF(B24-B57-B90>0,IF(B24-B57-B90<$AC$100,B24-B57-B90,$AC$100),0)","v":0},0,0,0,0,0,0,0,0,0,0,0,0,0,0,0,0,0,0,0,0,0,0,0,0]
["Day 24",{"$f":"IF(B25-B58-B91>0,IF(B25-B58-B91<$AC$100,B25-B58-B91,$AC$100),0)","v":0},0,0,0,0,0,0,0,0,0,0,0,0,0,0,0,0,0,0,0,0,0,0,0,0]
["Day 25",{"$f":"IF(B26-B59-B92>0,IF(B26-B59-B92<$AC$100,B26-B59-B92,$AC$100),0)","v":0},0,0,0,0,0,0,0,0,0,0,0,0,0,0,0,0,0,0,0,0,0,0,0,0]
["Day 26",{"$f":"IF(B27-B60-B93>0,IF(B27-B60-B93<$AC$100,B27-B60-B93,$AC$100),0)","v":0},0,0,0,0,0,0,0,0,0,0,0,0,0,0,0,0,0,0,0,0,0,0,0,0]
["Day 27",{"$f":"IF(B28-B61-B94>0,IF(B28-B61-B94<$AC$100,B28-B61-B94,$AC$100),0)","v":0},0,0,0,0,0,0,0,0,0,0,0,0,0,0,0,0,0,0,0,0,0,0,0,0]
["Day 28",{"$f":"IF(B29-B62-B95>0,IF(B29-B62-B95<$AC$100,B29-B62-B95,$AC$100),0)","v":0},0,0,0,0,0,0,0,0,0,0,0,0,0,0,0,0,0,0,0,0,0,0,0,0]
["Day 29",{"$f":"IF(B30-B63-B96>0,IF(B30-B63-B96<$AC$100,B30-B63-B96,$AC$100),0)","v":0},0,0,0,0,0,0,0,0,0,0,0,0,0,0,0,0,0,0,0,0,0,0,0,0]
["Day 30",{"$f":"IF(B31-B64-B97>0,IF(B31-B64-B97<$AC$100,B31-B64-B97,$AC$100),0)","v":0},0,0,0,0,0,0,0,0,0,0,0,0,0,0,0,0,0,0,0,0,0,0,0,0]
["Day 31",{"$f":"IF(B32-B65-B98>0,IF(B32-B65-B98<$AC$100,B32-B65-B98,$AC$100),0)","v":0},0,0,0,0,0,0,0,0,0,0,0,0,0,0,0,0,0,0,0,0,0,0,0,0]
[]
["Excess Battery Power (kWh)","Hour 0","Hour 1","Hour 2","Hour 3","Hour 4","Hour 5","Hour 6","Hour 7","Hour 8","Hour 9","Hour 10","Hour 11","Hour 12","Hour 13","Hour 14","Hour 15","Hour 16","Hour 17","Hour 18","Hour 19","Hour 20","Hour 21","Hour 22","Hour 23","TOTALS",null,"Max Capactiy of Batteries",{"$f":"'Inputs and Totals'!B14","v":6000}]
["Day 1",{"$f":"AC67-B68","v":5717.8177361263079},{"$f":"IF(IF(C35=0,B134-C68,IF(C35>C2,B134+C35-C2,B134-C68))>$AC$133,$AC$133,IF(C35>C2,B134+C35-C2,B134-C68))","v":5520.8725163120243},{"$f":"IF(IF(D35=0,C134-D68,IF(D35>D2,C134+D35-D2,C134-D68))>$AC$133,$AC$133,IF(D35>D2,C134+D35-D2,C134-D68))","v":5326.3096983503328},5130.1586124869127,4928.9780116013535,4696.8261866320972,4381.8197194560253,3992.4293722156872,3650.1576393932824,3722.6697403203398,4017.1328805546364,4715.5266905432527,6000,6000,6000,6000,6000,5595.2563963762905,5171.1888666148889,4752.1508518756264,4339.7306200602306,3952.45796335553,3619.7158379434936,3409.270340964521,{"$f":"SUM(B134:Y134)","v":116640.46968118285}]
["Day 2",{"$f":"IF(Y134-B69>=0,Y134-B69,0)","v":3127.0880770908293},{"$f":"IF(IF(C36=0,B135-C69,IF(C36>C3,B135+C36-C3,B135-C69))>$AC$133,$AC$133,IF(C36>C3,B135+C36-C3,B135-C69))","v":2930.1428572765453},{"$f":"IF(IF(D36=0,C135-D69,IF(D36>D3,C135+D36-D3,C135-D69))>$AC$133,$AC$133,IF(D36>D3,C135+D36-D3,C135-D69))","v":2735.5800393148534},2539.4289534514332,2338.2483525658745,2106.0965275966178,1791.0900604205453,1401.699713180207,1059.4279803578024,731.98008128485981,826.46322151915604,1324.8770315077722,2039.4182318306243,2770.1068224877122,3310.8744431890777,3633.9264056544798,3709.3503310680389,3304.606727444329,2880.5391976829274,2461.5011829436644,2049.0809511282687,1661.8082944235678,1329.0661690115317,1118.620672032559,{"$f":"SUM(B135:Y135)","v":53181.022324463265}]
["Day 3",{"$f":"IF(Y135-B70>=0,Y135-B70,0)","v":855.25054199743147},{"$f":"IF(IF(C37=0,B136-C70,IF(C37>C4,B136+C37-C4,B136-C70))>$AC$133,$AC$133,IF(C37>C4,B136+C37-C4,B136-C70))","v":671.43499157891847},489.84301636708096,306.76865768412642,119.00008467596794,0,0,0,0,94.341941038036794,409.1701867598594,1127.6643911594745,2661.1494941821129,4409.6854958277745,5367.6899261238441,6000,6000,5622.2392787770077,5226.4428919887578,4835.3407195257123,4450.4151448589873,4088.9606418182821,3778.4013046192622,3581.9854946962541,60095.784203678893]
["Day 4",3291.7408557119884,3089.1686123683735,2889.0468397103668,2687.2914199286211,2480.3627842550359,2241.5780296685434,1917.5713501270086,1517.0555302903717,1564.9645751246537,1828.1009931138315,2313.8161963147295,3603.535517324975,5309.8235840932311,6000,6000,6000,6000,5583.6922579672209,5147.508475928953,4716.4979097825244,4292.2942066516744,3893.9565829800226,3551.7075105567374,3335.2492666613421,89254.962498560184]
["Day 5",3053.0670027876504,2856.1217829733664,2661.5589650116744,2465.4078791482543,2264.2272782626956,2032.0754532934388,1717.0689861173664,1327.6786388770281,985.40690605462339,657.95900698168089,752.44214721597712,1250.8559572045933,1965.3971575274454,2696.0857481845333,3236.8533688858988,3559.9053313513009,3635.32925676486,3230.58565314115,2806.5181233797484,2387.4801086404859,1975.0598768250902,1587.7872201203893,1255.0450947083532,1044.5995977293805,51404.516541186975]
["Day 6",800.04161755126893,629.35574770838434,460.73462629101846,290.73700592330675,116.38047221283324,0,0,0,103.32447620047077,419.47627593750275,954.64964448765227,2293.1842604136664,4045.6732823348634,5812.1567102512427,6000,6000,6000,6000,5632.4747802576594,5269.308473858081,4911.87757975161,4576.2412523589483,4287.8647222614936,4105.478611340669,68708.959539140676]
["Day 7",3828.6712428494243,3635.4773571482178,3444.6204942579129,3252.2056161603405,3054.8570232397533,2827.1271337774442,2518.1207843359985,2136.1473893541774,1800.3951121879677,1879.1443102895907,2179.4260520917514,2883.5628319120819,4403.4594330063019,6000,6000,6000,6000,5602.9657913479241,5186.9757310074228,4775.9193854899368,4371.3547700027329,3991.4587286306023,3665.0545427079992,3458.6175277450166,92895.561257542577]
["Day 8",3179.1227115625484,2984.0531588048029,2791.3433183788047,2597.0603363983082,2397.795739495235,2167.8548822794519,1855.8484739706928,1470.1666028596132,1131.154597865306,806.82524737964616,904.21768839787455,1405.502983302348,2122.7618840108835,2856.0143905234818,3399.2501268812339,3724.9391158804256,3803.4538582446785,3402.5649521067853,2982.5361570558339,2567.4889769274591,2158.9965532761594,1775.4122042377435,1445.839048570424,1237.3977925994461,55167.600801009175]
["Day 9",995.52727613100978,826.7170845245214,659.94895168746632,491.8194463374557,319.3789280297525,120.39164571941606,0,0,106.58422345807872,425.85459037040914,963.93727704529147,2305.3433950025628,4060.5501335082154,5829.5974925622495,6000,6000,6000,6000,5636.5135390408677,5277.338091039428,4923.8350285086362,4591.8870307663074,4306.6794893021197,4126.2976313355093,69968.201254369284]
["Day 10",3860.2400536091582,3674.5488361341063,3491.1038833865755,3306.1614208206975,3116.4768438300534,2897.5908253816388,2600.5847114094458,2233.4452209446595,1910.7318550908399,2001.955247541594,2313.874192479484,3029.4969119632424,4560.2643146001965,6000,6000,6000,6000,5618.3845812911904,5218.5494597924899,4823.4564527185557,4434.6030698877348,4069.4602591807447,3755.731952237008,3557.311901306005,94473.971993605417]
["Day 11",3293.9417712708773,3110.1262208523644,2928.5342456405269,2745.4598869575725,2557.6913139494141,2341.0162632544734,2047.0102081495938,1683.579193814066,1364.1255557883437,1458.4674968263805,1773.295742548203,2491.789946947818,4025.2750499704562,5773.8110516161178,6000,6000,6000,5622.2392787770077,5226.4428919887578,4835.3407195257123,4450.4151448589873,4088.9606418182821,3778.4013046192622,3581.9854946962541,87177.909423870471]
["Day 12",3326.6777237532488,3148.4891856842091,2972.4561541240691,2794.9861182246627,2612.9655685842463,2402.9234343281341,2117.9175737069554,1765.6120098634649,1455.9375747515455,1559.6351801394464,1883.1913455538663,2610.3000218164525,4151.938242194914,5908.1660066892518,6000,6000,6000,5633.8033942102675,5250.1232356261262,4870.9935907829949,4497.8514640201411,4147.4619059623392,3846.4094968860186,3656.0064219332144,88613.845648835559]
["Day 13",3360.3868875665016,3154.0633101098092,2950.2355823804155,2744.7439548328225,2533.9833111942658,2290.7766211008257,1960.7698238246644,1552.8370517295102,1594.2266409075971,1851.125961722209,2331.0225633552427,3614.998914533774,5315.8515805306633,6000,6000,6000,6000,5575.9828629955873,5131.721611536419,4692.729376168214,4260.6700567091721,3854.9558177049503,3506.3688057922318,3285.9020798808465,89563.352814575715]
["Day 14",3001.0323683159313,2802.2114814451088,2605.7956859477235,2407.7764962013798,2204.679891333335,1970.3170986106047,1652.310572567219,1259.2117491976221,{"$f":"IF(IF(J48=0,I147-J81,IF(J48>J15,I147+J48-J15,I147-J81))>$AC$133,$AC$133,IF(J48>J15,I147+J48-J15,I147-J81))","v":913.68028854711997},983.07384088689469,1274.6276803372587,1970.1500054100179,3481.893505347186,5209.918180148763,6000,6000,6000,5591.4016988904732,5163.295434418621,4740.2665850684698,4323.9185450889781,3932.9575807179922,3597.0464855612395,3384.5967475742718,80470.161921616207]
["Day 15",3105.1019313918036,2910.0323786340582,2717.32253820806,2523.0395562275635,2323.7749593244903,2093.8341021087072,1781.8276937999481,1396.1458226888685,1457.0938176945613,1732.7044672089019,2230.0569082271304,3531.2622031316041,5248.4211038401399,6000,6000,6000,6000,5599.1110938621068,5179.0822988111559,4764.0351186827811,4355.5426950314813,3971.9583459930654,3642.385190325746,3433.9439343547683,87996.676159546943]
["Day 16",3170.5738043196407,2986.7582539011278,2805.1662786892903,2622.0919200063358,2434.3233469981774,2217.6482963032367,1923.6422411983572,1560.2112268628293,1640.7175888371071,1935.0395298751439,2449.8477755969661,3768.2819799965814,5501.7470830192196,6000,6000,6000,6000,6000,5604.2036132117501,5213.1014407487046,4828.1758660819796,4466.7213630412743,4156.1620258422545,3959.7462159192464,93244.159850449229]
["Day 17",3677.5639520455547,3480.6187322312708,3286.0559142695788,3089.9048284061587,2888.7242275205999,2656.5724025513432,2341.5659353752708,1952.1755881349325,1609.9038553125279,1282.4559562395852,1376.9390964738814,1875.3529064624977,2589.8941067853498,3320.5826974424376,3861.3503181438036,4184.4022806092053,4259.8262060227644,3855.0826023990544,3431.0150726376528,3011.9770578983898,2599.5568260829941,2212.2841693782934,1879.5420439662573,1669.0965469872845,66392.443323376676]
["Day 18",1413.7887760442791,1235.6002379752397,1059.5672064150999,882.09717051569373,700.07662087527717,490.03448661916491,205.0286259979863,0,90.285564888080785,393.96317027598167,917.49933569040172,2244.548011952988,3986.1662323314495,5742.3939968257873,6000,6000,6000,6000,5616.3198414158587,5237.1901965727275,4864.0480698098736,4513.6585117520717,4212.6061026757507,4022.2030277229464,71827.075186356669]
["Day 19",3761.5203453790423,3579.5804620170679,3399.8414643409237,3218.6352095408929,3032.78264051522,2818.318557573753,2527.3125613361863,2167.590023129917,1851.3961129322922,1948.856602557612,2266.5941490633668,2987.9598383788389,4524.1626417871603,6000,6000,6000,6000,5626.0939762628241,5234.3363241850248,4847.224986332867,4466.227219830238,4108.461024455818,3801.0706570015145,3606.6590880865015,93774.623884707049]
["Day 20",3340.6015103601503,3154.9102928850984,2971.4653401375676,2786.5228775716896,2596.8383005810456,2377.9522821326309,2080.946168160438,1713.8066776956516,1391.093311841832,1482.3167042925861,1794.2356492304764,2509.8583687142345,4040.6257713511886,5786.5978571413398,6000,6000,6000,5618.3845812911904,5218.5494597924899,4823.4564527185557,4434.6030698877348,4069.4602591807447,3755.731952237008,3557.311901306005,87505.268788509653]
["Day 21",3264.3798146305157,3059.9319042303619,2857.9571540366614,2654.3336303719921,2445.4889907159209,2204.4932683759548,1877.4865299671067,1473.2622340012113,1517.9115510073957,1777.9294204092905,2260.7353228262564,3547.5831589206446,5251.153525303218,6000,6000,6000,6000,5579.8375604814046,5139.615043732686,4704.6136429753697,4276.4821316804237,3874.4562003424867,3529.038158174485,3310.5756732710947,88607.264915454492]
["Day 22",3063.3302454017598,2890.7687085023367,2720.2946095492775,2548.4288852986424,2372.1563476056831,2168.7471166099917,1892.7414325907528,1551.5612971350381,1251.6660455074114,1364.7192966571606,1697.0033644233777,2432.7264954335346,3982.517816969048,5746.4373290299172,6000,6000,6000,5645.3674866677175,5273.8035322149271,4906.646391204461,4545.2876889338941,4205.963053874947,3914.417554032776,3730.0272021039568,85904.611899746611]
["Day 23",3453.2198336127121,3260.0259479115057,3069.1690850212008,2876.7542069236283,2679.4056140030411,2451.6757245407316,2142.6693750992858,1760.6959801174648,1424.9437029512551,1103.7329010528781,1204.034642855039,1708.1914226753693,2428.1680237695891,3163.9844461376979,3709.6882981518361,4038.0143136848174,4119.619872999765,3722.5856643476886,3306.5956040071874,2895.5392584897008,2490.974643002497,2111.0786016303664,1784.6744157077633,1578.2374007447804,62483.678979437806]
["Day 24",1317.5547184008763,1135.6148350389019,955.87583736275792,774.66958256272699,588.81701353705432,374.35293059558728,83.346934358020803,0,83.766089802375291,381.20657942769486,898.92412593344977,2220.229815248922,3956.4126186572444,5707.512536158416,6000,6000,6000,6000,5608.2423479222007,5221.131010070043,4840.133243567414,4482.3670481929939,4174.9766807386904,3980.5651118236774,70785.699059399034]
["Day 25",3733.3196839543425,3560.7581470549194,3390.2840481018602,3218.4183238512251,3042.1457861582658,2838.7365551625744,2562.7308711433357,2221.550735687621,1921.6554840599943,2034.7087352097433,2366.9928029759603,3102.7159339861173,4652.5072555216302,6000,6000,6000,6000,5645.3674866677175,5273.8035322149271,4906.646391204461,4545.2876889338941,{"$f":"IF(IF(W59=0,V158-W92,IF(W59>W26,V158+W59-W26,V158-W92))>$AC$133,$AC$133,IF(W59>W26,V158+W59-W26,V158-W92))","v":4205.963053874947},3914.417554032776,3730.0272021039568,94868.037271900263]
["Day 26",3480.0943265433984,3305.6571225874363,3133.3300460986834,2959.5962179651247,2781.4076762896798,2575.7874775405148,2296.7817346539628,1951.8931230689896,1648.7381436132653,1658.6828461757316,1788.0776131580162,2320.9492592523161,3068.1028804021453,3829.558476607504,4399.9434998966353,4754.6397964854314,4867.1535437300427,4508.6663329119438,4133.0636437487028,3761.915668127348,3396.6291576926856,3053.6162149674537,2758.9017453805664,2572.5071524437521,75005.693699341326]
["Day 27",2327.9491722656408,2157.2633024227562,1988.6421810053903,1818.6445606376785,1644.288026927205,1443.0897636849875,1170.0841385330618,832.61247920660583,535.9769554070765,552.15875514410845,687.37212369425788,1225.9867396202719,1978.5757615414686,2745.1591894578482,3320.4804440597513,3680.4507937161261,3799.1461748621255,3448.3683590156597,3080.8431392733196,2717.6768328737412,2360.2459387672707,2024.6096113746091,1736.233081277155,1553.8469703563308,48829.704495124446]
["Day 28",1287.7893926299798,1102.0981751549282,918.65322240739727,733.71075984151912,544.02618285087487,325.14016440246041,28.13405043026745,0,0,91.223392450754034,403.14233738864436,1118.7650568724023,2649.5324595093566,4395.5045452995073,5351.0408599391903,6000,6000,5618.3845812911904,5218.5494597924899,4823.4564527185557,4434.6030698877348,4069.4602591807447,3755.731952237008,3557.311901306005,62426.258275591012]
["Day 29",3261.6923669392922,3055.3687894825998,2851.5410617532061,2646.0494342056131,2435.2887905670564,2192.0821004736163,1862.075303197455,1454.1425311023008,1495.5321202803877,1752.4314410949996,2232.3280427280333,3516.3043939065647,5217.157059903454,6000,6000,6000,6000,5575.9828629955873,5131.721611536419,4692.729376168214,4260.6700567091721,3854.9558177049503,3506.3688057922318,3285.9020798808465,88280.324046422]
["Day 30",3014.4696067720488,2825.0270551839199,2637.876147365002,2449.1974770332768,2255.6808920776612,2032.3729381222993,1729.3667064154797,1354.810263692176,1425.5374421821614,1710.5037374583499,2216.5840808283756,3526.4038304804199,5251.7158323460071,6000,6000,6000,6000,6000,5592.0874090803991,5189.0127327846885,4792.3037336256766,4419.7843075861165,4099.7180611529466,3897.289528205954,90419.741782392957]
["Day 31",3628.5445027883793,3440.9776182567889,3255.6796879735643,3068.8691215247627,2877.2685405516327,2656.1715543497444,2356.1653815102381,1985.317414916193,1659.3443212342759,1747.449165097747,2056.4588092517051,2769.2100438196067,4297.2597460708776,6000,6000,6000,6000,5614.5298838053741,5210.6560275962238,4811.5721859114019,4418.790994916485,4049.9598765432097,3733.0625998547566,3532.6383079157586,91169.925783888728]
[]
["Excess Demand (kWh)","Hour 0","Hour 1","Hour 2","Hour 3","Hour 4","Hour 5","Hour 6","Hour 7","Hour 8","Hour 9","Hour 10","Hour 11","Hour 12","Hour 13","Hour 14","Hour 15","Hour 16","Hour 17","Hour 18","Hour 19","Hour 20","Hour 21","Hour 22","Hour 23","TOTALS"]
["Day 1",{"$f":"IF(B2-B35-B68-B101>0,B2-B35-B68-B101,0)","v":0},{"$f":"IF(C2-C35-C68-C101>0,C2-C35-C68-C101,0)","v":0},0,0,0,0,0,0,0,0,0,0,0,0,0,0,0,0,0,0,0,0,0,0,{"$f":"SUM(B167:Y167)","v":0}]
["Day 2",{"$f":"IF(B3-B36-B69-B102>0,B3-B36-B69-B102,0)","v":0},0,0,0,0,0,0,0,0,0,0,0,0,0,0,0,0,0,0,0,0,0,0,0,{"$f":"SUM(B168:Y168)","v":0}]
["Day 3",{"$f":"IF(B4-B37-B70-B103>0,B4-B37-B70-B103,0)","v":0},0,0,0,0,97.67496601897281,294.00605510487969,163.45101433552776,119.47363802572221,0,0,0,0,0,0,0,0,0,0,0,0,0,0,0,674.60567348510244]
["Day 4",{"$f":"IF(B5-B38-B71-B104>0,B5-B38-B71-B104,0)","v":0},0,0,0,0,0,0,0,0,0,0,0,0,0,0,0,0,0,0,0,0,0,0,0,0]
["Day 5",{"$f":"IF(B6-B39-B72-B105>0,B6-B39-B72-B105,0)","v":0},0,0,0,0,0,0,0,0,0,0,0,0,0,0,0,0,0,0,0,0,0,0,0,0]
["Day 6",{"$f":"IF(B7-B40-B73-B106>0,B7-B40-B73-B106,0)","v":0},0,0,0,0,84.81779102938421,273.00562515192564,137.49165932645599,0,0,0,0,0,0,0,0,0,0,0,0,0,0,0,0,495.31507550776587]
["Day 7",{"$f":"IF(B8-B41-B74-B107>0,B8-B41-B74-B107,0)","v":0},0,0,0,0,0,0,0,0,0,0,0,0,0,0,0,0,0,0,0,0,0,0,0,0]
["Day 8",{"$f":"IF(B9-B42-B75-B108>0,B9-B42-B75-B108,0)","v":0},0,0,0,0,0,0,0,0,0,0,0,0,0,0,0,0,0,0,0,0,0,0,0,0]
["Day 9",{"$f":"IF(B10-B43-B76-B109>0,B10-B43-B76-B109,0)","v":0},0,0,0,0,0,149.61390268343499,133.78316109293604,0,0,0,0,0,0,0,0,0,0,0,0,0,0,0,0,283.39706377637106]
["Day 10",{"$f":"IF(B11-B44-B77-B110>0,B11-B44-B77-B110,0)","v":0},0,0,0,0,0,0,0,0,0,0,0,0,0,0,0,0,0,0,0,0,0,0,0,0]
["Day 11",{"$f":"IF(B12-B45-B78-B111>0,B12-B45-B78-B111,0)","v":0},0,0,0,0,0,0,0,0,0,0,0,0,0,0,0,0,0,0,0,0,0,0,0,0]
["Day 12",{"$f":"IF(B13-B46-B79-B112>0,B13-B46-B79-B112,0)","v":0},0,0,0,0,0,0,0,0,0,0,0,0,0,0,0,0,0,0,0,0,0,0,0,0]
["Day 13",{"$f":"IF(B14-B47-B80-B113>0,B14-B47-B80-B113,0)","v":0},0,0,0,0,0,0,0,0,0,0,0,0,0,0,0,0,0,0,0,0,0,0,0,0]
["Day 14",{"$f":"IF(B15-B48-B81-B114>0,B15-B48-B81-B114,0)","v":0},0,0,0,0,0,0,0,0,0,0,0,0,0,0,0,0,0,0,0,0,0,0,0,0]
["Day 15",{"$f":"IF(B16-B49-B82-B115>0,B16-B49-B82-B115,0)","v":0},0,0,0,0,0,0,0,0,0,0,0,0,0,0,0,0,0,0,0,0,0,0,0,0]
["Day 16",{"$f":"IF(B17-B50-B83-B116>0,B17-B50-B83-B116,0)","v":0},0,0,0,0,0,0,0,0,0,0,0,0,0,0,0,0,0,0,0,0,0,0,0,0]
["Day 17",{"$f":"IF(B18-B51-B84-B117>0,B18-B51-B84-B117,0)","v":0},0,0,0,0,0,0,0,0,0,0,0,0,0,0,0,0,0,0,0,0,0,0,0,0]
["Day 18",{"$f":"IF(B19-B52-B85-B118>0,B19-B52-B85-B118,0)","v":0},0,0,0,0,0,0,0,0,0,0,0,0,0,0,0,0,0,0,0,0,0,0,0,0]
["Day 19",{"$f":"IF(B20-B53-B86-B119>0,B20-B53-B86-B119,0)","v":0},0,0,0,0,0,0,0,0,0,0,0,0,0,0,0,0,0,0,0,0,0,0,0,0]
["Day 20",{"$f":"IF(B21-B54-B87-B120>0,B21-B54-B87-B120,0)","v":0},0,0,0,0,0,0,0,0,0,0,0,0,0,0,0,0,0,0,0,0,0,0,0,0]
["Day 21",{"$f":"IF(B22-B55-B88-B121>0,B22-B55-B88-B121,0)","v":0},0,0,0,0,0,0,0,0,0,0,0,0,0,0,0,0,0,0,0,0,0,0,0,0]
["Day 22",{"$f":"IF(B23-B56-B89-B122>0,B23-B56-B89-B122,0)","v":0},0,0,0,0,0,0,0,0,0,0,0,0,0,0,0,0,0,0,0,0,0,0,0,0]
["Day 23",{"$f":"IF(B24-B57-B90-B123>0,B24-B57-B90-B123,0)","v":0},0,0,0,0,0,0,0,0,0,0,0,0,0,0,0,0,0,0,0,0,0,0,0,0]
["Day 24",{"$f":"IF(B25-B58-B91-B124>0,B25-B58-B91-B124,0)","v":0},0,0,0,0,0,0,76.395603848248356,0,0,0,0,0,0,0,0,0,0,0,0,0,0,0,0,76.395603848248356]
["Day 25",{"$f":"IF(B26-B59-B92-B125>0,B26-B59-B92-B125,0)","v":0},0,0,0,0,0,0,0,0,0,0,0,0,0,0,0,0,0,0,0,0,0,0,0,0]
["Day 26",{"$f":"IF(B27-B60-B93-B126>0,B27-B60-B93-B126,0)","v":0},0,0,0,0,0,0,0,0,0,0,0,0,0,0,0,0,0,0,0,0,0,0,0,0]
["Day 27",{"$f":"IF(B28-B61-B94-B127>0,B28-B61-B94-B127,0)","v":0},0,0,0,0,0,0,0,0,0,0,0,0,0,0,0,0,0,0,0,0,0,0,0,0]
["Day 28",{"$f":"IF(B29-B62-B95-B128>0,B29-B62-B95-B128,0)","v":0},0,0,0,0,0,0,139.02544003451897,122.73336585381969,0,0,0,0,0,0,0,0,0,0,0,0,0,0,0,261.75880588833866]
["Day 29",{"$f":"IF(B30-B63-B96-B129>0,B30-B63-B96-B129,0)","v":0},0,0,0,0,0,0,0,0,0,0,0,0,0,0,0,0,0,0,0,0,0,0,0,0]
["Day 30",{"$f":"IF(B31-B64-B97-B130>0,B31-B64-B97-B130,0)","v":0},0,0,0,0,0,0,0,0,0,0,0,0,0,0,0,0,0,0,0,0,0,0,0,{"$f":"SUM(B196:Y196)","v":0}]
["Day 31",{"$f":"IF(B32-B65-B98-B131>0,B32-B65-B98-B131,0)","v":0},0,0,0,0,0,0,0,0,0,0,0,0,0,0,0,0,0,0,0,0,0,0,0,0]

{"sheet":"Printed Values","index":2,"n_rows":366,"n_cols":7,"rows_kept":366,"cut":false,"hidden":false,"merged":[]}
[null,"Total Solar Power Gen. (kWh)","Battery Power Consumed (kWh)","Supplemental Power Gen. (kWh)","Excess Battery (kWh)","Excess Demand (kWh)","Excess Demand (%)"]
["Day 1",9396,4754.5624035311685,0,5006.809781217341,0,0]
["Day 2",9396,4332.9858975066873,0,5058.7511957343886,0,0]
["Day 3",9396,5249.8291545144875,0,4747.1025538344784,0,0]
["Day 4",4698,6385.4727243241159,0,256.4622402091411,0,0]
["Day 5",9396,2645.7696299577051,1328.406960694387,4038.1272841705991,104.61820523248005,1.5560404817628229E-2]
["Day 6",7452,5703.3926972206918,0,2787.4869705452625,0,0]
["Day 7",4698,4760.6841826314212,653.0321281027974,0,360.72069226838425,4.7922040786276911E-2]
["Day 8",9396,2804.8391702778204,1646.5586029599694,3237.4035521717628,411.48526283712977,5.2135311693701364E-2]
["Day 9",9396,5200.3025089363655,0,4150.0039006443567,0,0]
["Day 10",4698,5069.682082762205,0,1184.3240574570234,0,0]
["Day 11",4698,3191.5562436208197,1410.5071564517027,0,574.24871639675598,7.780009454158418E-2]
["Day 12",7452,2778.8684630192965,1827.227167544178,1694.1547117018215,396.48792747750031,5.0704631467935322E-2]
["Day 13",9396,4109.4328087089089,15.457537986719899,3985.1721974176508,0,0]
["Day 14",7452,5597.7737893266622,0,2880.6926155847641,0,0]
["Day 15",9396,4903.1426354676296,0,4231.7725458902423,0,0]
["Day 16",9396,5002.1959266238755,0,4876.9560901270961,0,0]
["Day 17",4698,4805.6363868636245,0,2276.6758984671674,0,0]
["Day 18",4698,4482.032093670864,157.98048728634402,0,0,0]
["Day 19",7452,2778.8684630192965,1827.227167544178,1694.1547117018215,396.48792747750031,5.0704631467935322E-2]
["Day 20",7452,4550.9352964966893,527.27670734817139,1555.4302165489567,82.798971735262455,1.02999166468432E-2]
["Day 21",9396,3892.7960369828479,93.807382528455094,4144.0377733137084,0,0]
["Day 22",9396,5101.2492177801205,0,4825.0146756100494,0,0]
["Day 23",9396,5447.9363272311648,0,4643.2194152051334,0,0]
["Day 24",4698,4858.4455260433397,0,1969.8592932397246,0,0]
["Day 25",9396,4514.991081337057,12.247614387437409,3732.6440624031384,0,0]
["Day 26",4698,5606.2496732026157,0,150.64406240313761,0,0]
["Day 27",9396,2955.4832326809578,1601.4176115199621,3237.4035521717628,305.98219187399945,3.8768039555251481E-2]
["Day 28",4698,4911.2546652230567,0,490.96349990087253,0,0]
["Day 29",9396,3269.8319629201696,1266.0857328312086,3286.9275441576438,277.4386947454193,3.5480088540173219E-2]
["Day 30",4698,5260.1247562438039,400,0,114.31224675879983,1.5186476043548799E-2]
["Day 31",9396,2441.2488042656119,1543.3249654349161,3932.2171106647038,186.41212780615882,2.7136121341661216E-2]
["Day 32",9720,4809.1942837183915,0,4825.8250942932464,0,0]
["Day 33",9720,4714.8964447528469,0,4878.2598473407088,0,0]
["Day 34",7776,5475.4608257633454,0,3789.6195337153722,0,0]
["Day 35",5184,5683.6308282517948,0,604.69946402085338,0,0]
["Day 36",7776,3409.96156488204,1158.4233844867358,1603.9396805972856,370.37721540955238,4.7365478013267272E-2]
["Day 37",9720,4409.2017814584724,376.12025073765994,3492.1169590106647,97.617410995574971,1.2483746682717059E-2]
["Day 38",5184,4613.5826824544729,0,1539.8367673507362,0,0]
["Day 39",9720,4214.0116730574891,357.04267844816729,3752.8595174006755,76.139932212734607,1.0214421696946809E-2]
["Day 40",5184,5741.0411853545038,0,494.85951740067514,0,0]
["Day 41",9720,3273.9039292023499,1200,3544.2659680149177,361.88603244712937,4.6716192642633152E-2]
["Day 42",9720,4667.7475252700751,0,4904.4772238644373,0,0]
["Day 43",5184,6315.1454407670435,0,915.67704962814128,0,0]
["Day 44",9720,3327.6780338296999,681.61633717223003,4274.343701693977,166.41043685901366,2.4751081875764178E-2]
["Day 45",5184,5970.6826137653425,0,724.02398047205361,0,0]
["Day 46",5184,3144.3868730154732,1689.1163909316244,0,651.17934981824578,8.5677889049850908E-2]
["Day 47",7776,2752.827035277945,1648.7231962658725,1701.137551627228,435.81400688876278,5.6795426627103046E-2]
["Day 48",7776,4322.8777042865213,230.974488754643,1944.1307808481977,30.018740466327017,4.1076546888789024E-3]
["Day 49",7776,4828.0450112805756,262.81313645280636,1458.1437430647056,0,0]
["Day 50",5184,3831.4977292037647,1231.5651360062989,0,593.85150424885023,7.594435941892759E-2]
["Day 51",9720,2438.2183607252891,1574.8257915013919,4222.1953143475375,209.80957511703485,3.0870510664907775E-2]
["Day 52",5184,5913.2722566626353,0,744.9555234310933,0,0]
["Day 53",5184,3235.608637203843,1057.4651893339799,81.124299739943069,361.30349985672171,5.2041526861764068E-2]
["Day 54",7776,2912.6037771248598,1649.1861813806356,1555.341034753093,427.67086725785026,5.4186032843730046E-2]
["Day 55",9720,4308.168070031038,391.44658337696683,3596.4143553613567,89.026388758702922,1.1601948654007882E-2]
["Day 56",9720,4620.5986057873033,0,4930.6946003881694,0,0]
["Day 57",9720,4337.7048078609432,0,5087.9990157984421,0,0]
["Day 58",5184,5855.8618995599245,0,1683.8391551874799,0,0]
["Day 59",9720,4095.8401393890385,79.864668471904906,4274.343701693977,0,0]
["Day 60",10206,4585.4739888660861,0,5179.3858313756655,0,0]
["Day 61",10206,4144.5631699077276,0,5402.5217375129378,0,0]
["Day 62",10206,4100.4721142922335,0,5424.8353148267233,0,0]
["Day 63",5832,5242.6801464538548,0,2757.5955239102818,0,0]
["Day 64",10206,4850.0208481658901,0,4276.7953496739847,0,0]
["Day 65",5832,5725.6018923361007,0,1066.3157678411008,0,0]
["Day 66",5832,3669.3185680488955,872.30336947194337,16.797895702330123,275.25868869476636,3.7292468215199805E-2]
["Day 67",5832,2542.4838540575729,1766.300437071483,160.65524811395028,355.39705472917547,4.9623706730696958E-2]
["Day 68",8100,2609.0242110017321,1492.1144387179268,2254.2624728405217,254.09269889049597,3.6599069812309391E-2]
["Day 69",5832,4769.3847833437367,399.32291219555327,0,16.741892792165117,2.1612259627493704E-3]
["Day 70",10206,2097.4782624870622,1600,4735.5649248442969,285.08490742066533,4.1499974982785626E-2]
["Day 71",10206,4585.4739888660861,0,5179.3858313756655,0,0]
["Day 72",8100,5191.780386334729,0,4529.2259707647027,0,0]
["Day 73",10206,4100.4721142922335,0,5424.8353148267233,0,0]
["Day 74",8100,5598.9790740607295,0,4190.0351405904266,0,0]
["Day 75",10206,4717.7476813194089,0,5112.4448334354847,0,0]
["Day 76",8100,5242.6801464538548,0,4389.2050425190428,0,0]
["Day 77",8100,4012.2900030612464,0,5190.9248508591154,0,0]
["Day 78",5832,5039.0811059773559,0,2816.0047811645954,0,0]
["Day 79",8100,4056.3810586767395,0,3544.644659199188,0,0]
["Day 80",8100,5242.6801464538548,0,2821.4048682827447,0,0]
["Day 81",8100,5395.3794268112279,0,1878.9252864498585,0,0]
["Day 82",5832,4430.3835254226187,284.69758055473727,112.70279731007736,0,0]
["Day 83",5832,2120.9266175425832,1647.8975622661453,868.27542618324344,176.87489237072359,2.6892126901463878E-2]
["Day 84",10206,3121.9488628662189,869.67391488089572,4376.447455031147,299.57804427248948,4.0587291710860909E-2]
["Day 85",8100,5191.780386334729,0,3726.2875944201851,0,0]
["Day 86",10206,4761.838736934903,0,5090.1312561216982,0,0]
["Day 87",8100,4564.7811075293794,0,5025.8587564947011,0,0]
["Day 88",10206,4188.6542255232207,0,5380.2081601991522,0,0]
["Day 89",8100,5191.780386334729,0,4730.0482995881903,0,0]
["Day 90",8100,4937.281585739107,0,4445.2880905046322,0,0]
["Day 91",10854,3946.3479753689676,0,5559.8780404065064,0,0]
["Day 92",10854,4160.82345605716,0,5454.4366063326079,0,0]
["Day 93",6480,4258.6296931797087,0,4150.1564146726787,0,0]
["Day 94",10854,4718.4595524416764,0,5180.288953158044,0,0]
["Day 95",8748,4718.4595524416764,0,4917.4887789217455,0,0]
["Day 96",6480,5474.282062582135,0,2161.3289183107831,0,0]
["Day 97",10854,3860.5576296889089,0,5304.1290925470812,0,0]
["Day 98",8748,4375.2986810707152,0,5348.9952979546633,0,0]
["Day 99",10854,4503.9838160788495,0,5285.7305129278966,0,0]
["Day 100",8748,4203.7185010598705,0,5433.3483446570199,0,0]
["Day 101",6480,5420.6126807756036,0,2750.2684143515366,0,0]
["Day 102",8748,3989.243020371679,0,3729.8283620806465,0,0]
["Day 103",6480,5581.6208261951961,0,827.50864085872115,0,0]
["Day 104",8748,2809.8071238033922,770.8537277430853,2956.3195998533479,127.47721382791252,1.8556931801820453E-2]
["Day 105",10854,4375.2986810707152,0,5222.1597392423846,0,0]
["Day 106",6480,5742.6296114042871,0,2100.5993559225271,0,0]
["Day 107",8748,4230.5157962922749,0,2597.4072653927738,0,0]
["Day 108",10854,4718.4595524416764,0,4278.6070911564757,0,0]
["Day 109",8748,4160.82345605716,0,4965.8468820729177,0,0]
["Day 110",10854,4418.1937260734267,0,5327.9070362790744,0,0]
["Day 111",6480,4305.4277756973024,0,3950.5469143136638,0,0]
["Day 112",8748,4503.9838160788495,0,4053.1472627862599,0,0]
["Day 113",8748,4503.9838160788495,0,4155.7476112588547,0,0]
["Day 114",10854,4632.6694624362535,0,5222.4654765092209,0,0]
["Day 115",10854,4589.774417433543,0,5243.5537381848098,0,0]
["Day 116",8748,4418.1937260734267,0,5327.9070362790744,0,0]
["Day 117",10854,4075.0331103771009,0,5496.6132553797415,0,0]
["Day 118",6480,5313.2739171625426,0,2959.6931856852216,0,0]
["Day 119",6480,5458.9998399803735,0,218.8155476760204,0,0]
["Day 120",6480,2137.8492455939245,1459.8609852598302,1035.3158036018756,174.91946232595416,2.6302570310544133E-2]
["Day 121",7128,5083.3038244042418,0,4831.1721330039936,0,0]
["Day 122",11502,4185.5531668595995,0,5299.2611212171323,0,0]
["Day 123",9396,4987.7413731773413,0,4675.70626707662,0,0]
["Day 124",7128,4885.8941499271023,0,2786.7861973821005,0,0]
["Day 125",9396,4667.4274768028181,0,2946.626336771139,0,0]
["Day 126",9396,4392.872903299979,0,3544.9464935838064,0,0]
["Day 127",11502,3572.9920499700947,0,5453.312826991023,0,0]
["Day 128",9396,4164.0776526688232,0,5142.1034015348296,0,0]
["Day 129",11502,4478.5421080807737,0,5145.2092842689835,0,0]
["Day 130",9396,4530.1503264241237,0,4934.8158377005038,0,0]
["Day 131",7128,4885.8941499271023,0,3045.8957680059852,0,0]
["Day 132",11502,4059.9866916034484,0,5365.2832246169737,0,0]
["Day 133",9396,4164.0776526688232,0,5142.1034015348296,0,0]
["Day 134",9396,5033.5004233035725,0,4649.795340902494,0,0]
["Day 135",9396,4667.4274768028181,0,4809.6354802915348,0,0]
["Day 136",11502,3976.2754586209385,0,5409.2980913911269,0,0]
["Day 137",9396,4530.1503264241237,0,4934.8158377005038,0,0]
["Day 138",11502,4059.9866916034484,0,5365.2832246169737,0,0]
["Day 139",9396,4896.2232729248799,0,4727.5281194248764,0,0]
["Day 140",7128,5132.6562430235272,0,2473.2083982029512,0,0]
["Day 141",9396,4941.9823230511101,0,2194.5680845776133,0,0]
["Day 142",11502,3611.4112823896608,0,5431.3054591910741,0,0]
["Day 143",11502,3534.5728175505265,0,5475.3201947909683,0,0]
["Day 144",7128,4885.8941499271023,0,3586.4001250964484,0,0]
["Day 145",9396,4209.8367027950544,0,4477.0400031310382,0,0]
["Day 146",9396,4255.5957529212856,0,5090.2815491865749,0,0]
["Day 147",11502,4185.5531668595995,0,5299.2611212171323,0,0]
["Day 148",9396,4896.2232729248799,0,4727.5281194248764,0,0]
["Day 149",7128,5132.6562430235272,0,2473.2083982029512,0,0]
["Day 150",11502,4436.6861173719026,0,4608.728816370065,0,0]
["Day 151",11502,3496.1535851309591,0,5497.3275625909164,0,0]
["Day 152",10044,3093.1866965652034,0,5499.468686924507,0,0]
["Day 153",10044,3593.2870635351564,0,5389.5494920033398,0,0]
["Day 154",7776,4763.9092480834697,0,3579.8292480725263,0,0]
["Day 155",10044,3059.1954647590896,0,5521.4526569427571,0,0]
["Day 156",12150,3223.5601115623444,0,5960.0773167281877,0,0]
["Day 157",7776,3792.7811756684032,0,5433.5171699718067,0,0]
["Day 158",12150,2456.683627796464,0,6171.9933263513431,0,0]
["Day 159",10044,3817.8675189498936,0,5257.6463270639215,0,0]
["Day 160",7776,3792.7811756684032,0,4868.1263444875513,0,0]
["Day 161",10044,3855.2975576689114,0,5235.662488079689,0,0]
["Day 162",7776,4370.5588093581027,0,4083.6624880796908,0,0]
["Day 163",12150,2809.5247465856792,0,6157.8656092180336,0,0]
["Day 164",12150,2404.4138130911142,0,6200.248760617962,0,0]
["Day 165",7776,4545.3809950088389,0,4755.92903939604,0,0]
["Day 166",12150,2430.5487204437891,0,6186.1210434846525,0,0]
["Day 167",12150,2430.5487204437891,0,6186.1210434846525,0,0]
["Day 168",12150,2352.1438426094292,0,6228.5042790924172,0,0]
["Day 169",12150,2430.5487204437891,0,6186.1210434846525,0,0]
["Day 170",10044,3195.1597841759994,0,5433.5171699718067,0,0]
["Day 171",7776,4370.5588093581027,0,4281.5171699718076,0,0]
["Day 172",10044,3855.2975576689114,0,5235.662488079689,0,0]
["Day 173",7776,4589.0865414215223,0,3718.2628365522855,0,0]
["Day 174",7776,4326.8532629454185,0,2639.3427668577665,0,0]
["Day 175",10044,3593.2870635351564,0,4209.6629236704339,0,0]
["Day 176",7776,4589.0865414215223,0,2692.26327214303,0,0]
["Day 177",7776,4807.614794496154,0,809.46309790673331,0,0]
["Day 178",12150,2243.1609403862449,217.24987890639773,5437.2026781584755,0,0]
["Day 179",12150,2430.5487204437891,0,6186.1210434846525,0,0]
["Day 180",10044,3967.5876738259649,0,5169.7109711269877,0,0]
["Day 181",7776,3752.4324781342507,0,4853.2709188560984,0,0]
["Day 182",7128,4823.1603200622885,0,4628.2561100589464,0,0]
["Day 183",9396,4362.2952808541286,0,4542.9568671377028,0,0]
["Day 184",7128,4345.6198605862937,0,3400.6766754777732,0,0]
["Day 185",9396,3569.5712684927043,0,4484.9968322904406,0,0]
["Day 186",11664,3419.8155446087471,0,5524.2166625317741,0,0]
["Day 187",11664,3452.6983562304431,0,5500.5456906084446,0,0]
["Day 188",11664,3518.4643714678723,0,5453.203464581542,0,0]
["Day 189",11664,3386.9327329870498,0,5547.8876344551027,0,0]
["Day 190",9396,3383.6562714057086,0,5345.9394386251788,0,0]
["Day 191",9396,4362.2952808541286,0,4542.9568671377028,0,0]
["Day 192",7128,5205.19302920676,0,2085.2366232068844,0,0]
["Day 193",11664,3946.1074021591039,0,4090.4364489705863,0,0]
["Day 194",7128,4918.6683550302068,0,2071.1966580541425,0,0]
["Day 195",7128,4823.1603200622885,0,198.11672774866048,0,0]
["Day 196",11664,2232.0509084932037,896.64744773723964,4113.3645239584957,0,0]
["Day 197",9396,3532.3882690753062,0,5251.2555509318618,0,0]
["Day 198",7128,4870.9143375462481,0,3305.0956903208989,0,0]
["Day 199",7128,4775.4063025783289,0,1505.0956903208964,0,0]
["Day 200",7128,4348.4064992882022,119.80546587240235,132.09549361102182,0,0]
["Day 201",9396,2428.1820276159415,854.57246192232128,2321.9077464497841,0,0]
["Day 202",11664,2723.520304058341,0,6087.1475373662261,0,0]
["Day 203",9396,3569.5712684927043,0,5227.5845790085323,0,0]
["Day 204",7128,4727.6522850943684,0,3500.6645093140132,0,0]
["Day 205",7128,5109.6849942388399,0,1189.1041259941571,0,0]
["Day 206",11664,2601.9564745191556,0,5075.9077464497841,0,0]
["Day 207",9396,3383.6562714057086,0,5345.9394386251788,0,0]
["Day 208",11664,3386.9327329870498,0,5547.8876344551027,0,0]
["Day 209",11664,3386.9327329870498,0,5547.8876344551027,0,0]
["Day 210",9396,4446.1854977897638,0,4486.090705190205,0,0]
["Day 211",11664,2779.6753066640445,0,6058.0167038574382,0,0]
["Day 212",7128,4297.8655584659373,0,4941.0203397192381,0,0]
["Day 213",6642,5500.4543611439058,0,4127.5204181671161,0,0]
["Day 214",8586,4439.4076524347784,0,3858.600348472597,0,0]
["Day 215",11340,3628.6662347418505,0,5744.8242286701197,0,0]
["Day 216",11340,3628.6662347418505,0,5744.8242286701197,0,0]
["Day 217",11340,3591.2571182915017,0,5762.9189143129797,0,0]
["Day 218",6642,5448.5633289512189,0,2463.5192627855745,0,0]
["Day 219",6642,4612.6829402093899,400,0,170.84864720879855,2.2265052645184562E-2]
["Day 220",11340,1863.7432380738906,1420.8562350384645,4668.1365666060583,82.520122484033635,1.0962866173549494E-2]
["Day 221",11340,3666.0751282176066,0,5726.7296508794516,0,0]
["Day 222",11340,3441.6215443884767,0,5835.2972254756523,0,0]
["Day 223",8586,4349.722735749513,0,5356.7241177695787,0,0]
["Day 224",8586,3892.5363339801802,0,5423.0110672541241,0,0]
["Day 225",11340,3890.528489072145,0,5618.1621841354417,0,0]
["Day 226",11340,3666.0751282176066,0,5726.7296508794516,0,0]
["Day 227",11340,3516.4393313399892,0,5799.1080698943151,0,0]
["Day 228",8586,4573.9350274626759,0,5246.2460881289999,0,0]
["Day 229",6642,5656.1280763118612,0,1654.5258441981823,0,0]
["Day 230",11340,3445.8907711093993,0,4883.1990250876279,0,0]
["Day 231",11340,3927.9373825479011,0,5600.0676063447727,0,0]
["Day 232",8586,4932.6752287680056,0,4527.2674321084751,0,0]
["Day 233",6642,4168.8738799681132,0,2825.9073101430695,0,0]
["Day 234",6642,4874.638570232878,0,215.90731014307096,0,0]
["Day 235",6642,2627.8888125042627,1273.1703774480004,0,34.442294985297934,5.0137848165019193E-3]
["Day 236",6642,2417.9545969036208,1405.7969216225176,21.793033278327869,66.436163926698441,9.7751416058617594E-3]
["Day 237",8586,2363.9293688617922,1596.4758079161256,1630.6889434168577,144.89968405528805,1.8705230230659627E-2]
["Day 238",8586,4039.1123601850691,250.14687177933132,1479.6891097263451,82.348433675033903,1.0337851588219687E-2]
["Day 239",6642,3871.6442198303298,54.229660137783185,75.558647898720523,0,0]
["Day 240",8586,2263.0257419853747,1474.8562405940477,1983.020488653606,53.525669855355602,7.3982392811169822E-3]
["Day 241",11340,3846.7637267274963,0,4668.1365666060583,0,0]
["Day 242",6642,4874.638570232878,0,2058.1365666060601,0,0]
["Day 243",8586,4422.3687715180404,43.281798320473683,1580.3552655082735,0,0]
["Day 244",10530,3869.4221342890182,0,5521.2598224104249,0,0]
["Day 245",10530,3869.4221342890182,0,5521.2598224104249,0,0]
["Day 246",5832,4884.3978528050247,0,2895.4196830213878,0,0]
["Day 247",5832,5034.3560216195192,400,0,66.294590624881323,8.7226055029988869E-3]
["Day 248",8100,2655.3314780737901,1556.412191664775,1097.8530644937596,159.92045466187031,2.064427498613915E-2]
["Day 249",5832,3296.5892615653643,1092.9917350224919,0,330.23513078922974,4.4740760689142449E-2]
["Day 250",10530,2000.4845537817628,1368.2050487923532,4584.0985391199192,57.25361229297431,8.515624814729934E-3]
["Day 251",5832,4510.96281840337,0,2355.3383300363616,0,0]
["Day 252",5832,4486.2892705779514,2.9303087999736022,127.6067728743964,0,0]
["Day 253",10530,2519.4904869356369,1554.4340135246948,3642.6395373117402,117.39892514894757,1.4604035752151372E-2]
["Day 254",8100,4582.7022515327944,0,2976.6395373117416,0,0]
["Day 255",10530,4337.1542740934401,0,4918.4796767007801,0,0]
["Day 256",8100,4857.664124400435,0,3814.0000948678944,0,0]
["Day 257",5832,5633.549348115368,0,279.52051303500878,0,0]
["Day 258",5832,2345.2381953933318,1475.1808712445347,269.63549476980762,273.53402337211566,3.9399364331016526E-2]
["Day 259",10530,2248.3756723593838,1122.2676480277948,4636.4017650395162,12.778813901840095,1.9215451881058969E-3]
["Day 260",10530,4167.0699517811536,0,5369.0490594584107,0,0]
["Day 261",8100,3869.4221342890182,0,5521.2598224104249,0,0]
["Day 262",5832,4278.4389132049437,0,3657.8997004450166,0,0]
["Day 263",5832,5261.5228390817729,0,634.97963075049779,0,0]
["Day 264",5832,2734.0493970329803,1649.9485290398991,0,601.55142204248898,7.7654812833077472E-2]
["Day 265",8100,2555.1303803722362,1515.6419569619184,1307.0659681721434,117.58387182118673,1.5774262159645884E-2]
["Day 266",10530,3285.8061457617191,108.75304663127866,4636.4017650395162,0,0]
["Day 267",10530,4167.0699517811536,0,5369.0490594584107,0,0]
["Day 268",5832,5367.8161273770856,0,2199.9691291529298,0,0]
["Day 269",5832,4378.7720400667104,549.56813343604767,0,6.6225980219845439,8.8844325126154981E-4]
["Day 270",8100,2022.2289299739496,1384.0116100485957,2101.7953132003227,62.223755422616989,9.1553452901900045E-3]
["Day 271",8100,4757.1267912741123,0,1097.8530644937596,0,0]
["Day 272",8100,3703.083993716773,561.04433829481354,1202.4595163329516,15.881834766302063,2.0896271931766441E-3]
["Day 273",8100,3782.6401711305762,439.29465791830108,1254.762742252547,12.248358917737505,1.6272045607632045E-3]
["Day 274",6966,4974.976269389228,0,4884.9087601471592,0,0]
["Day 275",10044,4376.7447645405036,0,5202.5672261797208,0,0]
["Day 276",5670,5025.7412839612243,0,2665.6471564852004,0,0]
["Day 277",5670,4822.6809230898871,0,421.04724360334797,0,0]
["Day 278",10044,2604.7456934996644,1036.8849072355395,4032.6958848546574,32.443577203100631,4.6244381055394641E-3]
["Day 279",6966,5330.3313713931975,0,2029.296233327251,0,0]
["Day 280",5670,4564.3335785659046,96.347344523982315,43.043664969381183,0,0]
["Day 281",6966,2471.3426961259661,1442.4275647541592,1217.159396413382,63.96835834977,9.6188967240797302E-3]
["Day 282",5670,3616.7209477461438,1025.8821934439391,0,262.19820105912265,3.4833246760058376E-2]
["Day 283",10044,2115.4579368910472,1346.5887012681433,4190.1739917898904,82.025342792637815,1.2068868725654507E-2]
["Day 284",5670,4822.6809230898871,0,1945.574078908038,0,0]
["Day 285",10044,4243.0068527283165,0,3770.2320604147408,0,0]
["Day 286",6966,4254.4665309534494,0,3187.032234651037,0,0]
["Day 287",6966,5330.3313713931975,0,1183.6325831236311,0,0]
["Day 288",6966,3825.4084014969885,482.0479688953435,819.0453958933457,70.284913568891739,9.7146772724276114E-3]
["Day 289",5670,3327.3981626114823,910.76813318561904,92.043159223383611,209.74961272079042,3.05333725286181E-2]
["Day 290",5670,2647.8092536979329,1671.2115672335246,0,230.4251167304256,3.2844303314978507E-2]
["Day 291",5670,2428.299031156585,1637.263412750282,239.04164198539212,230.05842089503898,3.4593793684595989E-2]
["Day 292",10044,2309.005903539593,1128.0607939224815,4295.1593964133817,20.337152165436834,3.058089520941016E-3]
["Day 293",5670,4619.6208648019065,0,2342.8792047534539,0,0]
["Day 294",5670,4610.3276475793418,565.92749026848458,0,196.91354890887968,2.4720118567923673E-2]
["Day 295",10044,2047.2172883039309,1300.3761151286219,4347.6524116063129,66.476122241394705,1.0107055282249377E-2]
["Day 296",10044,4766.7518720827402,0,4997.8454160002211,0,0]
["Day 297",6966,4254.4665309534494,0,4414.645590236516,0,0]
["Day 298",6966,4924.2112548172317,0,2995.8853811529589,0,0]
["Day 299",5670,4771.9159085178926,0,824.36539857658749,0,0]
["Day 300",10044,3099.0513347284432,706.23063248467224,3822.724762726486,42.128731665228713,5.7647416071741533E-3]
["Day 301",10044,4463.4128958648198,0,5157.0735508428752,0,0]
["Day 302",6966,4349.0104257441481,0,4427.7134288774669,0,0]
["Day 303",6966,5533.3920348478878,0,2131.9931849466489,0,0]
["Day 304",6966,4747.0844247994892,0,868.04489014734941,0,0]
["Day 305",4860,5963.689252765721,0,3390.6003484725961,0,0]
["Day 306",6318,4805.7240413366544,0,1632.0004355907452,0,0]
["Day 307",9558,3988.2088681433906,12.159362064898858,3779.8296612883387,0,0]
["Day 308",9558,4842.7071317140626,0,4838.589870371894,0,0]
["Day 309",4860,6247.6748744191218,0,363.78969613559684,0,0]
["Day 310",6318,2995.7245345425399,1409.4968718838709,190.25506540016659,258.36814890810354,3.3670623275392005E-2]
["Day 311",6318,2847.2559271206569,1531.0466806011775,142.69563302897922,335.87346886052165,4.3358207468617765E-2]
["Day 312",6318,2674.3663781817363,1530.2844259727053,380.49279488491254,256.59266618870936,3.4763566932148063E-2]
["Day 313",9558,2962.2955866647626,1169.4428265799677,3319.6645490177698,224.96871846933254,2.9887279363786889E-2]
["Day 314",6318,5159.8299915909929,0,1049.5046884068072,0,0]
["Day 315",9558,3656.3735035002037,613.31525588876298,3268.53512596053,134.03490288688261,1.7635429534974018E-2]
["Day 316",9558,4701.6575400287038,0,4546.5351259605286,0,0]
["Day 317",4860,4603.3779563452899,0,2108.2549343006003,0,0]
["Day 318",6318,4790.3221181452045,136.44108272389281,95.135633704637769,0,0]
["Day 319",9558,2727.0704721115808,1415.7629194209999,3217.4057029032874,307.90680130505513,4.0126516966148856E-2]
["Day 320",4860,4957.4839065996275,0,267.56556351424894,0,0]
["Day 321",4860,2297.7027397824777,1948.1141469288418,0,337.08049864046723,4.7551403729037323E-2]
["Day 322",4860,1805.4405829618308,2613.1423585582143,0,1067.4979550671223,0.13525232528641448]
["Day 323",6318,2306.076385925553,1495.3174879173689,808.527969702169,204.57060375020959,3.0426840157181469E-2]
["Day 324",6318,3518.2505600784921,1140.5516164292771,0,257.72058810485191,3.2059583833272218E-2]
["Day 325",9558,2657.0008617204899,1422.4463697261131,3166.2762798460467,418.30949195281966,5.3999947658010083E-2]
["Day 326",6318,5210.4165128388322,0,823.03648892960291,0,0]
["Day 327",6318,3354.7072340823597,987.59851795320742,380.49279488491254,118.93771830758365,1.611386401863029E-2]
["Day 328",6318,2836.9654700970291,1297.3054349970248,523.17109199847209,175.21300150557335,2.4464802075367241E-2]
["Day 329",6318,2979.643767210589,1156.838194979704,523.17109199847209,173.00194440933456,2.4156074562157567E-2]
["Day 330",9558,2455.7799385703438,892.42323165529388,4310.4929576225877,76.098459732526891,1.1570039188172426E-2]
["Day 331",9558,4466.5746069791421,0,5118.7255441338075,0,0]
["Day 332",6318,4856.3105625844946,0,3287.0457009464758,0,0]
["Day 333",4860,5125.0523607952882,600,0,295.43388088641001,3.8137824771301822E-2]
["Day 334",6318,2732.1992304716978,1641.8243417295596,1.6768962263995491E-2,491.91267116352202,6.1753696602427952E-2]
["Day 335",7399.260000000002,4269.0894351539027,0,3843.1272338591689,0,0]
["Day 336",5799.42,4946.7917031752004,0,1552.4775649272092,0,0]
["Day 337",7399.260000000002,3565.5589439255887,0,1966.5822198812953,115.34447158628461,1.6952101123928236E-2]
["Day 338",10998.900000000001,4043.5633477924848,0,3781.5021087797541,0,0]
["Day 339",5799.42,4946.7917031752004,0,1490.8524398477934,0,0]
["Day 340",10998.900000000001,3360.1423092659675,0,4130.710130581826,0,0]
["Day 341",7399.260000000002,4187.7735197690408,0,3778.7403292226518,0,0]
["Day 342",5799.42,4899.6794440304784,0,1557.5205940770845,0,0]
["Day 343",10998.900000000001,3369.6358999982303,0,4151.2518797542143,0,0]
["Day 344",7399.260000000002,4025.1416889993188,0,3966.3769942669837,0,0]
["Day 345",7399.260000000002,3984.4837313068888,0,3961.5568618397688,0,0]
["Day 346",7399.260000000002,3862.5096158890533,0,4048.5436236432811,0,0]
["Day 347",10998.900000000001,4519.5127206980014,0,3339.3502107544709,0,0]
["Day 348",7399.260000000002,4309.7473928463332,0,2779.0906080361178,0,0]
["Day 349",10998.900000000001,3893.8014447691239,0,3863.6688605938043,0,0]
["Day 350",10998.900000000001,3669.159259720604,0,3986.9186210016192,0,0]
["Day 351",5799.42,4946.7917031752004,0,1696.268952069659,0,0]
["Day 352",10998.900000000001,3556.8379440341701,0,4048.5436236432811,0,0]
["Day 353",7399.260000000002,3943.8257736144583,0,4007.4602477362564,0,0]
["Day 354",7399.260000000002,4025.1416889993188,0,3933.2101815226511,0,0]
["Day 355",10998.900000000001,4081.0037119672379,0,3760.9604820451186,0,0]
["Day 356",7399.260000000002,3740.5357428117622,0,4110.1685038471887,0,0]
["Day 357",5799.42,4852.5671848857555,0,1958.3787024880137,0,0]
["Day 358",10998.900000000001,3631.718895545851,0,4007.4602477362564,0,0]
["Day 359",7399.260000000002,3740.5357428117622,0,4110.1685038471887,0,0]
["Day 360",5799.42,4381.4443126273263,0,2652.6784541869824,0,0]
["Day 361",5799.42,4287.2197943378824,0,1334.0482720995617,0,0]
["Day 362",7399.260000000002,3367.6712778325768,0,1917.2686170526968,257.51041116674207,3.7463851926455287E-2]
["Day 363",10998.900000000001,4519.5127206980014,0,3339.3502107544709,0,0]
["Day 364",10998.900000000001,3781.4803522448647,0,3925.2937407977129,0,0]
["Day 365",7399.260000000002,4065.7996466917502,0,3781.6137407977149,0,0]

{"sheet":"Daily Graphs","index":3,"n_rows":0,"n_cols":0,"rows_kept":0,"cut":false,"hidden":false,"merged":[]}

{"sheet":"Monthly Graph","index":4,"n_rows":0,"n_cols":0,"rows_kept":0,"cut":false,"hidden":false,"merged":[]}

{"sheet":"Year Graph","index":5,"n_rows":0,"n_cols":0,"rows_kept":0,"cut":false,"hidden":false,"merged":[]}

{"sheet":"Solar Profiles","index":6,"n_rows":45,"n_cols":31,"rows_kept":45,"cut":false,"hidden":false,"merged":[]}
[{"$f":"'Inputs and Totals'!$B$4","v":1},"Selected Month",null,null,null,null,null,null,null,null,null,null,null,null,null,null,null,null,null,null,null,null,null,null,null,null,null,null,"Sep",645,1915]
[null,"Profile:","Hour 0","Hour 1","Hour 2","Hour 3","Hour 4","Hour 5","Hour 6","Hour 7","Hour 8","Hour 9","Hour 10","Hour 11","Hour 12","Hour 13","Hour 14","Hour 15","Hour 16","Hour 17","Hour 18","Hour 19","Hour 20","Hour 21","Hour 22","Hour 23","Total"]
[{"$f":"A4-1","v":1},"High",{"$f":"IF($A$3=1,C10,IF($A$3=2,C11,IF($A$3=3,C12,IF($A$3=4,C13,IF($A$3=5,C14,IF($A$3=6,C15,IF($A$3=7,C16,IF($A$3=8,C17,IF($A$3=9,C18,IF($A$3=10,C19,IF($A$3=11,C20,IF($A$3=12,C21,IF($A$3=13,C22,IF($A$3=14,C23,IF($A$3=15,C24,IF($A$3=16,C25,IF($A$3=17,C26,IF($A$3=18,C27,IF($A$3=19,C28,IF($A$3=20,C29,IF($A$3=21,C30,IF($A$3=22,C31,IF($A$3=23,C32,IF($A$3=24,C33,IF($A$3=25,C34,IF($A$3=26,C35,IF($A$3=27,C36,IF($A$3=28,C37,IF($A$3=29,C38, IF($A$3=30, C39, IF($A$3=31, C40, IF($A$3=32, C41, IF($A$3=33, C42, IF($A$3=34,C43,IF($A$3=35,C44, IF($A$3=36,C45))))))))))))))))))))))))))))))))))))","v":0},{"$f":"IF($A$3=1,D10,IF($A$3=2,D11,IF($A$3=3,D12,IF($A$3=4,D13,IF($A$3=5,D14,IF($A$3=6,D15,IF($A$3=7,D16,IF($A$3=8,D17,IF($A$3=9,D18,IF($A$3=10,D19,IF($A$3=11,D20,IF($A$3=12,D21,IF($A$3=13,D22,IF($A$3=14,D23,IF($A$3=15,D24,IF($A$3=16,D25,IF($A$3=17,D26,IF($A$3=18,D27,IF($A$3=19,D28,IF($A$3=20,D29,IF($A$3=21,D30,IF($A$3=22,D31,IF($A$3=23,D32,IF($A$3=24,D33,IF($A$3=25,D34,IF($A$3=26,D35,IF($A$3=27,D36,IF($A$3=28,D37,IF($A$3=29,D38, IF($A$3=30, D39, IF($A$3=31, D40, IF($A$3=32, D41, IF($A$3=33, D42, IF($A$3=34,D43,IF($A$3=35,D44, IF($A$3=36,D45))))))))))))))))))))))))))))))))))))","v":0},0,0,0,0,0,0.1,0.2,0.3,0.4,0.8,1,1,0.7,0.6,0.5,0.2,0,0,0,0,0,0,5.8,null,"Oct",720,1830]
[{"$f":"A5-1","v":2},"Medium",{"$f":"IF($A$4=1,C10,IF($A$4=2,C11,IF($A$4=3,C12,IF($A$4=4,C13,IF($A$4=5,C14,IF($A$4=6,C15,IF($A$4=7,C16,IF($A$4=8,C17,IF($A$4=9,C18,IF($A$4=10,C19,IF($A$4=11,C20,IF($A$4=12,C21,IF($A$4=13,C22,IF($A$4=14,C23,IF($A$4=15,C24,IF($A$4=16,C25,IF($A$4=17,C26,IF($A$4=18,C27,IF($A$4=19,C28,IF($A$4=20,C29,IF($A$4=21,C30,IF($A$4=22,C31,IF($A$4=23,C32,IF($A$4=24,C33,IF($A$4=25,C34,IF($A$4=26,C35,IF($A$4=27,C36,IF($A$4=28,C37,IF($A$4=29,C38, IF($A$4=30, C39, IF($A$4=31, C40, IF($A$4=32, C41, IF($A$4=33, C42, IF($A$4=34,C43,IF($A$4=35,C44, IF($A$4=36,C45))))))))))))))))))))))))))))))))))))","v":0},{"$f":"IF($A$4=1,D10,IF($A$4=2,D11,IF($A$4=3,D12,IF($A$4=4,D13,IF($A$4=5,D14,IF($A$4=6,D15,IF($A$4=7,D16,IF($A$4=8,D17,IF($A$4=9,D18,IF($A$4=10,D19,IF($A$4=11,D20,IF($A$4=12,D21,IF($A$4=13,D22,IF($A$4=14,D23,IF($A$4=15,D24,IF($A$4=16,D25,IF($A$4=17,D26,IF($A$4=18,D27,IF($A$4=19,D28,IF($A$4=20,D29,IF($A$4=21,D30,IF($A$4=22,D31,IF($A$4=23,D32,IF($A$4=24,D33,IF($A$4=25,D34,IF($A$4=26,D35,IF($A$4=27,D36,IF($A$4=28,D37,IF($A$4=29,D38, IF($A$4=30, D39, IF($A$4=31, D40, IF($A$4=32, D41, IF($A$4=33, D42, IF($A$4=34,D43,IF($A$4=35,D44, IF($A$4=36,D45))))))))))))))))))))))))))))))))))))","v":0},0,0,0,0,0,0.1,0.1,0.2,0.3,0.5,0.9,1,0.6,0.5,0.3,0.1,0,0,0,0,0,0,4.5999999999999996,null,"Nov",700,1645]
[{"$f":"A1*3","v":3},"Low",{"$f":"IF($A$5=1,C10,IF($A$5=2,C11,IF($A$5=3,C12,IF($A$5=4,C13,IF($A$5=5,C14,IF($A$5=6,C15,IF($A$5=7,C16,IF($A$5=8,C17,IF($A$5=9,C18,IF($A$5=10,C19,IF($A$5=11,C20,IF($A$5=12,C21,IF($A$5=13,C22,IF($A$5=14,C23,IF($A$5=15,C24,IF($A$5=16,C25,IF($A$5=17,C26,IF($A$5=18,C27,IF($A$5=19,C28,IF($A$5=20,C29,IF($A$5=21,C30,IF($A$5=22,C31,IF($A$5=23,C32,IF($A$5=24,C33,IF($A$5=25,C34,IF($A$5=26,C35,IF($A$5=27,C36,IF($A$5=28,C37,IF($A$5=29,C38, IF($A$5=30, C39, IF($A$5=31, C40, IF($A$5=32, C41, IF($A$5=33, C42, IF($A$5=34,C43,IF($A$5=35,C44, IF($A$5=36,C45))))))))))))))))))))))))))))))))))))","v":0},{"$f":"IF($A$5=1,D10,IF($A$5=2,D11,IF($A$5=3,D12,IF($A$5=4,D13,IF($A$5=5,D14,IF($A$5=6,D15,IF($A$5=7,D16,IF($A$5=8,D17,IF($A$5=9,D18,IF($A$5=10,D19,IF($A$5=11,D20,IF($A$5=12,D21,IF($A$5=13,D22,IF($A$5=14,D23,IF($A$5=15,D24,IF($A$5=16,D25,IF($A$5=17,D26,IF($A$5=18,D27,IF($A$5=19,D28,IF($A$5=20,D29,IF($A$5=21,D30,IF($A$5=22,D31,IF($A$5=23,D32,IF($A$5=24,D33,IF($A$5=25,D34,IF($A$5=26,D35,IF($A$5=27,D36,IF($A$5=28,D37,IF($A$5=29,D38, IF($A$5=30, D39, IF($A$5=31, D40, IF($A$5=32, D41, IF($A$5=33, D42, IF($A$5=34,D43,IF($A$5=35,D44, IF($A$5=36,D45))))))))))))))))))))))))))))))))))))","v":0},0,0,0,0,0,0.05,0.1,0.15,0.2,0.4,0.5,0.5,0.4,0.3,0.2,0.1,0,0,0,0,0,0,2.9,null,"Dec",730,1640]
[]
[]
[null,"SOLAR/LOAD DATA"]
[null,"Solar ","Hour 0","Hour 1","Hour 2","Hour 3","Hour 4","Hour 5","Hour 6","Hour 7","Hour 8","Hour 9","Hour 10","Hour 11","Hour 12","Hour 13","Hour 14","Hour 15","Hour 16","Hour 17","Hour 18","Hour 19","Hour 20","Hour 21","Hour 22","Hour 23","Total"]
[1,"Jan High (1)",0,0,0,0,0,0,0,0.1,0.2,0.3,0.4,0.8,1,1,0.7,0.6,0.5,0.2,0,0,0,0,0,0,{"$f":"SUM(C10:Z10)","v":5.8}]
[2,"Jan Medium (2)",0,0,0,0,0,0,0,0.1,0.1,0.2,0.3,0.5,0.9,1,0.6,0.5,0.3,0.1,0,0,0,0,0,0,4.5999999999999996]
[3,"Jan Low (3)",0,0,0,0,0,0,0,0.05,0.1,0.15,0.2,0.4,0.5,0.5,0.4,0.3,0.2,0.1,0,0,0,0,0,0,2.9]
[4,"Feb High (4)",0,0,0,0,0,0,0,0.1,0.3,0.4,0.6,0.8,1,0.9,0.7,0.5,0.4,0.2,0.1,0,0,0,0,0,6.0000000000000009]
[5,"Feb Medium (5)",0,0,0,0,0,0,0,0.1,0.2,0.4,0.5,0.6,0.7,0.7,0.6,0.4,0.3,0.2,0.1,0,0,0,0,0,4.8]
[6,"Feb Low (6)",0,0,0,0,0,0,0,0,0.1,0.2,0.4,0.4,0.5,0.5,0.4,0.3,0.2,0.1,0.1,0,0,0,0,0,3.2]
[7,"Mar High (7)",0,0,0,0,0,0,0,0.1,0.3,0.4,0.5,0.7,0.9,1,0.8,0.6,0.4,0.3,0.2,0.1,0,0,0,0,6.3]
[8,"Mar Medium (8)",0,0,0,0,0,0,0,0.1,0.2,0.3,0.4,0.6,0.7,0.8,0.6,0.5,0.3,0.2,0.2,0.1,0,0,0,0,4.9999999999999991]
[9,"Mar Low (9)",0,0,0,0,0,0,0,0.1,0.1,0.2,0.3,0.3,0.4,0.6,0.5,0.4,0.3,0.2,0.1,0.1,0,0,0,0,3.6]
[10,"Apr High (10)",0,0,0,0,0,0,0.1,0.2,0.3,0.4,0.6,0.7,1,0.9,0.8,0.5,0.4,0.4,0.2,0.1,0.1,0,0,0,6.7]
[11,"Apr Medium (11)",0,0,0,0,0,0,0.1,0.1,0.3,0.3,0.5,0.6,0.7,0.6,0.6,0.5,0.4,0.3,0.2,0.1,0.1,0,0,0,5.3999999999999995]
[12,"Apr Low (12)",0,0,0,0,0,0,0.05,0.1,0.15,0.2,0.4,0.4,0.5,0.5,0.4,0.4,0.3,0.2,0.2,0.1,0.1,0,0,0,4]
[13,"May High (13)",0,0,0,0,0,0.1,0.2,0.2,0.4,0.5,0.6,0.7,1,0.8,0.7,0.6,0.5,0.3,0.2,0.1,0.1,0.1,0,0,7.0999999999999988]
[14,"May Medium (14)",0,0,0,0,0,0.1,0.1,0.2,0.3,0.5,0.5,0.6,0.7,0.7,0.6,0.4,0.4,0.2,0.2,0.1,0.1,0.1,0,0,5.8]
[15,"May Low (15)",0,0,0,0,0,0.05,0.05,0.1,0.2,0.3,0.4,0.5,0.6,0.5,0.4,0.3,0.3,0.2,0.2,0.1,0.1,0.1,0,0,4.3999999999999986]
[16,"Jun High (16)",0,0,0,0,0,0.1,0.2,0.2,0.3,0.4,0.6,0.8,1,0.8,0.7,0.6,0.5,0.4,0.3,0.3,0.2,0.1,0,0,7.5]
[17,"Jun Medium (17)",0,0,0,0,0,0.1,0.2,0.2,0.3,0.3,0.5,0.7,0.8,0.7,0.6,0.5,0.4,0.3,0.2,0.2,0.1,0.1,0,0,6.1999999999999993]
[18,"Jun Low (18)",0,0,0,0,0,0.05,0.05,0.1,0.2,0.3,0.4,0.6,0.6,0.5,0.4,0.4,0.3,0.3,0.2,0.2,0.1,0.1,0,0,4.8]
[19,"Jul High (19)",0,0,0,0,0,0.1,0.1,0.2,0.3,0.4,0.6,0.8,1,0.8,0.6,0.5,0.5,0.4,0.3,0.3,0.2,0.1,0,0,7.1999999999999993]
[20,"Jul Medium (20)",0,0,0,0,0,0.1,0.1,0.2,0.3,0.4,0.5,0.6,0.8,0.6,0.5,0.4,0.4,0.3,0.2,0.2,0.1,0.1,0,0,5.8]
[21,"Jul Low (21)",0,0,0,0,0,0.05,0.05,0.1,0.1,0.3,0.4,0.5,0.6,0.5,0.4,0.4,0.3,0.2,0.2,0.1,0.1,0.1,0,0,4.3999999999999986]
[22,"Aug High (22)",0,0,0,0,0,0,0.1,0.2,0.3,0.4,0.6,0.8,1,0.8,0.6,0.6,0.5,0.4,0.3,0.2,0.1,0.1,0,0,6.9999999999999991]
[23,"Aug Medium (23)",0,0,0,0,0,0,0.1,0.1,0.2,0.3,0.5,0.6,0.7,0.6,0.5,0.4,0.4,0.3,0.2,0.2,0.1,0.1,0,0,5.3]
[24,"Aug Low (24)",0,0,0,0,0,0,0.05,0.15,0.2,0.2,0.3,0.4,0.5,0.5,0.4,0.3,0.3,0.2,0.2,0.2,0.1,0.1,0,0,4.0999999999999996]
[25,"Sep High (25)",0,0,0,0,0,0,0.1,0.2,0.3,0.5,0.6,0.8,1,0.8,0.6,0.5,0.4,0.3,0.2,0.1,0.1,0,0,0,6.4999999999999991]
[26,"Sep Medium (26)",0,0,0,0,0,0,0.1,0.2,0.3,0.4,0.5,0.5,0.6,0.6,0.5,0.4,0.3,0.2,0.2,0.1,0.1,0,0,0,5]
[27,"Sep Low (27)",0,0,0,0,0,0,0.05,0.05,0.1,0.2,0.3,0.4,0.5,0.4,0.4,0.3,0.3,0.2,0.2,0.1,0.1,0,0,0,3.6]
[28,"Oct High (28)",0,0,0,0,0,0,0.1,0.2,0.3,0.4,0.6,0.8,1,0.7,0.6,0.5,0.4,0.3,0.2,0.1,0,0,0,0,6.2]
[29,"Oct Medium (29)",0,0,0,0,0,0,0.1,0.1,0.2,0.3,0.4,0.5,0.6,0.5,0.5,0.4,0.3,0.2,0.1,0.1,0,0,0,0,4.2999999999999989]
[30,"Oct Low (30)",0,0,0,0,0,0,0.05,0.05,0.1,0.2,0.3,0.4,0.5,0.5,0.4,0.3,0.3,0.2,0.1,0.1,0,0,0,0,3.5]
[31,"Nov High (31)",0,0,0,0,0,0,0.1,0.2,0.3,0.4,0.6,0.8,1,0.7,0.6,0.5,0.4,0.2,0.1,0,0,0,0,0,5.9]
[32,"Nov Medium (32)",0,0,0,0,0,0,0.1,0.1,0.2,0.3,0.4,0.4,0.6,0.5,0.4,0.3,0.3,0.2,0.1,0,0,0,0,0,3.9]
[33,"Nov Low (33)",0,0,0,0,0,0,0.05,0.05,0.1,0.2,0.3,0.4,0.5,0.4,0.3,0.3,0.2,0.1,0.1,0,0,0,0,0,3]
[34,"Dec High (34)",0,0,0,0,0,0,0.1,0.2,0.3,0.4,0.5,0.7,0.9,0.8,0.6,0.4,0.3,0.2,0.1,0,0,0,0,0,5.5]
[35,"Dec Medium (35)",0,0,0,0,0,0,0.1,0.1,0.2,0.2,0.3,0.4,0.6,0.5,0.4,0.3,0.3,0.2,0.1,0,0,0,0,0,3.7]
[36,"Dec Low (36)",0,0,0,0,0,0,0.05,0.05,0.1,0.2,0.3,0.4,0.5,0.4,0.3,0.2,0.2,0.1,0.1,0,0,0,0,0,2.9000000000000004]

{"sheet":"Load Profiles","index":7,"n_rows":16,"n_cols":54,"rows_kept":16,"cut":false,"hidden":false,"merged":[]}
[null,"Load Profiles","Hour 0","Hour 1","Hour 2","Hour 3","Hour 4","Hour 5","Hour 6","Hour 7","Hour 8","Hour 9","Hour 10","Hour 11","Hour 12","Hour 13","Hour 14","Hour 15","Hour 16","Hour 17","Hour 18","Hour 19","Hour 20","Hour 21","Hour 22","Hour 23"]
[1,"January",3.8707334785766163E-2,2.7015250544662313E-2,2.6688453159041399E-2,2.6906318082788677E-2,2.759622367465505E-2,3.1844589687726944E-2,4.3209876543209881E-2,5.3413217138707343E-2,4.6949891067538128E-2,4.4916485112563555E-2,4.1902687000726219E-2,4.1358024691358033E-2,3.914306463326072E-2,3.6928104575163399E-2,3.5548293391430653E-2,3.7981118373275245E-2,4.4517066085693544E-2,5.5519244734931014E-2,5.8169934640522884E-2,5.7480029048656504E-2,5.6572258533042853E-2,5.3122730573710981E-2,4.5642701525054473E-2,2.8867102396514164E-2]
[2,"February",3.4327931752316423E-2,2.8490958814645497E-2,2.7633780970651865E-2,2.8695048777501123E-2,2.9184864688354632E-2,3.3021755990040411E-2,4.6287603575656144E-2,5.8777909302420508E-2,4.8573411159639167E-2,4.5471243724233647E-2,4.0736356585983104E-2,3.6450467366014948E-2,2.9756316584350382E-2,3.453202171517205E-2,3.5266745581452305E-2,3.7675007143148705E-2,4.63692395607984E-2,5.563492387444386E-2,6.0533082982978909E-2,5.6573737703579742E-2,5.7430915547573375E-2,5.3226662312747461E-2,4.5022245805951266E-2,3.0327768480346136E-2]
[3,"March",3.6408505459585544E-2,2.93093539772151E-2,2.9715019776207698E-2,3.1641932321422532E-2,3.0391129441195361E-2,3.6746560292079372E-2,4.9727865859842464E-2,5.4054967715763499E-2,4.5840235286163419E-2,4.2628714377472017E-2,3.8301612521550996E-2,4.0329941516513979E-2,3.6002839660592943E-2,3.5732395794597881E-2,3.4380176464622561E-2,3.6036645143842333E-2,4.0093303133768292E-2,4.7327676549136263E-2,5.3750718366519054E-2,5.7908792806193168E-2,5.9024373753422808E-2,5.5779047361482023E-2,4.5231736587674522E-2,3.3636455833136132E-2,null,null,null,"Oringial Nichols Load Profiles"]
[4,"April",3.4555173730431467E-2,2.6107292859870183E-2,2.7252768232149675E-2,2.7682321496754488E-2,2.9734631538755253E-2,3.6225658648339064E-2,5.3169148529973287E-2,6.3669339442535333E-2,5.3407789232531505E-2,4.7298587247040863E-2,4.2668957617411234E-2,3.9948453608247426E-2,3.8230240549828189E-2,3.5939289805269191E-2,3.484154257350134E-2,3.484154257350134E-2,3.9137075219549448E-2,4.672584956090111E-2,5.0544100801832768E-2,5.3073692248949991E-2,5.6891943489881643E-2,5.4600992745322652E-2,4.505536464299352E-2,2.8398243604429177E-2,null,null,null,"Summer",3.1E-2,2.9000000000000001E-2,2.8000000000000001E-2,2.8000000000000001E-2,2.9000000000000001E-2,3.2000000000000001E-2,3.4000000000000002E-2,3.6999999999999998E-2,4.1000000000000002E-2,4.3999999999999997E-2,4.5999999999999999E-2,4.9000000000000002E-2,0.05,5.0999999999999997E-2,5.3999999999999999E-2,5.5E-2,5.6000000000000001E-2,5.3999999999999999E-2,5.0999999999999997E-2,4.8000000000000001E-2,4.4999999999999998E-2,4.1000000000000002E-2,3.6999999999999998E-2,3.4000000000000002E-2]
[5,"May",3.7594399426712971E-2,2.5797916322143215E-2,2.4530070007166088E-2,2.3703213714789704E-2,2.5081307535417013E-2,3.037318780662588E-2,4.7020561159803763E-2,5.7494074196571307E-2,4.9170387519982366E-2,4.4484868529849515E-2,4.1232567113169069E-2,4.2390165922496011E-2,3.9744225786891574E-2,3.8696874483214821E-2,3.7373904415412607E-2,3.7759770685188251E-2,4.2996527203572027E-2,5.3414916487514473E-2,5.407640152141558E-2,5.3029050217738828E-2,5.5950609117468714E-2,5.7438950443746216E-2,5.1816327655586795E-2,2.882972272752329E-2,null,null,null,"Winter",3.9E-2,3.5999999999999997E-2,3.9E-2,3.7999999999999999E-2,3.6999999999999998E-2,3.9E-2,4.1000000000000002E-2,4.2999999999999997E-2,4.5999999999999999E-2,4.7E-2,4.4999999999999998E-2,4.1000000000000002E-2,3.9E-2,3.5999999999999997E-2,3.5999999999999997E-2,3.7999999999999999E-2,4.1000000000000002E-2,4.2999999999999997E-2,4.5999999999999999E-2,4.8000000000000001E-2,4.9000000000000002E-2,4.8000000000000001E-2,4.3999999999999997E-2,4.1000000000000002E-2]
[6,"June",3.7154023234648524E-2,2.5804379249424483E-2,2.4412441779538517E-2,2.398415332726591E-2,2.4358905723004441E-2,2.8588254189196423E-2,3.9937898174420471E-2,4.705819369345253E-2,4.593393650623695E-2,4.4381390866748742E-2,4.3042989453396859E-2,4.4167246640612445E-2,4.341774184913539E-2,4.1597515926976816E-2,4.1436907757374582E-2,4.2668237057658334E-2,4.7432946089191061E-2,5.3803736816746071E-2,5.412495315595052E-2,5.3375448364473471E-2,5.6266395417313549E-2,5.7176508378392846E-2,4.9949140746292621E-2,2.9926655602548313E-2]
[7,"July",3.8788595334455007E-2,2.2827520349233778E-2,2.1690691646582695E-2,2.1235960165522264E-2,2.1099540721204135E-2,2.4646446273475519E-2,3.460506570869902E-2,4.092583329543905E-2,3.8561229593924787E-2,3.9061434223091267E-2,3.9425219407939617E-2,4.05620481105907E-2,4.1880769405665964E-2,4.3563275885589559E-2,4.1835296257559919E-2,4.8838161065890603E-2,5.1384657359829021E-2,6.5163021235960183E-2,6.5754172161338734E-2,5.8842253649220147E-2,5.7023327724978409E-2,6.0934018462098144E-2,5.5659133281797106E-2,2.569232867991451E-2]
[8,"August",3.4808724336566385E-2,2.510954655112993E-2,2.4124858451085616E-2,2.4518733691103342E-2,2.4912608931121068E-2,2.9294470976318248E-2,4.5738762247058237E-2,5.5782580867510208E-2,4.6969622372113627E-2,4.3030869971936385E-2,4.1110728176849978E-2,4.2440057111909797E-2,4.2390822706907583E-2,4.1012259366845549E-2,3.9190586381763579E-2,4.0224508886810097E-2,4.3572448426960751E-2,5.3419329427403864E-2,5.474865836246369E-2,5.4354783122445967E-2,6.3216976022844762E-2,5.5634877652503564E-2,4.6428043917089254E-2,2.7965142041258429E-2]
[9,"September",3.6014220207120404E-2,2.4061002627646971E-2,2.5194497398114277E-2,2.5142974908547583E-2,2.7100829512082023E-2,3.1995466020918129E-2,4.9719202431861509E-2,6.5072904322736866E-2,5.4510793961564226E-2,4.5648925756092536E-2,4.0702766757689739E-2,4.1217991653356691E-2,3.8487299706321809E-2,3.7920552321088152E-2,3.6941625019320933E-2,3.7817507341954763E-2,3.9672316966355814E-2,4.5236745839558966E-2,5.2140759441496216E-2,5.7859755783399455E-2,5.9250863001700238E-2,5.564428873203154E-2,4.4927610902158799E-2,2.7719099386882377E-2]
[10,"October",3.7791199309749793E-2,2.5280414150129424E-2,2.4978429680759275E-2,2.5064710957722176E-2,2.7135461604831757E-2,3.3132010353753245E-2,4.8576358930112168E-2,5.97497842968076E-2,4.7799827437446089E-2,4.0897325280414155E-2,3.7704918032786895E-2,3.72735116479724E-2,3.7316652286453846E-2,3.5893011216566011E-2,3.5849870578084558E-2,3.714408973252805E-2,4.3270060396893878E-2,5.3882657463330472E-2,5.9792924935289052E-2,6.0440034512510801E-2,5.9102674719585864E-2,5.6988783433994827E-2,4.7195858498705792E-2,2.7739430543572051E-2]
[11,"November",3.8663927737287898E-2,3.4077159017362191E-2,3.3373666882404257E-2,3.2529476320454741E-2,3.5568562343473005E-2,3.4696232096125171E-2,4.2519064636857361E-2,4.8934912907673704E-2,4.8850493851478743E-2,4.2716042434645586E-2,3.9761375467822276E-2,4.0239750119593666E-2,3.5540422658074687E-2,3.6131356051439349E-2,3.4893209893913389E-2,3.6243914793032614E-2,4.2265807468272507E-2,4.916003039086024E-2,5.6532627965219351E-2,5.557587866167657E-2,5.3015167290429696E-2,4.969468441342826E-2,4.4601401356332837E-2,3.4414835242141999E-2]
[12,"December",3.9460401945489582E-2,3.3220152335505182E-2,3.1705974121317787E-2,3.2898963017344227E-2,3.1820684592089567E-2,3.4091951913370652E-2,4.019454895842893E-2,4.6343030191795906E-2,4.0446911994126825E-2,3.9047444250711202E-2,3.7487381848215102E-2,4.067633293567037E-2,3.9024502156556846E-2,3.8473891896852346E-2,3.9001560062402497E-2,4.0469854088281181E-2,4.7260713957970088E-2,5.2514453519317245E-2,6.042947600256951E-2,5.5818115077544271E-2,5.0426722951270993E-2,4.944021290263375E-2,4.3911168211434343E-2,3.5835551069101586E-2]
[]
[{"$f":"'Inputs and Totals'!$B$4","v":1},"Selected Month"]
[null,{"$f":"IF($A$15=1,B2, IF($A$15=2,B3,IF($A$15=3,B4,IF($A$15=4,B5,IF($A$15=5,B6,IF($A$15=6,B7,IF($A$15=7,B8,IF($A$15=8,B9,IF($A$15=9,B10,IF($A$15=10,B11,IF($A$15=11,B12,IF($A$15=12,B13))))))))))))","v":"January"},{"$f":"IF($A$15=1,C2, IF($A$15=2,C3,IF($A$15=3,C4,IF($A$15=4,C5,IF($A$15=5,C6,IF($A$15=6,C7,IF($A$15=7,C8,IF($A$15=8,C9,IF($A$15=9,C10,IF($A$15=10,C11,IF($A$15=11,C12,IF($A$15=12,C13))))))))))))","v":3.8707334785766163E-2},2.7015250544662313E-2,2.6688453159041399E-2,2.6906318082788677E-2,2.759622367465505E-2,3.1844589687726944E-2,4.3209876543209881E-2,5.3413217138707343E-2,4.6949891067538128E-2,4.4916485112563555E-2,4.1902687000726219E-2,4.1358024691358033E-2,3.914306463326072E-2,3.6928104575163399E-2,3.5548293391430653E-2,3.7981118373275245E-2,4.4517066085693544E-2,5.5519244734931014E-2,5.8169934640522884E-2,5.7480029048656504E-2,5.6572258533042853E-2,5.3122730573710981E-2,4.5642701525054473E-2,2.8867102396514164E-2]